BEGIN:VCALENDAR
VERSION:2.0
PRODID:-//Estate of Health - ECPv6.15.18//NONSGML v1.0//EN
CALSCALE:GREGORIAN
METHOD:PUBLISH
X-ORIGINAL-URL:https://estateofhealth.ca
X-WR-CALDESC:Events for Estate of Health
REFRESH-INTERVAL;VALUE=DURATION:PT1H
X-Robots-Tag:noindex
X-PUBLISHED-TTL:PT1H
BEGIN:VTIMEZONE
TZID:America/Halifax
BEGIN:DAYLIGHT
TZOFFSETFROM:-0400
TZOFFSETTO:-0300
TZNAME:ADT
DTSTART:20250309T060000
END:DAYLIGHT
BEGIN:STANDARD
TZOFFSETFROM:-0300
TZOFFSETTO:-0400
TZNAME:AST
DTSTART:20251102T050000
END:STANDARD
BEGIN:DAYLIGHT
TZOFFSETFROM:-0400
TZOFFSETTO:-0300
TZNAME:ADT
DTSTART:20260308T060000
END:DAYLIGHT
BEGIN:STANDARD
TZOFFSETFROM:-0300
TZOFFSETTO:-0400
TZNAME:AST
DTSTART:20261101T050000
END:STANDARD
BEGIN:DAYLIGHT
TZOFFSETFROM:-0400
TZOFFSETTO:-0300
TZNAME:ADT
DTSTART:20270314T060000
END:DAYLIGHT
BEGIN:STANDARD
TZOFFSETFROM:-0300
TZOFFSETTO:-0400
TZNAME:AST
DTSTART:20271107T050000
END:STANDARD
END:VTIMEZONE
BEGIN:VEVENT
DTSTART;TZID=America/Halifax:20260220T100000
DTEND;TZID=America/Halifax:20260220T110000
DTSTAMP:20260423T190228
CREATED:20260113T173935Z
LAST-MODIFIED:20260113T174549Z
UID:10009779-1771581600-1771585200@estateofhealth.ca
SUMMARY:Mindful Flow (Sub)
DESCRIPTION:This practice explores mindful movement in connection to the breath\, body\, emotions and energy. One of our talented yoga teachers will guide the group through Hatha yoga poses in a flow-style that is accessible to all levels. We begin by centering ourselves with the breath and mindfulness\, then warm up the body and build heat\, reaching the peak of our practice\, followed by calming poses and savasana. This practice encourages you to take your focus within to discover more about your whole self.
URL:https://estateofhealth.ca/event/mindful-flow-sub/
LOCATION:Ontario
ATTACH;FMTTYPE=image/jpeg:https://estateofhealth.ca/wp-content/uploads/2024/12/The-Studio-6.jpg
END:VEVENT
BEGIN:VEVENT
DTSTART;TZID=America/Halifax:20260220T180000
DTEND;TZID=America/Halifax:20260220T210000
DTSTAMP:20260423T190228
CREATED:20251210T194546Z
LAST-MODIFIED:20260121T133238Z
UID:10009676-1771610400-1771621200@estateofhealth.ca
SUMMARY:Spa Nights
DESCRIPTION:Join us under the stars at the spa! On Spa Nights\, we melt away the stress of the day and refresh for a good night’s rest. You will have access to the pool\, hot tub\, sauna\, cold plunge\, relaxation lounges\, fire pit\, salt scrub\, showers and locker room. Bring your bathing suit & we’ll provide the robe\, towel\, water and tea.  Beverages and light snacks can be purchased.  Please be respectful of our alcohol-free environment. The atmosphere is calm\, quiet and serene and the intention is to consciously unwind\, enjoying the night.
URL:https://estateofhealth.ca/event/spa-nights/2026-02-20/
LOCATION:Ontario
END:VEVENT
END:VCALENDAR