BEGIN:VCALENDAR
VERSION:2.0
PRODID:-//Estate of Health - ECPv6.15.18//NONSGML v1.0//EN
CALSCALE:GREGORIAN
METHOD:PUBLISH
X-WR-CALNAME:Estate of Health
X-ORIGINAL-URL:https://estateofhealth.ca
X-WR-CALDESC:Events for Estate of Health
REFRESH-INTERVAL;VALUE=DURATION:PT1H
X-Robots-Tag:noindex
X-PUBLISHED-TTL:PT1H
BEGIN:VTIMEZONE
TZID:America/Halifax
BEGIN:DAYLIGHT
TZOFFSETFROM:-0400
TZOFFSETTO:-0300
TZNAME:ADT
DTSTART:20250309T060000
END:DAYLIGHT
BEGIN:STANDARD
TZOFFSETFROM:-0300
TZOFFSETTO:-0400
TZNAME:AST
DTSTART:20251102T050000
END:STANDARD
BEGIN:DAYLIGHT
TZOFFSETFROM:-0400
TZOFFSETTO:-0300
TZNAME:ADT
DTSTART:20260308T060000
END:DAYLIGHT
BEGIN:STANDARD
TZOFFSETFROM:-0300
TZOFFSETTO:-0400
TZNAME:AST
DTSTART:20261101T050000
END:STANDARD
BEGIN:DAYLIGHT
TZOFFSETFROM:-0400
TZOFFSETTO:-0300
TZNAME:ADT
DTSTART:20270314T060000
END:DAYLIGHT
BEGIN:STANDARD
TZOFFSETFROM:-0300
TZOFFSETTO:-0400
TZNAME:AST
DTSTART:20271107T050000
END:STANDARD
END:VTIMEZONE
BEGIN:VEVENT
DTSTART;TZID=America/Halifax:20260228T090000
DTEND;TZID=America/Halifax:20260228T101500
DTSTAMP:20260423T201429
CREATED:20251210T140739Z
LAST-MODIFIED:20260420T144554Z
UID:10009095-1772269200-1772273700@estateofhealth.ca
SUMMARY:Kundalini Yoga & Meditation with Jordan
DESCRIPTION:Inspired by Kundalini Yoga\, Jordan guides various meditations coupled with physical postures\, breathing techniques\, mantras\, and chanting to awaken and elevate the dormant energy at the base of the spine\, known as Kundalini. This practice is often referred to as the “Yoga of Awareness” because it emphasizes inner growth\, spiritual enlightenment\, and self-discovery. Enjoy the accompaniment of the gong while you rest and restore in savasana.
URL:https://estateofhealth.ca/event/kundalini-yoga-meditation-2/2026-02-28/
LOCATION:Ontario
CATEGORIES:Yoga Class
ATTACH;FMTTYPE=image/jpeg:https://estateofhealth.ca/wp-content/uploads/2024/12/The-Studio-7.jpg
END:VEVENT
BEGIN:VEVENT
DTSTART;TZID=America/Halifax:20260228T103000
DTEND;TZID=America/Halifax:20260228T113000
DTSTAMP:20260423T201429
CREATED:20251210T140850Z
LAST-MODIFIED:20260420T144817Z
UID:10009285-1772274600-1772278200@estateofhealth.ca
SUMMARY:Slow Flow with Steph
DESCRIPTION:Designed for all levels\, this practice invites you to unwind\, connect with your breath\, and move mindfully through a series of gentle poses.\nLed by our experienced instructor\, each session begins with centering and grounding techniques to calm the mind and release tension from the body. You’ll gradually transition through a sequence of poses that are synchronized with deep\, intentional breathing. Emphasis is placed on alignment\, awareness\, and the seamless flow between movements.\nThroughout the class\, you will have opportunities to modify poses to suit your individual needs\, making it accessible for everyone\, regardless of experience or flexibility.
URL:https://estateofhealth.ca/event/slow-flow-with-steph/2026-02-28/
LOCATION:Estate of Health\, 101 Mill Street West\, Kingsville\, Ontario\, N9Y 1W4\, Canada
CATEGORIES:Yoga Class
ATTACH;FMTTYPE=image/jpeg:https://estateofhealth.ca/wp-content/uploads/2022/05/SlowF.jpg
END:VEVENT
BEGIN:VEVENT
DTSTART;TZID=America/Halifax:20260228T120000
DTEND;TZID=America/Halifax:20260228T130000
DTSTAMP:20260423T201429
CREATED:20251210T141002Z
LAST-MODIFIED:20260420T150130Z
UID:10009340-1772280000-1772283600@estateofhealth.ca
SUMMARY:Yogalates with Stephenie
DESCRIPTION:Discover the perfect blend of yoga and Pilates in this full-body workout. Build strength\, improve flexibility\, and find balance through core-focused exercises and mindful stretching. Open to all levels\, this class leaves you feeling refreshed and aligned. Reserve your spot today!
URL:https://estateofhealth.ca/event/yogalates-with-stephenie/2026-02-28/
LOCATION:Ontario
ATTACH;FMTTYPE=image/jpeg:https://estateofhealth.ca/wp-content/uploads/2024/12/yogalates.jpg
END:VEVENT
BEGIN:VEVENT
DTSTART;TZID=America/Halifax:20260228T180000
DTEND;TZID=America/Halifax:20260228T210000
DTSTAMP:20260423T201429
CREATED:20251210T194546Z
LAST-MODIFIED:20260121T133238Z
UID:10009491-1772301600-1772312400@estateofhealth.ca
SUMMARY:Spa Nights
DESCRIPTION:Join us under the stars at the spa! On Spa Nights\, we melt away the stress of the day and refresh for a good night’s rest. You will have access to the pool\, hot tub\, sauna\, cold plunge\, relaxation lounges\, fire pit\, salt scrub\, showers and locker room. Bring your bathing suit & we’ll provide the robe\, towel\, water and tea.  Beverages and light snacks can be purchased.  Please be respectful of our alcohol-free environment. The atmosphere is calm\, quiet and serene and the intention is to consciously unwind\, enjoying the night.
URL:https://estateofhealth.ca/event/spa-nights/2026-02-28/
LOCATION:Ontario
END:VEVENT
END:VCALENDAR