BEGIN:VCALENDAR
VERSION:2.0
PRODID:-//Estate of Health - ECPv6.15.18//NONSGML v1.0//EN
CALSCALE:GREGORIAN
METHOD:PUBLISH
X-WR-CALNAME:Estate of Health
X-ORIGINAL-URL:https://estateofhealth.ca
X-WR-CALDESC:Events for Estate of Health
REFRESH-INTERVAL;VALUE=DURATION:PT1H
X-Robots-Tag:noindex
X-PUBLISHED-TTL:PT1H
BEGIN:VTIMEZONE
TZID:America/Halifax
BEGIN:DAYLIGHT
TZOFFSETFROM:-0400
TZOFFSETTO:-0300
TZNAME:ADT
DTSTART:20250309T060000
END:DAYLIGHT
BEGIN:STANDARD
TZOFFSETFROM:-0300
TZOFFSETTO:-0400
TZNAME:AST
DTSTART:20251102T050000
END:STANDARD
BEGIN:DAYLIGHT
TZOFFSETFROM:-0400
TZOFFSETTO:-0300
TZNAME:ADT
DTSTART:20260308T060000
END:DAYLIGHT
BEGIN:STANDARD
TZOFFSETFROM:-0300
TZOFFSETTO:-0400
TZNAME:AST
DTSTART:20261101T050000
END:STANDARD
BEGIN:DAYLIGHT
TZOFFSETFROM:-0400
TZOFFSETTO:-0300
TZNAME:ADT
DTSTART:20270314T060000
END:DAYLIGHT
BEGIN:STANDARD
TZOFFSETFROM:-0300
TZOFFSETTO:-0400
TZNAME:AST
DTSTART:20271107T050000
END:STANDARD
END:VTIMEZONE
BEGIN:VEVENT
DTSTART;TZID=America/Halifax:20260328T090000
DTEND;TZID=America/Halifax:20260328T101500
DTSTAMP:20260423T175122
CREATED:20251210T140739Z
LAST-MODIFIED:20260420T144554Z
UID:10009099-1774688400-1774692900@estateofhealth.ca
SUMMARY:Kundalini Yoga & Meditation with Jordan
DESCRIPTION:Inspired by Kundalini Yoga\, Jordan guides various meditations coupled with physical postures\, breathing techniques\, mantras\, and chanting to awaken and elevate the dormant energy at the base of the spine\, known as Kundalini. This practice is often referred to as the “Yoga of Awareness” because it emphasizes inner growth\, spiritual enlightenment\, and self-discovery. Enjoy the accompaniment of the gong while you rest and restore in savasana.
URL:https://estateofhealth.ca/event/kundalini-yoga-meditation-2/2026-03-28/
LOCATION:Ontario
CATEGORIES:Yoga Class
ATTACH;FMTTYPE=image/jpeg:https://estateofhealth.ca/wp-content/uploads/2024/12/The-Studio-7.jpg
END:VEVENT
BEGIN:VEVENT
DTSTART;TZID=America/Halifax:20260328T103000
DTEND;TZID=America/Halifax:20260328T113000
DTSTAMP:20260423T175122
CREATED:20251210T140850Z
LAST-MODIFIED:20260420T144817Z
UID:10009289-1774693800-1774697400@estateofhealth.ca
SUMMARY:Slow Flow with Steph
DESCRIPTION:Designed for all levels\, this practice invites you to unwind\, connect with your breath\, and move mindfully through a series of gentle poses.\nLed by our experienced instructor\, each session begins with centering and grounding techniques to calm the mind and release tension from the body. You’ll gradually transition through a sequence of poses that are synchronized with deep\, intentional breathing. Emphasis is placed on alignment\, awareness\, and the seamless flow between movements.\nThroughout the class\, you will have opportunities to modify poses to suit your individual needs\, making it accessible for everyone\, regardless of experience or flexibility.
URL:https://estateofhealth.ca/event/slow-flow-with-steph/2026-03-28/
LOCATION:Estate of Health\, 101 Mill Street West\, Kingsville\, Ontario\, N9Y 1W4\, Canada
CATEGORIES:Yoga Class
ATTACH;FMTTYPE=image/jpeg:https://estateofhealth.ca/wp-content/uploads/2022/05/SlowF.jpg
END:VEVENT
BEGIN:VEVENT
DTSTART;TZID=America/Halifax:20260328T120000
DTEND;TZID=America/Halifax:20260328T130000
DTSTAMP:20260423T175122
CREATED:20251210T141002Z
LAST-MODIFIED:20260420T150130Z
UID:10009344-1774699200-1774702800@estateofhealth.ca
SUMMARY:Yogalates with Stephenie
DESCRIPTION:Discover the perfect blend of yoga and Pilates in this full-body workout. Build strength\, improve flexibility\, and find balance through core-focused exercises and mindful stretching. Open to all levels\, this class leaves you feeling refreshed and aligned. Reserve your spot today!
URL:https://estateofhealth.ca/event/yogalates-with-stephenie/2026-03-28/
LOCATION:Ontario
ATTACH;FMTTYPE=image/jpeg:https://estateofhealth.ca/wp-content/uploads/2024/12/yogalates.jpg
END:VEVENT
BEGIN:VEVENT
DTSTART;TZID=America/Halifax:20260328T143000
DTEND;TZID=America/Halifax:20260328T163000
DTSTAMP:20260423T175122
CREATED:20260228T220935Z
LAST-MODIFIED:20260228T235015Z
UID:10010112-1774708200-1774715400@estateofhealth.ca
SUMMARY:Intro to Breathwork: Conscious Connected Breathing
DESCRIPTION:Explore your connection to breath in a deeper\, more conscious way with breathwork practitioner and functional breathing coach\, Val Binder. This guided group session introduces participants to safe\, supported breathwork\, bodywork and energywork. These sessions are geared towards resetting the breath\, recognising stored tension in the body\, release and co – regulation. \nConscious Connected Breathing sessions are calm\, guided\, and responsive. Val pays close attention to breath\, body cues\, and nervous system responses so that you feel supported throughout the process. We work at a pace that allows your system to soften\, release\, and settle naturally. Sessions are paced in a way that helps participants feel safe in their body\, even when emotions or tension arise. Many share that they feel deeply guided without being pushed\, and that the space feels calm\, steady\, and respectful of their nervous system. It’s common for people to leave feeling more settled\, connected\, and able to breathe with ease. \nGroup breathwork may be supportive if you: \n\nFeel stressed\, tense\, or overstimulated\nStruggle to fully relax on your own\nWant nervous system support without one-on-one intensity\nAre curious about breathwork but want a gentle entry point\nWant to feel regulated and grounded in community\n\nThese sessions are designed to meet a wide range of nervous systems\, not push people past their limits. Nothing is forced. You’re encouraged to listen to your body throughout. \nSpace is limited. Please reserve your spot.
URL:https://estateofhealth.ca/event/intro-to-breathwork-conscious-connected-breathing/
LOCATION:Estate of Health\, 101 Mill Street West\, Kingsville\, Ontario\, N9Y 1W4\, Canada
CATEGORIES:Breathwork,Special Class,Workshops
ATTACH;FMTTYPE=image/png:https://estateofhealth.ca/wp-content/uploads/2026/02/Intro-to-Breathwork-Conscious.png
END:VEVENT
BEGIN:VEVENT
DTSTART;TZID=America/Halifax:20260328T180000
DTEND;TZID=America/Halifax:20260328T200000
DTSTAMP:20260423T175122
CREATED:20251111T164518Z
LAST-MODIFIED:20260314T201911Z
UID:10007970-1774720800-1774728000@estateofhealth.ca
SUMMARY:Energy Restoration with Janice & Patty
DESCRIPTION:Enjoy a deeply nourishing journey of healing and relaxation guided by two experienced holistic practitioners\, blending their gifts & knowledge of reiki and yoga therapy. Move into a relaxing presence in the whole body through yoga and allow the healing energy of the reiki to support the physical\, emotional\, mental\, and spiritual levels of your being.  \nSeating must be reserved ahead of time. Cost is $40.00 per person.
URL:https://estateofhealth.ca/event/energy-restoration-with-janice-patty-2/
LOCATION:Estate of Health\, 101 Mill Street West\, Kingsville\, Ontario\, N9Y 1W4\, Canada
CATEGORIES:Special Class,Yoga Class
ATTACH;FMTTYPE=image/png:https://estateofhealth.ca/wp-content/uploads/2025/01/Energy-Restoration.png
END:VEVENT
BEGIN:VEVENT
DTSTART;TZID=America/Halifax:20260328T180000
DTEND;TZID=America/Halifax:20260328T210000
DTSTAMP:20260423T175122
CREATED:20251210T194546Z
LAST-MODIFIED:20260121T133238Z
UID:10009503-1774720800-1774731600@estateofhealth.ca
SUMMARY:Spa Nights
DESCRIPTION:Join us under the stars at the spa! On Spa Nights\, we melt away the stress of the day and refresh for a good night’s rest. You will have access to the pool\, hot tub\, sauna\, cold plunge\, relaxation lounges\, fire pit\, salt scrub\, showers and locker room. Bring your bathing suit & we’ll provide the robe\, towel\, water and tea.  Beverages and light snacks can be purchased.  Please be respectful of our alcohol-free environment. The atmosphere is calm\, quiet and serene and the intention is to consciously unwind\, enjoying the night.
URL:https://estateofhealth.ca/event/spa-nights/2026-03-28/
LOCATION:Ontario
END:VEVENT
END:VCALENDAR