BEGIN:VCALENDAR
VERSION:2.0
PRODID:-//Estate of Health - ECPv6.15.18//NONSGML v1.0//EN
CALSCALE:GREGORIAN
METHOD:PUBLISH
X-WR-CALNAME:Estate of Health
X-ORIGINAL-URL:https://estateofhealth.ca
X-WR-CALDESC:Events for Estate of Health
REFRESH-INTERVAL;VALUE=DURATION:PT1H
X-Robots-Tag:noindex
X-PUBLISHED-TTL:PT1H
BEGIN:VTIMEZONE
TZID:America/Halifax
BEGIN:DAYLIGHT
TZOFFSETFROM:-0400
TZOFFSETTO:-0300
TZNAME:ADT
DTSTART:20250309T060000
END:DAYLIGHT
BEGIN:STANDARD
TZOFFSETFROM:-0300
TZOFFSETTO:-0400
TZNAME:AST
DTSTART:20251102T050000
END:STANDARD
BEGIN:DAYLIGHT
TZOFFSETFROM:-0400
TZOFFSETTO:-0300
TZNAME:ADT
DTSTART:20260308T060000
END:DAYLIGHT
BEGIN:STANDARD
TZOFFSETFROM:-0300
TZOFFSETTO:-0400
TZNAME:AST
DTSTART:20261101T050000
END:STANDARD
BEGIN:DAYLIGHT
TZOFFSETFROM:-0400
TZOFFSETTO:-0300
TZNAME:ADT
DTSTART:20270314T060000
END:DAYLIGHT
BEGIN:STANDARD
TZOFFSETFROM:-0300
TZOFFSETTO:-0400
TZNAME:AST
DTSTART:20271107T050000
END:STANDARD
END:VTIMEZONE
BEGIN:VEVENT
DTSTART;TZID=America/Halifax:20260417T100000
DTEND;TZID=America/Halifax:20260417T110000
DTSTAMP:20260423T141638
CREATED:20251210T140616Z
LAST-MODIFIED:20260305T162152Z
UID:10010034-1776420000-1776423600@estateofhealth.ca
SUMMARY:Mindful Flow with Jordan
DESCRIPTION:This practice explores mindful movement in connection to the breath\, body\, emotions and energy. Jordan guides the group through Hatha yoga poses in a flow-style that is accessible to all levels. We begin by centering ourselves with the breath and mindfulness\, then warm up the body and build heat\, reaching the peak of our practice\, followed by calming poses and savasana. This practice encourages you to take your focus within to discover more about your whole self.
URL:https://estateofhealth.ca/event/mindful-flow-with-jordan-2/2026-04-17/
LOCATION:Ontario
ATTACH;FMTTYPE=image/jpeg:https://estateofhealth.ca/wp-content/uploads/2024/12/The-Studio-6.jpg
END:VEVENT
BEGIN:VEVENT
DTSTART;TZID=America/Halifax:20260417T180000
DTEND;TZID=America/Halifax:20260417T190000
DTSTAMP:20260423T141638
CREATED:20251029T125603Z
LAST-MODIFIED:20260327T210111Z
UID:10009705-1776448800-1776452400@estateofhealth.ca
SUMMARY:Shamanic Journey Circle
DESCRIPTION:Shamanic Practitioner\, Jordan opens the ceremony and guides the group on a series of journeys for the purpose of gaining insight\, finding healing and developing a stronger connection to our spirits\, and the helping spirits in our lives. The rhythm of the drum leads the practitioner into an altered state of consciousness so that they may explore the spirit realm\, known as “Otherworld” or “Non-Ordinary Reality.” \nThis circle is open to anyone who wishes to explore this practice with guidance\, and no experience is necessary. This is a free\, on-going event however\, donations are welcome. \nPlease have an eye covering\, journal & pen\, and wear comfortable clothing. \nOur ceremony will begin promptly at 6:00 PM. \nWe look forward to journeying with you! \nRegistration is required – limited space available. 
URL:https://estateofhealth.ca/event/shamanic-journey-circle-6/2026-04-17/
LOCATION:Estate of Health\, 101 Mill Street West\, Kingsville\, Ontario\, N9Y 1W4\, Canada
CATEGORIES:Feature Event on Home Page,Shamanic Journey Circle
ATTACH;FMTTYPE=image/png:https://estateofhealth.ca/wp-content/uploads/2025/10/Shamanic-Journey-Circle.png
END:VEVENT
END:VCALENDAR