BEGIN:VCALENDAR
VERSION:2.0
PRODID:-//Estate of Health - ECPv6.15.18//NONSGML v1.0//EN
CALSCALE:GREGORIAN
METHOD:PUBLISH
X-ORIGINAL-URL:https://estateofhealth.ca
X-WR-CALDESC:Events for Estate of Health
REFRESH-INTERVAL;VALUE=DURATION:PT1H
X-Robots-Tag:noindex
X-PUBLISHED-TTL:PT1H
BEGIN:VTIMEZONE
TZID:America/Halifax
BEGIN:DAYLIGHT
TZOFFSETFROM:-0400
TZOFFSETTO:-0300
TZNAME:ADT
DTSTART:20250309T060000
END:DAYLIGHT
BEGIN:STANDARD
TZOFFSETFROM:-0300
TZOFFSETTO:-0400
TZNAME:AST
DTSTART:20251102T050000
END:STANDARD
BEGIN:DAYLIGHT
TZOFFSETFROM:-0400
TZOFFSETTO:-0300
TZNAME:ADT
DTSTART:20260308T060000
END:DAYLIGHT
BEGIN:STANDARD
TZOFFSETFROM:-0300
TZOFFSETTO:-0400
TZNAME:AST
DTSTART:20261101T050000
END:STANDARD
BEGIN:DAYLIGHT
TZOFFSETFROM:-0400
TZOFFSETTO:-0300
TZNAME:ADT
DTSTART:20270314T060000
END:DAYLIGHT
BEGIN:STANDARD
TZOFFSETFROM:-0300
TZOFFSETTO:-0400
TZNAME:AST
DTSTART:20271107T050000
END:STANDARD
END:VTIMEZONE
BEGIN:VEVENT
DTSTART;TZID=America/Halifax:20260501T100000
DTEND;TZID=America/Halifax:20260501T110000
DTSTAMP:20260423T161335
CREATED:20251210T140616Z
LAST-MODIFIED:20260305T162152Z
UID:10010036-1777629600-1777633200@estateofhealth.ca
SUMMARY:Mindful Flow with Jordan
DESCRIPTION:This practice explores mindful movement in connection to the breath\, body\, emotions and energy. Jordan guides the group through Hatha yoga poses in a flow-style that is accessible to all levels. We begin by centering ourselves with the breath and mindfulness\, then warm up the body and build heat\, reaching the peak of our practice\, followed by calming poses and savasana. This practice encourages you to take your focus within to discover more about your whole self.
URL:https://estateofhealth.ca/event/mindful-flow-with-jordan-2/2026-05-01/
LOCATION:Ontario
ATTACH;FMTTYPE=image/jpeg:https://estateofhealth.ca/wp-content/uploads/2024/12/The-Studio-6.jpg
END:VEVENT
BEGIN:VEVENT
DTSTART;TZID=America/Halifax:20260501T180000
DTEND;TZID=America/Halifax:20260501T193000
DTSTAMP:20260423T161335
CREATED:20251029T125300Z
LAST-MODIFIED:20260205T155620Z
UID:10010066-1777658400-1777663800@estateofhealth.ca
SUMMARY:Sound Bath
DESCRIPTION:Join us for an intuitive sound experience.  Crystal singing bowls\, rattles\, drums\, gongs\, bells and more tools are used in this energizing and rejuvenating treatment. Sound bathing immerses you in resonance that may help to increase self-awareness\, process emotions\, shed the stagnant energy\, clear & energize the bio-energetic field. Everyone experiences something different\, and everyone gets what they need!\nPlease wear comfortable clothing\, and arrive 10 minutes early to use the facilities and settle in.\nReserve your spot early\, as Sound Baths tend to fill up quickly!
URL:https://estateofhealth.ca/event/sound-bath-3/2026-05-01/
LOCATION:Estate of Health\, 101 Mill Street West\, Kingsville\, Ontario\, N9Y 1W4\, Canada
CATEGORIES:Feature Event on Home Page,Sound Bathing
ATTACH;FMTTYPE=image/jpeg:https://estateofhealth.ca/wp-content/uploads/2024/06/The-Studio-22.jpg
END:VEVENT
END:VCALENDAR