BEGIN:VCALENDAR
VERSION:2.0
PRODID:-//Estate of Health - ECPv6.15.18//NONSGML v1.0//EN
CALSCALE:GREGORIAN
METHOD:PUBLISH
X-WR-CALNAME:Estate of Health
X-ORIGINAL-URL:https://estateofhealth.ca
X-WR-CALDESC:Events for Estate of Health
REFRESH-INTERVAL;VALUE=DURATION:PT1H
X-Robots-Tag:noindex
X-PUBLISHED-TTL:PT1H
BEGIN:VTIMEZONE
TZID:America/Halifax
BEGIN:DAYLIGHT
TZOFFSETFROM:-0400
TZOFFSETTO:-0300
TZNAME:ADT
DTSTART:20250309T060000
END:DAYLIGHT
BEGIN:STANDARD
TZOFFSETFROM:-0300
TZOFFSETTO:-0400
TZNAME:AST
DTSTART:20251102T050000
END:STANDARD
BEGIN:DAYLIGHT
TZOFFSETFROM:-0400
TZOFFSETTO:-0300
TZNAME:ADT
DTSTART:20260308T060000
END:DAYLIGHT
BEGIN:STANDARD
TZOFFSETFROM:-0300
TZOFFSETTO:-0400
TZNAME:AST
DTSTART:20261101T050000
END:STANDARD
BEGIN:DAYLIGHT
TZOFFSETFROM:-0400
TZOFFSETTO:-0300
TZNAME:ADT
DTSTART:20270314T060000
END:DAYLIGHT
BEGIN:STANDARD
TZOFFSETFROM:-0300
TZOFFSETTO:-0400
TZNAME:AST
DTSTART:20271107T050000
END:STANDARD
END:VTIMEZONE
BEGIN:VEVENT
DTSTART;TZID=America/Halifax:20260516T103000
DTEND;TZID=America/Halifax:20260516T113000
DTSTAMP:20260423T161149
CREATED:20251210T140850Z
LAST-MODIFIED:20260420T144817Z
UID:10010056-1778927400-1778931000@estateofhealth.ca
SUMMARY:Slow Flow with Steph
DESCRIPTION:Designed for all levels\, this practice invites you to unwind\, connect with your breath\, and move mindfully through a series of gentle poses.\nLed by our experienced instructor\, each session begins with centering and grounding techniques to calm the mind and release tension from the body. You’ll gradually transition through a sequence of poses that are synchronized with deep\, intentional breathing. Emphasis is placed on alignment\, awareness\, and the seamless flow between movements.\nThroughout the class\, you will have opportunities to modify poses to suit your individual needs\, making it accessible for everyone\, regardless of experience or flexibility.
URL:https://estateofhealth.ca/event/slow-flow-with-steph/2026-05-16/
LOCATION:Estate of Health\, 101 Mill Street West\, Kingsville\, Ontario\, N9Y 1W4\, Canada
CATEGORIES:Yoga Class
ATTACH;FMTTYPE=image/jpeg:https://estateofhealth.ca/wp-content/uploads/2022/05/SlowF.jpg
END:VEVENT
BEGIN:VEVENT
DTSTART;TZID=America/Halifax:20260516T120000
DTEND;TZID=America/Halifax:20260516T130000
DTSTAMP:20260423T161149
CREATED:20251210T141002Z
LAST-MODIFIED:20260420T150130Z
UID:10010063-1778932800-1778936400@estateofhealth.ca
SUMMARY:Yogalates with Stephenie
DESCRIPTION:Discover the perfect blend of yoga and Pilates in this full-body workout. Build strength\, improve flexibility\, and find balance through core-focused exercises and mindful stretching. Open to all levels\, this class leaves you feeling refreshed and aligned. Reserve your spot today!
URL:https://estateofhealth.ca/event/yogalates-with-stephenie/2026-05-16/
LOCATION:Ontario
ATTACH;FMTTYPE=image/jpeg:https://estateofhealth.ca/wp-content/uploads/2024/12/yogalates.jpg
END:VEVENT
BEGIN:VEVENT
DTSTART;TZID=America/Halifax:20260516T140000
DTEND;TZID=America/Halifax:20260516T153000
DTSTAMP:20260423T161149
CREATED:20260405T165056Z
LAST-MODIFIED:20260405T172101Z
UID:10010174-1778940000-1778945400@estateofhealth.ca
SUMMARY:The Inner Wild
DESCRIPTION:The Inner Wild is a nourishing embodied movement experience that invites you to reconnect with yourself through gentle guided exploration\, breath and sensation. It is a way of sensing\, listening and moving through the world where body\, heart\, mind and spirit speak at once. \nThrough Ayla’s creative direction\, you are supported to move in ways that feel natural and intuitive\, allowing self-expression to arise through the body. You are invited to listen inwardly\, follow your own pace and notice what your body needs in each moment\, held within a calm and supportive environment. \nA spacious field of time is held throughout\, guiding you to soften\, unwind and arrive more fully into presence\, with optional sharing in circle and gentle reflection woven into the experience. This practice draws from both Indigenous and non-Indigenous knowledge systems\, including symbolic orientation\, elemental and directional frameworks\, imagery and circle-based practices that support embodied gathering. \nAn invitation into breath\, sensation and shared presence\, this is an open\, accessible practice for all levels with no dance experience necessary. It offers a gentle\, meaningful space to return to the body and come home to The Inner Wild. \nCatch the Whole Series \nThis is the first workshop in a series of four offered by Ayla. Each season we explore deeper into the Inner Wild. \n\nSpring – May 16th 2026\nSummer – August 29th 2026\nAutumn – November 7th 2026\nWinter – February 6th 2027\n\nRegistration is necessary for enrollment in this event. The cost is reduced to $25 for each subsequent workshop.
URL:https://estateofhealth.ca/event/the-inner-wild/2026-05-16/
LOCATION:Estate of Health\, 101 Mill Street West\, Kingsville\, Ontario\, N9Y 1W4\, Canada
CATEGORIES:Workshops
ATTACH;FMTTYPE=image/png:https://estateofhealth.ca/wp-content/uploads/2026/04/The-Inner-Wild-IG-1.png
END:VEVENT
END:VCALENDAR