BEGIN:VCALENDAR
VERSION:2.0
PRODID:-//Estate of Health - ECPv6.15.18//NONSGML v1.0//EN
CALSCALE:GREGORIAN
METHOD:PUBLISH
X-WR-CALNAME:Estate of Health
X-ORIGINAL-URL:https://estateofhealth.ca
X-WR-CALDESC:Events for Estate of Health
REFRESH-INTERVAL;VALUE=DURATION:PT1H
X-Robots-Tag:noindex
X-PUBLISHED-TTL:PT1H
BEGIN:VTIMEZONE
TZID:America/Halifax
BEGIN:DAYLIGHT
TZOFFSETFROM:-0400
TZOFFSETTO:-0300
TZNAME:ADT
DTSTART:20250309T060000
END:DAYLIGHT
BEGIN:STANDARD
TZOFFSETFROM:-0300
TZOFFSETTO:-0400
TZNAME:AST
DTSTART:20251102T050000
END:STANDARD
BEGIN:DAYLIGHT
TZOFFSETFROM:-0400
TZOFFSETTO:-0300
TZNAME:ADT
DTSTART:20260308T060000
END:DAYLIGHT
BEGIN:STANDARD
TZOFFSETFROM:-0300
TZOFFSETTO:-0400
TZNAME:AST
DTSTART:20261101T050000
END:STANDARD
BEGIN:DAYLIGHT
TZOFFSETFROM:-0400
TZOFFSETTO:-0300
TZNAME:ADT
DTSTART:20270314T060000
END:DAYLIGHT
BEGIN:STANDARD
TZOFFSETFROM:-0300
TZOFFSETTO:-0400
TZNAME:AST
DTSTART:20271107T050000
END:STANDARD
END:VTIMEZONE
BEGIN:VEVENT
DTSTART;VALUE=DATE:20260628
DTEND;VALUE=DATE:20260701
DTSTAMP:20260423T201510
CREATED:20240627T214228Z
LAST-MODIFIED:20260310T145142Z
UID:10010127-1782633600-1782838800@estateofhealth.ca
SUMMARY:Closed for Canada Day Long Weekend!
DESCRIPTION:We are taking June 30th off in lieu of Canada day on July 1st to enjoy a nice long weekend. \nWe will be open for regular business hours on Wednesday July 1st! So come enjoy some sunshine and lay by our salt water pool!
URL:https://estateofhealth.ca/event/closedforcanadaday/2026-06-28/
LOCATION:Estate of Health\, 101 Mill Street West\, Kingsville\, Ontario\, N9Y 1W4\, Canada
END:VEVENT
BEGIN:VEVENT
DTSTART;TZID=America/Halifax:20260630T173000
DTEND;TZID=America/Halifax:20260630T181500
DTSTAMP:20260423T201510
CREATED:20260416T221810Z
LAST-MODIFIED:20260416T222953Z
UID:10010203-1782840600-1782843300@estateofhealth.ca
SUMMARY:Aqua Aerobics (Tues)
DESCRIPTION:Join Marilyn for some fun\, low-impact exercise in the salt water pool! Aqua aerobics is a great way to get in shape\, using the resistance of water to both support you in balance and challenge you in strength! This is a 45-minute  all-levels class. Pre-registration required. Please call/email to book your spot!
URL:https://estateofhealth.ca/event/aqua-aerobics-tues/2026-06-30/
LOCATION:Estate of Health\, 101 Mill Street West\, Kingsville\, Ontario\, N9Y 1W4\, Canada
ATTACH;FMTTYPE=image/png:https://estateofhealth.ca/wp-content/uploads/2026/04/Aqua-Aerobics-2025.png
END:VEVENT
END:VCALENDAR