BEGIN:VCALENDAR
VERSION:2.0
PRODID:-//Estate of Health - ECPv6.15.18//NONSGML v1.0//EN
CALSCALE:GREGORIAN
METHOD:PUBLISH
X-WR-CALNAME:Estate of Health
X-ORIGINAL-URL:https://estateofhealth.ca
X-WR-CALDESC:Events for Estate of Health
REFRESH-INTERVAL;VALUE=DURATION:PT1H
X-Robots-Tag:noindex
X-PUBLISHED-TTL:PT1H
BEGIN:VTIMEZONE
TZID:America/Halifax
BEGIN:DAYLIGHT
TZOFFSETFROM:-0400
TZOFFSETTO:-0300
TZNAME:ADT
DTSTART:20250309T060000
END:DAYLIGHT
BEGIN:STANDARD
TZOFFSETFROM:-0300
TZOFFSETTO:-0400
TZNAME:AST
DTSTART:20251102T050000
END:STANDARD
BEGIN:DAYLIGHT
TZOFFSETFROM:-0400
TZOFFSETTO:-0300
TZNAME:ADT
DTSTART:20260308T060000
END:DAYLIGHT
BEGIN:STANDARD
TZOFFSETFROM:-0300
TZOFFSETTO:-0400
TZNAME:AST
DTSTART:20261101T050000
END:STANDARD
BEGIN:DAYLIGHT
TZOFFSETFROM:-0400
TZOFFSETTO:-0300
TZNAME:ADT
DTSTART:20270314T060000
END:DAYLIGHT
BEGIN:STANDARD
TZOFFSETFROM:-0300
TZOFFSETTO:-0400
TZNAME:AST
DTSTART:20271107T050000
END:STANDARD
END:VTIMEZONE
BEGIN:VEVENT
DTSTART;TZID=America/Halifax:20260802T080000
DTEND;TZID=America/Halifax:20260804T170000
DTSTAMP:20260423T201438
CREATED:20230714T155405Z
LAST-MODIFIED:20251210T144531Z
UID:10001873-1785657600-1785862800@estateofhealth.ca
SUMMARY:Closed for Civic Holiday Weekend
DESCRIPTION:Estate of Health will be closed Sunday August 2nd-4th in honour of the Civic Holiday long weekend. We will re-open for regular business hours Wednesday Aug 5th from 9:30am-9pm. For all bookings or cancellations please visit your Jane Account. Our 48 hour cancellation policy will still apply. \nHave a wonderful weekend! \nEstate of Health
URL:https://estateofhealth.ca/event/closed-for-civic-holiday-weekend/
LOCATION:Ontario
CATEGORIES:Feature Event on Home Page
ATTACH;FMTTYPE=image/png:https://estateofhealth.ca/wp-content/uploads/2023/03/Untitled-design-82.png
END:VEVENT
END:VCALENDAR