BEGIN:VCALENDAR
VERSION:2.0
PRODID:-//Estate of Health - ECPv6.15.18//NONSGML v1.0//EN
CALSCALE:GREGORIAN
METHOD:PUBLISH
X-WR-CALNAME:Estate of Health
X-ORIGINAL-URL:https://estateofhealth.ca
X-WR-CALDESC:Events for Estate of Health
REFRESH-INTERVAL;VALUE=DURATION:PT1H
X-Robots-Tag:noindex
X-PUBLISHED-TTL:PT1H
BEGIN:VTIMEZONE
TZID:America/Halifax
BEGIN:DAYLIGHT
TZOFFSETFROM:-0400
TZOFFSETTO:-0300
TZNAME:ADT
DTSTART:20250309T060000
END:DAYLIGHT
BEGIN:STANDARD
TZOFFSETFROM:-0300
TZOFFSETTO:-0400
TZNAME:AST
DTSTART:20251102T050000
END:STANDARD
BEGIN:DAYLIGHT
TZOFFSETFROM:-0400
TZOFFSETTO:-0300
TZNAME:ADT
DTSTART:20260308T060000
END:DAYLIGHT
BEGIN:STANDARD
TZOFFSETFROM:-0300
TZOFFSETTO:-0400
TZNAME:AST
DTSTART:20261101T050000
END:STANDARD
BEGIN:DAYLIGHT
TZOFFSETFROM:-0400
TZOFFSETTO:-0300
TZNAME:ADT
DTSTART:20270314T060000
END:DAYLIGHT
BEGIN:STANDARD
TZOFFSETFROM:-0300
TZOFFSETTO:-0400
TZNAME:AST
DTSTART:20271107T050000
END:STANDARD
END:VTIMEZONE
BEGIN:VEVENT
DTSTART;TZID=America/Halifax:20260322T190000
DTEND;TZID=America/Halifax:20260322T210000
DTSTAMP:20260423T224826
CREATED:20260120T181806Z
LAST-MODIFIED:20260120T181807Z
UID:10009834-1774206000-1774213200@estateofhealth.ca
SUMMARY:Reiki Share
DESCRIPTION:Come join us at Estate of Health for an energy exchange.\nThere is no cost for this event\, it is open to students and members of the\ncommunity who have been certified with Reiki level 1 and up to come\ntogether to work with healing energy as a group. Whether you need\nhealing\, practice\, feedback\, want to give and receive energy\, you are\nwelcome to join us. \nPlease call 519-712-8838 Estate of Health to let us know in advance that you\nplan to attend\, so we have a general idea of how many are attending.\n101 Mill St. W. Kingsville
URL:https://estateofhealth.ca/event/reiki-share-4-2/2026-03-22/
LOCATION:Estate of Health\, 101 Mill Street West\, Kingsville\, Ontario\, N9Y 1W4\, Canada
CATEGORIES:Community Events
ATTACH;FMTTYPE=image/png:https://estateofhealth.ca/wp-content/uploads/2025/10/Reiki-Share-Instagram-Post-45.png
END:VEVENT
BEGIN:VEVENT
DTSTART;TZID=America/Halifax:20260327T180000
DTEND;TZID=America/Halifax:20260327T191500
DTSTAMP:20260423T224826
CREATED:20260130T224333Z
LAST-MODIFIED:20260305T212657Z
UID:10009976-1774634400-1774638900@estateofhealth.ca
SUMMARY:Karma Yoga
DESCRIPTION:Karma Yoga is an offering of service for a cause that is close to our hearts. Find these DONATION based classes on the last Friday of every month at 6 PM. This special class features a rotation of our wonderful teaching staff here at Estate of Health. Each class has its unique style and lengths are variable.  \nAs class details change each month\, please contact us to book your spot: 519-712-8838   |   info@estateofhealth.ca. \nKarma Yoga Line Up \nFebruary 27th 6:00 PM – 7:00 PM – Fireside Hatha with Jordan raises funds for The Nature Conservancy of Canada \nMarch 27th 6:00 PM – 7:15 PM – All Levels Gentle Yoga with Katera raises funds for Wings Rehabilitation Centre \nApril 24th 6:00 PM – 7:30 PM – All Levels with Steph raises funds for Kittenaide \nMay 29th 6:00 PM – 7:15 PM – Restorative Mindful Movement with Sue raises funds for The Canadian Mental Health Association \n  \n 
URL:https://estateofhealth.ca/event/karma-yoga/2026-03-27/
LOCATION:Estate of Health\, 101 Mill Street West\, Kingsville\, Ontario\, N9Y 1W4\, Canada
CATEGORIES:Community Events,Feature Event on Home Page,Yoga Class
ATTACH;FMTTYPE=image/png:https://estateofhealth.ca/wp-content/uploads/2026/01/November-2025-Karma-Yoga.png
END:VEVENT
BEGIN:VEVENT
DTSTART;TZID=America/Halifax:20260411T140000
DTEND;TZID=America/Halifax:20260411T153000
DTSTAMP:20260423T224826
CREATED:20250808T165154Z
LAST-MODIFIED:20260214T161717Z
UID:10007937-1775916000-1775921400@estateofhealth.ca
SUMMARY:Music and Mantra
DESCRIPTION:Elevate your mind and spirit with song & mantra! Jordan will guide you through some gentle movement to warm up the body\, discuss breathing techniques to help you access more of your breath\, and teach about the energetics of mantra. We’ll listen to some great music and chant along with these sacred sounds to experience a fuller expression of self. This class is about connection to body\, breath and the power of your voice to elevate your experience. No previous yoga\, chanting or singing experience is required. Come as you are\, and leave elevated!
URL:https://estateofhealth.ca/event/music-and-mantra/
LOCATION:Estate of Health\, 101 Mill Street West\, Kingsville\, Ontario\, N9Y 1W4\, Canada
CATEGORIES:Community Events,Feature Event on Home Page,Meditation,Special Class,Workshops,Yoga Class
ATTACH;FMTTYPE=image/png:https://estateofhealth.ca/wp-content/uploads/2025/08/Music-Mantra-1.png
END:VEVENT
BEGIN:VEVENT
DTSTART;TZID=America/Halifax:20260424T180000
DTEND;TZID=America/Halifax:20260424T193000
DTSTAMP:20260423T224826
CREATED:20260130T224333Z
LAST-MODIFIED:20260305T212657Z
UID:10009977-1777053600-1777059000@estateofhealth.ca
SUMMARY:Karma Yoga
DESCRIPTION:Karma Yoga is an offering of service for a cause that is close to our hearts. Find these DONATION based classes on the last Friday of every month at 6 PM. This special class features a rotation of our wonderful teaching staff here at Estate of Health. Each class has its unique style and lengths are variable.  \nAs class details change each month\, please contact us to book your spot: 519-712-8838   |   info@estateofhealth.ca. \nKarma Yoga Line Up \nFebruary 27th 6:00 PM – 7:00 PM – Fireside Hatha with Jordan raises funds for The Nature Conservancy of Canada \nMarch 27th 6:00 PM – 7:15 PM – All Levels Gentle Yoga with Katera raises funds for Wings Rehabilitation Centre \nApril 24th 6:00 PM – 7:30 PM – All Levels with Steph raises funds for Kittenaide \nMay 29th 6:00 PM – 7:15 PM – Restorative Mindful Movement with Sue raises funds for The Canadian Mental Health Association \n  \n 
URL:https://estateofhealth.ca/event/karma-yoga/2026-04-24/
LOCATION:Estate of Health\, 101 Mill Street West\, Kingsville\, Ontario\, N9Y 1W4\, Canada
CATEGORIES:Community Events,Feature Event on Home Page,Yoga Class
ATTACH;FMTTYPE=image/png:https://estateofhealth.ca/wp-content/uploads/2026/01/November-2025-Karma-Yoga.png
END:VEVENT
BEGIN:VEVENT
DTSTART;TZID=America/Halifax:20260506T093000
DTEND;TZID=America/Halifax:20260506T103000
DTSTAMP:20260423T224826
CREATED:20260421T180853Z
LAST-MODIFIED:20260421T181504Z
UID:10010475-1778059800-1778063400@estateofhealth.ca
SUMMARY:Urban Poling
DESCRIPTION:It’s simple.–  If you can walk you can urban pole!!!  Why not join Urban Poling Instructor\, Marilyn Farnworth\, for an invigorating walk outside and get some fresh air and sunshine (Vitamin D) at the same time??!! \nUrban Poling/Nordic Walking helps you burn more calories\, engages your core muscles and your upper body\, while reducing impact on your lower joints and enhancing your body’s natural fat burning capabilities.  \nWalking with urban poles gives you more than 1800 ab contractions per mile walked and increases your caloric output up to 45% over regular walking.  It uses 90% of your muscles including chest\, upper body core and arms\, especially your triceps. It also improves your posture. Why not maximize your time??!!—30 minutes of urban poling equals 50 minutes of walking. \nThe unique strapless ergonomic handle design combined with the proper Rutlin Technique will help you reach your weight loss and fitness goals faster\, easier and with less effort. \nClasses will incorporate proper technique\, warm ups and cool downs with the poles and stimulating walks outside.  Make sure you dress appropriately for the weather\, wear comfortable walking shoes\, suntan lotion\, and bring your water bottle. Urban poles will be supplied free of charge for the classes but will also be made available for sale.
URL:https://estateofhealth.ca/event/urban-poling/
LOCATION:Estate of Health\, 101 Mill Street West\, Kingsville\, Ontario\, N9Y 1W4\, Canada
CATEGORIES:Community Events,Special Class
ATTACH;FMTTYPE=image/png:https://estateofhealth.ca/wp-content/uploads/2026/04/Urban-Polling.png
END:VEVENT
BEGIN:VEVENT
DTSTART;TZID=America/Halifax:20260529T180000
DTEND;TZID=America/Halifax:20260529T191500
DTSTAMP:20260423T224826
CREATED:20260130T224333Z
LAST-MODIFIED:20260305T212657Z
UID:10009978-1780077600-1780082100@estateofhealth.ca
SUMMARY:Karma Yoga
DESCRIPTION:Karma Yoga is an offering of service for a cause that is close to our hearts. Find these DONATION based classes on the last Friday of every month at 6 PM. This special class features a rotation of our wonderful teaching staff here at Estate of Health. Each class has its unique style and lengths are variable.  \nAs class details change each month\, please contact us to book your spot: 519-712-8838   |   info@estateofhealth.ca. \nKarma Yoga Line Up \nFebruary 27th 6:00 PM – 7:00 PM – Fireside Hatha with Jordan raises funds for The Nature Conservancy of Canada \nMarch 27th 6:00 PM – 7:15 PM – All Levels Gentle Yoga with Katera raises funds for Wings Rehabilitation Centre \nApril 24th 6:00 PM – 7:30 PM – All Levels with Steph raises funds for Kittenaide \nMay 29th 6:00 PM – 7:15 PM – Restorative Mindful Movement with Sue raises funds for The Canadian Mental Health Association \n  \n 
URL:https://estateofhealth.ca/event/karma-yoga/2026-05-29/
LOCATION:Estate of Health\, 101 Mill Street West\, Kingsville\, Ontario\, N9Y 1W4\, Canada
CATEGORIES:Community Events,Feature Event on Home Page,Yoga Class
ATTACH;FMTTYPE=image/png:https://estateofhealth.ca/wp-content/uploads/2026/01/November-2025-Karma-Yoga.png
END:VEVENT
END:VCALENDAR