BEGIN:VCALENDAR
VERSION:2.0
PRODID:-//Estate of Health - ECPv6.15.18//NONSGML v1.0//EN
CALSCALE:GREGORIAN
METHOD:PUBLISH
X-ORIGINAL-URL:https://estateofhealth.ca
X-WR-CALDESC:Events for Estate of Health
REFRESH-INTERVAL;VALUE=DURATION:PT1H
X-Robots-Tag:noindex
X-PUBLISHED-TTL:PT1H
BEGIN:VTIMEZONE
TZID:America/Halifax
BEGIN:DAYLIGHT
TZOFFSETFROM:-0400
TZOFFSETTO:-0300
TZNAME:ADT
DTSTART:20250309T060000
END:DAYLIGHT
BEGIN:STANDARD
TZOFFSETFROM:-0300
TZOFFSETTO:-0400
TZNAME:AST
DTSTART:20251102T050000
END:STANDARD
BEGIN:DAYLIGHT
TZOFFSETFROM:-0400
TZOFFSETTO:-0300
TZNAME:ADT
DTSTART:20260308T060000
END:DAYLIGHT
BEGIN:STANDARD
TZOFFSETFROM:-0300
TZOFFSETTO:-0400
TZNAME:AST
DTSTART:20261101T050000
END:STANDARD
BEGIN:DAYLIGHT
TZOFFSETFROM:-0400
TZOFFSETTO:-0300
TZNAME:ADT
DTSTART:20270314T060000
END:DAYLIGHT
BEGIN:STANDARD
TZOFFSETFROM:-0300
TZOFFSETTO:-0400
TZNAME:AST
DTSTART:20271107T050000
END:STANDARD
END:VTIMEZONE
BEGIN:VEVENT
DTSTART;TZID=America/Halifax:20260102T180000
DTEND;TZID=America/Halifax:20260102T193000
DTSTAMP:20260423T193937
CREATED:20251029T125300Z
LAST-MODIFIED:20260205T155620Z
UID:10008345-1767376800-1767382200@estateofhealth.ca
SUMMARY:Sound Bath
DESCRIPTION:Join us for an intuitive sound experience.  Crystal singing bowls\, rattles\, drums\, gongs\, bells and more tools are used in this energizing and rejuvenating treatment. Sound bathing immerses you in resonance that may help to increase self-awareness\, process emotions\, shed the stagnant energy\, clear & energize the bio-energetic field. Everyone experiences something different\, and everyone gets what they need!\nPlease wear comfortable clothing\, and arrive 10 minutes early to use the facilities and settle in.\nReserve your spot early\, as Sound Baths tend to fill up quickly!
URL:https://estateofhealth.ca/event/sound-bath-3/2026-01-02/
LOCATION:Estate of Health\, 101 Mill Street West\, Kingsville\, Ontario\, N9Y 1W4\, Canada
CATEGORIES:Feature Event on Home Page,Sound Bathing
ATTACH;FMTTYPE=image/jpeg:https://estateofhealth.ca/wp-content/uploads/2024/06/The-Studio-22.jpg
END:VEVENT
BEGIN:VEVENT
DTSTART;TZID=America/Halifax:20260116T180000
DTEND;TZID=America/Halifax:20260116T193000
DTSTAMP:20260423T193937
CREATED:20251029T125603Z
LAST-MODIFIED:20260327T210111Z
UID:10008358-1768586400-1768591800@estateofhealth.ca
SUMMARY:Shamanic Journey Circle
DESCRIPTION:Shamanic Practitioner\, Jordan opens the ceremony and guides the group on a series of journeys for the purpose of gaining insight\, finding healing and developing a stronger connection to our spirits\, and the helping spirits in our lives. The rhythm of the drum leads the practitioner into an altered state of consciousness so that they may explore the spirit realm\, known as “Otherworld” or “Non-Ordinary Reality.” \nThis circle is open to anyone who wishes to explore this practice with guidance\, and no experience is necessary. This is a free\, on-going event however\, donations are welcome. \nPlease have an eye covering\, journal & pen\, and wear comfortable clothing. \nOur ceremony will begin promptly at 6:00 PM. \nWe look forward to journeying with you! \nRegistration is required – limited space available. 
URL:https://estateofhealth.ca/event/shamanic-journey-circle-6/2026-01-16/
LOCATION:Estate of Health\, 101 Mill Street West\, Kingsville\, Ontario\, N9Y 1W4\, Canada
CATEGORIES:Feature Event on Home Page,Shamanic Journey Circle
ATTACH;FMTTYPE=image/png:https://estateofhealth.ca/wp-content/uploads/2025/10/Shamanic-Journey-Circle.png
END:VEVENT
END:VCALENDAR