BEGIN:VCALENDAR
VERSION:2.0
PRODID:-//Estate of Health - ECPv6.15.18//NONSGML v1.0//EN
CALSCALE:GREGORIAN
METHOD:PUBLISH
X-ORIGINAL-URL:https://estateofhealth.ca
X-WR-CALDESC:Events for Estate of Health
REFRESH-INTERVAL;VALUE=DURATION:PT1H
X-Robots-Tag:noindex
X-PUBLISHED-TTL:PT1H
BEGIN:VTIMEZONE
TZID:America/Halifax
BEGIN:DAYLIGHT
TZOFFSETFROM:-0400
TZOFFSETTO:-0300
TZNAME:ADT
DTSTART:20250309T060000
END:DAYLIGHT
BEGIN:STANDARD
TZOFFSETFROM:-0300
TZOFFSETTO:-0400
TZNAME:AST
DTSTART:20251102T050000
END:STANDARD
BEGIN:DAYLIGHT
TZOFFSETFROM:-0400
TZOFFSETTO:-0300
TZNAME:ADT
DTSTART:20260308T060000
END:DAYLIGHT
BEGIN:STANDARD
TZOFFSETFROM:-0300
TZOFFSETTO:-0400
TZNAME:AST
DTSTART:20261101T050000
END:STANDARD
BEGIN:DAYLIGHT
TZOFFSETFROM:-0400
TZOFFSETTO:-0300
TZNAME:ADT
DTSTART:20270314T060000
END:DAYLIGHT
BEGIN:STANDARD
TZOFFSETFROM:-0300
TZOFFSETTO:-0400
TZNAME:AST
DTSTART:20271107T050000
END:STANDARD
END:VTIMEZONE
BEGIN:VEVENT
DTSTART;TZID=America/Halifax:20260303T120000
DTEND;TZID=America/Halifax:20260303T130000
DTSTAMP:20260423T191810
CREATED:20251210T135112Z
LAST-MODIFIED:20260303T163136Z
UID:10009360-1772539200-1772542800@estateofhealth.ca
SUMMARY:Back Health 101 with Ajay (noon class)
DESCRIPTION:In today’s world\, pain and tension from everyday activities (such as sitting at a desk\, spending time on a Smartphone\, or doing chores) is becoming more and more common. Back Health 101 seeks to prevent this by utiliting a series of stretching and strengthening exercises\, breathing techniques and balance to correct back pain and weakness. This class will challenge you to develop good form in every daily action\, helping you to enjoy more activities\, build confidence\, and live life to the fullest.
URL:https://estateofhealth.ca/event/back-health-101-with-ajay-noon-class/2026-03-03/
CATEGORIES:Fitness Class
ATTACH;FMTTYPE=image/jpeg:https://estateofhealth.ca/wp-content/uploads/2024/12/The-Studio-3.jpg
END:VEVENT
BEGIN:VEVENT
DTSTART;TZID=America/Halifax:20260310T120000
DTEND;TZID=America/Halifax:20260310T130000
DTSTAMP:20260423T191810
CREATED:20251210T135112Z
LAST-MODIFIED:20260303T163136Z
UID:10009361-1773144000-1773147600@estateofhealth.ca
SUMMARY:Back Health 101 with Ajay (noon class)
DESCRIPTION:In today’s world\, pain and tension from everyday activities (such as sitting at a desk\, spending time on a Smartphone\, or doing chores) is becoming more and more common. Back Health 101 seeks to prevent this by utiliting a series of stretching and strengthening exercises\, breathing techniques and balance to correct back pain and weakness. This class will challenge you to develop good form in every daily action\, helping you to enjoy more activities\, build confidence\, and live life to the fullest.
URL:https://estateofhealth.ca/event/back-health-101-with-ajay-noon-class/2026-03-10/
CATEGORIES:Fitness Class
ATTACH;FMTTYPE=image/jpeg:https://estateofhealth.ca/wp-content/uploads/2024/12/The-Studio-3.jpg
END:VEVENT
BEGIN:VEVENT
DTSTART;TZID=America/Halifax:20260317T120000
DTEND;TZID=America/Halifax:20260317T130000
DTSTAMP:20260423T191810
CREATED:20251210T135112Z
LAST-MODIFIED:20260303T163136Z
UID:10009362-1773748800-1773752400@estateofhealth.ca
SUMMARY:Back Health 101 with Ajay (noon class)
DESCRIPTION:In today’s world\, pain and tension from everyday activities (such as sitting at a desk\, spending time on a Smartphone\, or doing chores) is becoming more and more common. Back Health 101 seeks to prevent this by utiliting a series of stretching and strengthening exercises\, breathing techniques and balance to correct back pain and weakness. This class will challenge you to develop good form in every daily action\, helping you to enjoy more activities\, build confidence\, and live life to the fullest.
URL:https://estateofhealth.ca/event/back-health-101-with-ajay-noon-class/2026-03-17/
CATEGORIES:Fitness Class
ATTACH;FMTTYPE=image/jpeg:https://estateofhealth.ca/wp-content/uploads/2024/12/The-Studio-3.jpg
END:VEVENT
BEGIN:VEVENT
DTSTART;TZID=America/Halifax:20260324T120000
DTEND;TZID=America/Halifax:20260324T130000
DTSTAMP:20260423T191810
CREATED:20251210T135112Z
LAST-MODIFIED:20260303T163136Z
UID:10009363-1774353600-1774357200@estateofhealth.ca
SUMMARY:Back Health 101 with Ajay (noon class)
DESCRIPTION:In today’s world\, pain and tension from everyday activities (such as sitting at a desk\, spending time on a Smartphone\, or doing chores) is becoming more and more common. Back Health 101 seeks to prevent this by utiliting a series of stretching and strengthening exercises\, breathing techniques and balance to correct back pain and weakness. This class will challenge you to develop good form in every daily action\, helping you to enjoy more activities\, build confidence\, and live life to the fullest.
URL:https://estateofhealth.ca/event/back-health-101-with-ajay-noon-class/2026-03-24/
CATEGORIES:Fitness Class
ATTACH;FMTTYPE=image/jpeg:https://estateofhealth.ca/wp-content/uploads/2024/12/The-Studio-3.jpg
END:VEVENT
BEGIN:VEVENT
DTSTART;TZID=America/Halifax:20260331T120000
DTEND;TZID=America/Halifax:20260331T130000
DTSTAMP:20260423T191810
CREATED:20251210T135112Z
LAST-MODIFIED:20260303T163136Z
UID:10009364-1774958400-1774962000@estateofhealth.ca
SUMMARY:Back Health 101 with Ajay (noon class)
DESCRIPTION:In today’s world\, pain and tension from everyday activities (such as sitting at a desk\, spending time on a Smartphone\, or doing chores) is becoming more and more common. Back Health 101 seeks to prevent this by utiliting a series of stretching and strengthening exercises\, breathing techniques and balance to correct back pain and weakness. This class will challenge you to develop good form in every daily action\, helping you to enjoy more activities\, build confidence\, and live life to the fullest.
URL:https://estateofhealth.ca/event/back-health-101-with-ajay-noon-class/2026-03-31/
CATEGORIES:Fitness Class
ATTACH;FMTTYPE=image/jpeg:https://estateofhealth.ca/wp-content/uploads/2024/12/The-Studio-3.jpg
END:VEVENT
END:VCALENDAR