BEGIN:VCALENDAR
VERSION:2.0
PRODID:-//Estate of Health - ECPv6.15.18//NONSGML v1.0//EN
CALSCALE:GREGORIAN
METHOD:PUBLISH
X-WR-CALNAME:Estate of Health
X-ORIGINAL-URL:https://estateofhealth.ca
X-WR-CALDESC:Events for Estate of Health
REFRESH-INTERVAL;VALUE=DURATION:PT1H
X-Robots-Tag:noindex
X-PUBLISHED-TTL:PT1H
BEGIN:VTIMEZONE
TZID:America/Halifax
BEGIN:DAYLIGHT
TZOFFSETFROM:-0400
TZOFFSETTO:-0300
TZNAME:ADT
DTSTART:20240310T060000
END:DAYLIGHT
BEGIN:STANDARD
TZOFFSETFROM:-0300
TZOFFSETTO:-0400
TZNAME:AST
DTSTART:20241103T050000
END:STANDARD
BEGIN:DAYLIGHT
TZOFFSETFROM:-0400
TZOFFSETTO:-0300
TZNAME:ADT
DTSTART:20250309T060000
END:DAYLIGHT
BEGIN:STANDARD
TZOFFSETFROM:-0300
TZOFFSETTO:-0400
TZNAME:AST
DTSTART:20251102T050000
END:STANDARD
BEGIN:DAYLIGHT
TZOFFSETFROM:-0400
TZOFFSETTO:-0300
TZNAME:ADT
DTSTART:20260308T060000
END:DAYLIGHT
BEGIN:STANDARD
TZOFFSETFROM:-0300
TZOFFSETTO:-0400
TZNAME:AST
DTSTART:20261101T050000
END:STANDARD
BEGIN:DAYLIGHT
TZOFFSETFROM:-0400
TZOFFSETTO:-0300
TZNAME:ADT
DTSTART:20270314T060000
END:DAYLIGHT
BEGIN:STANDARD
TZOFFSETFROM:-0300
TZOFFSETTO:-0400
TZNAME:AST
DTSTART:20271107T050000
END:STANDARD
END:VTIMEZONE
BEGIN:VEVENT
DTSTART;TZID=America/Halifax:20260210T180000
DTEND;TZID=America/Halifax:20260210T184500
DTSTAMP:20260423T201810
CREATED:20251210T135301Z
LAST-MODIFIED:20260205T155437Z
UID:10008723-1770746400-1770749100@estateofhealth.ca
SUMMARY:Gong Meditation
DESCRIPTION:Join Jordan for this meditation class where we incorporate various methods of meditation\, breathwork and mantra\, and enjoy the therapeutic resonance of the gong. Classes will begin with a brief intro to the day’s meditation\, followed by group meditation and savasana with the accompaniment of the gong. All are welcome\, no experience is required.
URL:https://estateofhealth.ca/event/gong-meditation-2/2026-02-10/
LOCATION:Estate of Health\, 101 Mill Street West\, Kingsville\, Ontario\, N9Y 1W4\, Canada
CATEGORIES:Meditation
ATTACH;FMTTYPE=image/png:https://estateofhealth.ca/wp-content/uploads/2022/12/Yoga-Class-Names-2.png
END:VEVENT
BEGIN:VEVENT
DTSTART;TZID=America/Halifax:20260203T180000
DTEND;TZID=America/Halifax:20260203T184500
DTSTAMP:20260423T201810
CREATED:20251210T135301Z
LAST-MODIFIED:20260205T155437Z
UID:10008722-1770141600-1770144300@estateofhealth.ca
SUMMARY:Gong Meditation
DESCRIPTION:Join Jordan for this meditation class where we incorporate various methods of meditation\, breathwork and mantra\, and enjoy the therapeutic resonance of the gong. Classes will begin with a brief intro to the day’s meditation\, followed by group meditation and savasana with the accompaniment of the gong. All are welcome\, no experience is required.
URL:https://estateofhealth.ca/event/gong-meditation-2/2026-02-03/
LOCATION:Estate of Health\, 101 Mill Street West\, Kingsville\, Ontario\, N9Y 1W4\, Canada
CATEGORIES:Meditation
ATTACH;FMTTYPE=image/png:https://estateofhealth.ca/wp-content/uploads/2022/12/Yoga-Class-Names-2.png
END:VEVENT
BEGIN:VEVENT
DTSTART;TZID=America/Halifax:20260127T180000
DTEND;TZID=America/Halifax:20260127T184500
DTSTAMP:20260423T201810
CREATED:20251210T135301Z
LAST-MODIFIED:20260205T155437Z
UID:10008721-1769536800-1769539500@estateofhealth.ca
SUMMARY:Gong Meditation
DESCRIPTION:Join Jordan for this meditation class where we incorporate various methods of meditation\, breathwork and mantra\, and enjoy the therapeutic resonance of the gong. Classes will begin with a brief intro to the day’s meditation\, followed by group meditation and savasana with the accompaniment of the gong. All are welcome\, no experience is required.
URL:https://estateofhealth.ca/event/gong-meditation-2/2026-01-27/
LOCATION:Estate of Health\, 101 Mill Street West\, Kingsville\, Ontario\, N9Y 1W4\, Canada
CATEGORIES:Meditation
ATTACH;FMTTYPE=image/png:https://estateofhealth.ca/wp-content/uploads/2022/12/Yoga-Class-Names-2.png
END:VEVENT
BEGIN:VEVENT
DTSTART;TZID=America/Halifax:20260120T180000
DTEND;TZID=America/Halifax:20260120T184500
DTSTAMP:20260423T201810
CREATED:20251210T135301Z
LAST-MODIFIED:20260205T155437Z
UID:10008720-1768932000-1768934700@estateofhealth.ca
SUMMARY:Gong Meditation
DESCRIPTION:Join Jordan for this meditation class where we incorporate various methods of meditation\, breathwork and mantra\, and enjoy the therapeutic resonance of the gong. Classes will begin with a brief intro to the day’s meditation\, followed by group meditation and savasana with the accompaniment of the gong. All are welcome\, no experience is required.
URL:https://estateofhealth.ca/event/gong-meditation-2/2026-01-20/
LOCATION:Estate of Health\, 101 Mill Street West\, Kingsville\, Ontario\, N9Y 1W4\, Canada
CATEGORIES:Meditation
ATTACH;FMTTYPE=image/png:https://estateofhealth.ca/wp-content/uploads/2022/12/Yoga-Class-Names-2.png
END:VEVENT
BEGIN:VEVENT
DTSTART;TZID=America/Halifax:20260113T180000
DTEND;TZID=America/Halifax:20260113T184500
DTSTAMP:20260423T201810
CREATED:20251210T135301Z
LAST-MODIFIED:20260205T155437Z
UID:10008719-1768327200-1768329900@estateofhealth.ca
SUMMARY:Gong Meditation
DESCRIPTION:Join Jordan for this meditation class where we incorporate various methods of meditation\, breathwork and mantra\, and enjoy the therapeutic resonance of the gong. Classes will begin with a brief intro to the day’s meditation\, followed by group meditation and savasana with the accompaniment of the gong. All are welcome\, no experience is required.
URL:https://estateofhealth.ca/event/gong-meditation-2/2026-01-13/
LOCATION:Estate of Health\, 101 Mill Street West\, Kingsville\, Ontario\, N9Y 1W4\, Canada
CATEGORIES:Meditation
ATTACH;FMTTYPE=image/png:https://estateofhealth.ca/wp-content/uploads/2022/12/Yoga-Class-Names-2.png
END:VEVENT
BEGIN:VEVENT
DTSTART;TZID=America/Halifax:20260106T180000
DTEND;TZID=America/Halifax:20260106T184500
DTSTAMP:20260423T201810
CREATED:20251210T135301Z
LAST-MODIFIED:20260205T155437Z
UID:10008718-1767722400-1767725100@estateofhealth.ca
SUMMARY:Gong Meditation
DESCRIPTION:Join Jordan for this meditation class where we incorporate various methods of meditation\, breathwork and mantra\, and enjoy the therapeutic resonance of the gong. Classes will begin with a brief intro to the day’s meditation\, followed by group meditation and savasana with the accompaniment of the gong. All are welcome\, no experience is required.
URL:https://estateofhealth.ca/event/gong-meditation-2/2026-01-06/
LOCATION:Estate of Health\, 101 Mill Street West\, Kingsville\, Ontario\, N9Y 1W4\, Canada
CATEGORIES:Meditation
ATTACH;FMTTYPE=image/png:https://estateofhealth.ca/wp-content/uploads/2022/12/Yoga-Class-Names-2.png
END:VEVENT
BEGIN:VEVENT
DTSTART;TZID=America/Halifax:20251218T193000
DTEND;TZID=America/Halifax:20251218T203000
DTSTAMP:20260423T201810
CREATED:20251209T174957Z
LAST-MODIFIED:20251211T161305Z
UID:10008621-1766086200-1766089800@estateofhealth.ca
SUMMARY:Silent Night Candlelit Meditation
DESCRIPTION:As the winter solstice draws near\, we invite you to an evening of rest and renewal with ‘Silent Night’\, a candlelit meditation led by Sarah Papps. This practice offers a peaceful pause to honor the season’s natural rhythm of slowing down\, inviting us to rest\, reflect\, and renew. Bathed in soft candlelight\, you’ll be welcomed into a space where you can release the year’s weight and prepare for the quiet beauty of winter’s arrival. Allow yourself to be fully present\, finding stillness and peace within as you align with nature’s gentle invitation to pause and replenish. \n\nAll experience levels are welcome.
URL:https://estateofhealth.ca/event/silent-night-candlelit-meditation/
LOCATION:Estate of Health\, 101 Mill Street West\, Kingsville\, Ontario\, N9Y 1W4\, Canada
CATEGORIES:Feature Event on Home Page,Meditation,Special Class
ATTACH;FMTTYPE=image/png:https://estateofhealth.ca/wp-content/uploads/2024/11/Candlelight-meditation-.png
END:VEVENT
END:VCALENDAR