BEGIN:VCALENDAR
VERSION:2.0
PRODID:-//Estate of Health - ECPv6.15.18//NONSGML v1.0//EN
CALSCALE:GREGORIAN
METHOD:PUBLISH
X-WR-CALNAME:Estate of Health
X-ORIGINAL-URL:https://estateofhealth.ca
X-WR-CALDESC:Events for Estate of Health
REFRESH-INTERVAL;VALUE=DURATION:PT1H
X-Robots-Tag:noindex
X-PUBLISHED-TTL:PT1H
BEGIN:VTIMEZONE
TZID:America/Halifax
BEGIN:DAYLIGHT
TZOFFSETFROM:-0400
TZOFFSETTO:-0300
TZNAME:ADT
DTSTART:20250309T060000
END:DAYLIGHT
BEGIN:STANDARD
TZOFFSETFROM:-0300
TZOFFSETTO:-0400
TZNAME:AST
DTSTART:20251102T050000
END:STANDARD
BEGIN:DAYLIGHT
TZOFFSETFROM:-0400
TZOFFSETTO:-0300
TZNAME:ADT
DTSTART:20260308T060000
END:DAYLIGHT
BEGIN:STANDARD
TZOFFSETFROM:-0300
TZOFFSETTO:-0400
TZNAME:AST
DTSTART:20261101T050000
END:STANDARD
BEGIN:DAYLIGHT
TZOFFSETFROM:-0400
TZOFFSETTO:-0300
TZNAME:ADT
DTSTART:20270314T060000
END:DAYLIGHT
BEGIN:STANDARD
TZOFFSETFROM:-0300
TZOFFSETTO:-0400
TZNAME:AST
DTSTART:20271107T050000
END:STANDARD
END:VTIMEZONE
BEGIN:VEVENT
DTSTART;TZID=America/Halifax:20260530T100000
DTEND;TZID=America/Halifax:20260530T170000
DTSTAMP:20260423T201818
CREATED:20260414T215041Z
LAST-MODIFIED:20260414T215041Z
UID:10010180-1780135200-1780160400@estateofhealth.ca
SUMMARY:Spring Refresh Retreat 2026
DESCRIPTION:Spring is the perfect time to reset and refresh your body\, mind and energy. In this 1-Day retreat led by Katera Zappacosta\, you will enjoy: \n– An invigorating yoga/pilates class to start the day\n– A guided sauna & cold plunge circuit\n-Relaxation on the beautiful grounds of Estate of Health\n-A refreshing afternoon yoga class\n– A healing Sound Bath with Jordan Scott\n– Nourishing food from Green Heart Kitchen \nTake some time this spring to reconnect with yourself and realign with your true path! \nPlease arrive 30 – 45 minutes early to settle in. Our opening session begins at 10:00 am.
URL:https://estateofhealth.ca/event/spring-refresh-retreat-2026/
LOCATION:Estate of Health\, 101 Mill Street West\, Kingsville\, Ontario\, N9Y 1W4\, Canada
CATEGORIES:Retreat
ATTACH;FMTTYPE=image/png:https://estateofhealth.ca/wp-content/uploads/2026/04/Learn-More.png
END:VEVENT
END:VCALENDAR