BEGIN:VCALENDAR
VERSION:2.0
PRODID:-//Estate of Health - ECPv6.15.18//NONSGML v1.0//EN
CALSCALE:GREGORIAN
METHOD:PUBLISH
X-ORIGINAL-URL:https://estateofhealth.ca
X-WR-CALDESC:Events for Estate of Health
REFRESH-INTERVAL;VALUE=DURATION:PT1H
X-Robots-Tag:noindex
X-PUBLISHED-TTL:PT1H
BEGIN:VTIMEZONE
TZID:America/Halifax
BEGIN:DAYLIGHT
TZOFFSETFROM:-0400
TZOFFSETTO:-0300
TZNAME:ADT
DTSTART:20250309T060000
END:DAYLIGHT
BEGIN:STANDARD
TZOFFSETFROM:-0300
TZOFFSETTO:-0400
TZNAME:AST
DTSTART:20251102T050000
END:STANDARD
BEGIN:DAYLIGHT
TZOFFSETFROM:-0400
TZOFFSETTO:-0300
TZNAME:ADT
DTSTART:20260308T060000
END:DAYLIGHT
BEGIN:STANDARD
TZOFFSETFROM:-0300
TZOFFSETTO:-0400
TZNAME:AST
DTSTART:20261101T050000
END:STANDARD
BEGIN:DAYLIGHT
TZOFFSETFROM:-0400
TZOFFSETTO:-0300
TZNAME:ADT
DTSTART:20270314T060000
END:DAYLIGHT
BEGIN:STANDARD
TZOFFSETFROM:-0300
TZOFFSETTO:-0400
TZNAME:AST
DTSTART:20271107T050000
END:STANDARD
END:VTIMEZONE
BEGIN:VEVENT
DTSTART;TZID=America/Halifax:20260131T100000
DTEND;TZID=America/Halifax:20260131T170000
DTSTAMP:20260423T204736
CREATED:20250205T001552Z
LAST-MODIFIED:20251210T145143Z
UID:10003958-1769853600-1769878800@estateofhealth.ca
SUMMARY:Reiki Level One Training
DESCRIPTION:Reiki Trainings at Estate of Health\n\n\n\n\n\n\n\n\n\n\nJoin us for a transformative journey through the healing art of Reiki\, guided by Master Teachers Janice Mullins & Jordan Scott. Each level of Reiki training offers a deepening connection to universal energy\, personal healing\, and the ability to support others on their path to well-being. \nReiki Level One – Begin your Reiki journey with this foundational training\, where you will learn the history\, principles\, and hand positions for self-healing and offering Reiki to others. Through attunements and practice\, you will awaken your ability to channel Reiki energy and cultivate a deeper sense of balance and harmony in your life.
URL:https://estateofhealth.ca/event/reiki-level-one-training/
LOCATION:Ontario
CATEGORIES:Knowledge Series,Seminar,Special Class,Workshops
ATTACH;FMTTYPE=image/png:https://estateofhealth.ca/wp-content/uploads/2025/02/Instagram-Posts-9.png
END:VEVENT
END:VCALENDAR