BEGIN:VCALENDAR
VERSION:2.0
PRODID:-//Estate of Health - ECPv6.15.18//NONSGML v1.0//EN
CALSCALE:GREGORIAN
METHOD:PUBLISH
X-ORIGINAL-URL:https://estateofhealth.ca
X-WR-CALDESC:Events for Estate of Health
REFRESH-INTERVAL;VALUE=DURATION:PT1H
X-Robots-Tag:noindex
X-PUBLISHED-TTL:PT1H
BEGIN:VTIMEZONE
TZID:America/Halifax
BEGIN:DAYLIGHT
TZOFFSETFROM:-0400
TZOFFSETTO:-0300
TZNAME:ADT
DTSTART:20250309T060000
END:DAYLIGHT
BEGIN:STANDARD
TZOFFSETFROM:-0300
TZOFFSETTO:-0400
TZNAME:AST
DTSTART:20251102T050000
END:STANDARD
BEGIN:DAYLIGHT
TZOFFSETFROM:-0400
TZOFFSETTO:-0300
TZNAME:ADT
DTSTART:20260308T060000
END:DAYLIGHT
BEGIN:STANDARD
TZOFFSETFROM:-0300
TZOFFSETTO:-0400
TZNAME:AST
DTSTART:20261101T050000
END:STANDARD
BEGIN:DAYLIGHT
TZOFFSETFROM:-0400
TZOFFSETTO:-0300
TZNAME:ADT
DTSTART:20270314T060000
END:DAYLIGHT
BEGIN:STANDARD
TZOFFSETFROM:-0300
TZOFFSETTO:-0400
TZNAME:AST
DTSTART:20271107T050000
END:STANDARD
END:VTIMEZONE
BEGIN:VEVENT
DTSTART;TZID=America/Halifax:20260320T180000
DTEND;TZID=America/Halifax:20260320T193000
DTSTAMP:20260423T204027
CREATED:20260120T221511Z
LAST-MODIFIED:20260120T222635Z
UID:10009835-1774029600-1774035000@estateofhealth.ca
SUMMARY:Spring Equinox Drum & Journey Circle
DESCRIPTION:Gather in this communal celebration of the turning of seasons and the observance of the Spring Equinox. Spring is such a magical time of renewal\, growth and the transition of energy that rises up inside of all of us! In this celebration\, we reflect consciously on what this transition means for each of us\, and we learn how to move in harmony with the natural world around us. \nThis donation-based event involves drumming\, meditation\, reflection\, shamanic journeying\, offerings to our helping spirits and communal sharing. A portion of this event might be outside\, weather permitting\, so please dress in layers. Bring your own drum or rattle. Notebooks & pens are recommended. Tea and water\, yoga mats\, cushions and blankets will be available. \nAll proceeds of this event go to the tree planting efforts of ERCA in our southwestern region of Ontario.
URL:https://estateofhealth.ca/event/spring-equinox-drum-journey-circle/
LOCATION:Estate of Health\, 101 Mill Street West\, Kingsville\, Ontario\, N9Y 1W4\, Canada
CATEGORIES:Ceremony,Community Events,Drum Circle,Shamanic Journey Circle,Shamanism
ATTACH;FMTTYPE=image/png:https://estateofhealth.ca/wp-content/uploads/2026/01/Spring-Equinox-Drum-Journey-Circle.png
END:VEVENT
BEGIN:VEVENT
DTSTART;TZID=America/Halifax:20260417T180000
DTEND;TZID=America/Halifax:20260417T190000
DTSTAMP:20260423T204027
CREATED:20251029T125603Z
LAST-MODIFIED:20260327T210111Z
UID:10009705-1776448800-1776452400@estateofhealth.ca
SUMMARY:Shamanic Journey Circle
DESCRIPTION:Shamanic Practitioner\, Jordan opens the ceremony and guides the group on a series of journeys for the purpose of gaining insight\, finding healing and developing a stronger connection to our spirits\, and the helping spirits in our lives. The rhythm of the drum leads the practitioner into an altered state of consciousness so that they may explore the spirit realm\, known as “Otherworld” or “Non-Ordinary Reality.” \nThis circle is open to anyone who wishes to explore this practice with guidance\, and no experience is necessary. This is a free\, on-going event however\, donations are welcome. \nPlease have an eye covering\, journal & pen\, and wear comfortable clothing. \nOur ceremony will begin promptly at 6:00 PM. \nWe look forward to journeying with you! \nRegistration is required – limited space available. 
URL:https://estateofhealth.ca/event/shamanic-journey-circle-6/2026-04-17/
LOCATION:Estate of Health\, 101 Mill Street West\, Kingsville\, Ontario\, N9Y 1W4\, Canada
CATEGORIES:Feature Event on Home Page,Shamanic Journey Circle
ATTACH;FMTTYPE=image/png:https://estateofhealth.ca/wp-content/uploads/2025/10/Shamanic-Journey-Circle.png
END:VEVENT
BEGIN:VEVENT
DTSTART;TZID=America/Halifax:20260619T180000
DTEND;TZID=America/Halifax:20260619T193000
DTSTAMP:20260423T204027
CREATED:20251029T125603Z
LAST-MODIFIED:20260327T210111Z
UID:10009706-1781892000-1781897400@estateofhealth.ca
SUMMARY:Shamanic Journey Circle
DESCRIPTION:Shamanic Practitioner\, Jordan opens the ceremony and guides the group on a series of journeys for the purpose of gaining insight\, finding healing and developing a stronger connection to our spirits\, and the helping spirits in our lives. The rhythm of the drum leads the practitioner into an altered state of consciousness so that they may explore the spirit realm\, known as “Otherworld” or “Non-Ordinary Reality.” \nThis circle is open to anyone who wishes to explore this practice with guidance\, and no experience is necessary. This is a free\, on-going event however\, donations are welcome. \nPlease have an eye covering\, journal & pen\, and wear comfortable clothing. \nOur ceremony will begin promptly at 6:00 PM. \nWe look forward to journeying with you! \nRegistration is required – limited space available. 
URL:https://estateofhealth.ca/event/shamanic-journey-circle-6/2026-06-19/
LOCATION:Estate of Health\, 101 Mill Street West\, Kingsville\, Ontario\, N9Y 1W4\, Canada
CATEGORIES:Feature Event on Home Page,Shamanic Journey Circle
ATTACH;FMTTYPE=image/png:https://estateofhealth.ca/wp-content/uploads/2025/10/Shamanic-Journey-Circle.png
END:VEVENT
BEGIN:VEVENT
DTSTART;TZID=America/Halifax:20260717T180000
DTEND;TZID=America/Halifax:20260717T193000
DTSTAMP:20260423T204027
CREATED:20251029T125603Z
LAST-MODIFIED:20260327T210111Z
UID:10009707-1784311200-1784316600@estateofhealth.ca
SUMMARY:Shamanic Journey Circle
DESCRIPTION:Shamanic Practitioner\, Jordan opens the ceremony and guides the group on a series of journeys for the purpose of gaining insight\, finding healing and developing a stronger connection to our spirits\, and the helping spirits in our lives. The rhythm of the drum leads the practitioner into an altered state of consciousness so that they may explore the spirit realm\, known as “Otherworld” or “Non-Ordinary Reality.” \nThis circle is open to anyone who wishes to explore this practice with guidance\, and no experience is necessary. This is a free\, on-going event however\, donations are welcome. \nPlease have an eye covering\, journal & pen\, and wear comfortable clothing. \nOur ceremony will begin promptly at 6:00 PM. \nWe look forward to journeying with you! \nRegistration is required – limited space available. 
URL:https://estateofhealth.ca/event/shamanic-journey-circle-6/2026-07-17/
LOCATION:Estate of Health\, 101 Mill Street West\, Kingsville\, Ontario\, N9Y 1W4\, Canada
CATEGORIES:Feature Event on Home Page,Shamanic Journey Circle
ATTACH;FMTTYPE=image/png:https://estateofhealth.ca/wp-content/uploads/2025/10/Shamanic-Journey-Circle.png
END:VEVENT
BEGIN:VEVENT
DTSTART;TZID=America/Halifax:20260821T180000
DTEND;TZID=America/Halifax:20260821T193000
DTSTAMP:20260423T204027
CREATED:20251029T125603Z
LAST-MODIFIED:20260327T210111Z
UID:10009708-1787335200-1787340600@estateofhealth.ca
SUMMARY:Shamanic Journey Circle
DESCRIPTION:Shamanic Practitioner\, Jordan opens the ceremony and guides the group on a series of journeys for the purpose of gaining insight\, finding healing and developing a stronger connection to our spirits\, and the helping spirits in our lives. The rhythm of the drum leads the practitioner into an altered state of consciousness so that they may explore the spirit realm\, known as “Otherworld” or “Non-Ordinary Reality.” \nThis circle is open to anyone who wishes to explore this practice with guidance\, and no experience is necessary. This is a free\, on-going event however\, donations are welcome. \nPlease have an eye covering\, journal & pen\, and wear comfortable clothing. \nOur ceremony will begin promptly at 6:00 PM. \nWe look forward to journeying with you! \nRegistration is required – limited space available. 
URL:https://estateofhealth.ca/event/shamanic-journey-circle-6/2026-08-21/
LOCATION:Estate of Health\, 101 Mill Street West\, Kingsville\, Ontario\, N9Y 1W4\, Canada
CATEGORIES:Feature Event on Home Page,Shamanic Journey Circle
ATTACH;FMTTYPE=image/png:https://estateofhealth.ca/wp-content/uploads/2025/10/Shamanic-Journey-Circle.png
END:VEVENT
BEGIN:VEVENT
DTSTART;TZID=America/Halifax:20260918T180000
DTEND;TZID=America/Halifax:20260918T193000
DTSTAMP:20260423T204027
CREATED:20251029T125603Z
LAST-MODIFIED:20260327T210111Z
UID:10009709-1789754400-1789759800@estateofhealth.ca
SUMMARY:Shamanic Journey Circle
DESCRIPTION:Shamanic Practitioner\, Jordan opens the ceremony and guides the group on a series of journeys for the purpose of gaining insight\, finding healing and developing a stronger connection to our spirits\, and the helping spirits in our lives. The rhythm of the drum leads the practitioner into an altered state of consciousness so that they may explore the spirit realm\, known as “Otherworld” or “Non-Ordinary Reality.” \nThis circle is open to anyone who wishes to explore this practice with guidance\, and no experience is necessary. This is a free\, on-going event however\, donations are welcome. \nPlease have an eye covering\, journal & pen\, and wear comfortable clothing. \nOur ceremony will begin promptly at 6:00 PM. \nWe look forward to journeying with you! \nRegistration is required – limited space available. 
URL:https://estateofhealth.ca/event/shamanic-journey-circle-6/2026-09-18/
LOCATION:Estate of Health\, 101 Mill Street West\, Kingsville\, Ontario\, N9Y 1W4\, Canada
CATEGORIES:Feature Event on Home Page,Shamanic Journey Circle
ATTACH;FMTTYPE=image/png:https://estateofhealth.ca/wp-content/uploads/2025/10/Shamanic-Journey-Circle.png
END:VEVENT
BEGIN:VEVENT
DTSTART;TZID=America/Halifax:20261016T180000
DTEND;TZID=America/Halifax:20261016T193000
DTSTAMP:20260423T204027
CREATED:20251029T125603Z
LAST-MODIFIED:20260327T210111Z
UID:10009710-1792173600-1792179000@estateofhealth.ca
SUMMARY:Shamanic Journey Circle
DESCRIPTION:Shamanic Practitioner\, Jordan opens the ceremony and guides the group on a series of journeys for the purpose of gaining insight\, finding healing and developing a stronger connection to our spirits\, and the helping spirits in our lives. The rhythm of the drum leads the practitioner into an altered state of consciousness so that they may explore the spirit realm\, known as “Otherworld” or “Non-Ordinary Reality.” \nThis circle is open to anyone who wishes to explore this practice with guidance\, and no experience is necessary. This is a free\, on-going event however\, donations are welcome. \nPlease have an eye covering\, journal & pen\, and wear comfortable clothing. \nOur ceremony will begin promptly at 6:00 PM. \nWe look forward to journeying with you! \nRegistration is required – limited space available. 
URL:https://estateofhealth.ca/event/shamanic-journey-circle-6/2026-10-16/
LOCATION:Estate of Health\, 101 Mill Street West\, Kingsville\, Ontario\, N9Y 1W4\, Canada
CATEGORIES:Feature Event on Home Page,Shamanic Journey Circle
ATTACH;FMTTYPE=image/png:https://estateofhealth.ca/wp-content/uploads/2025/10/Shamanic-Journey-Circle.png
END:VEVENT
BEGIN:VEVENT
DTSTART;TZID=America/Halifax:20261120T180000
DTEND;TZID=America/Halifax:20261120T193000
DTSTAMP:20260423T204027
CREATED:20251029T125603Z
LAST-MODIFIED:20260327T210111Z
UID:10009711-1795197600-1795203000@estateofhealth.ca
SUMMARY:Shamanic Journey Circle
DESCRIPTION:Shamanic Practitioner\, Jordan opens the ceremony and guides the group on a series of journeys for the purpose of gaining insight\, finding healing and developing a stronger connection to our spirits\, and the helping spirits in our lives. The rhythm of the drum leads the practitioner into an altered state of consciousness so that they may explore the spirit realm\, known as “Otherworld” or “Non-Ordinary Reality.” \nThis circle is open to anyone who wishes to explore this practice with guidance\, and no experience is necessary. This is a free\, on-going event however\, donations are welcome. \nPlease have an eye covering\, journal & pen\, and wear comfortable clothing. \nOur ceremony will begin promptly at 6:00 PM. \nWe look forward to journeying with you! \nRegistration is required – limited space available. 
URL:https://estateofhealth.ca/event/shamanic-journey-circle-6/2026-11-20/
LOCATION:Estate of Health\, 101 Mill Street West\, Kingsville\, Ontario\, N9Y 1W4\, Canada
CATEGORIES:Feature Event on Home Page,Shamanic Journey Circle
ATTACH;FMTTYPE=image/png:https://estateofhealth.ca/wp-content/uploads/2025/10/Shamanic-Journey-Circle.png
END:VEVENT
BEGIN:VEVENT
DTSTART;TZID=America/Halifax:20261218T180000
DTEND;TZID=America/Halifax:20261218T193000
DTSTAMP:20260423T204027
CREATED:20251029T125603Z
LAST-MODIFIED:20260327T210111Z
UID:10009712-1797616800-1797622200@estateofhealth.ca
SUMMARY:Shamanic Journey Circle
DESCRIPTION:Shamanic Practitioner\, Jordan opens the ceremony and guides the group on a series of journeys for the purpose of gaining insight\, finding healing and developing a stronger connection to our spirits\, and the helping spirits in our lives. The rhythm of the drum leads the practitioner into an altered state of consciousness so that they may explore the spirit realm\, known as “Otherworld” or “Non-Ordinary Reality.” \nThis circle is open to anyone who wishes to explore this practice with guidance\, and no experience is necessary. This is a free\, on-going event however\, donations are welcome. \nPlease have an eye covering\, journal & pen\, and wear comfortable clothing. \nOur ceremony will begin promptly at 6:00 PM. \nWe look forward to journeying with you! \nRegistration is required – limited space available. 
URL:https://estateofhealth.ca/event/shamanic-journey-circle-6/2026-12-18/
LOCATION:Estate of Health\, 101 Mill Street West\, Kingsville\, Ontario\, N9Y 1W4\, Canada
CATEGORIES:Feature Event on Home Page,Shamanic Journey Circle
ATTACH;FMTTYPE=image/png:https://estateofhealth.ca/wp-content/uploads/2025/10/Shamanic-Journey-Circle.png
END:VEVENT
END:VCALENDAR