BEGIN:VCALENDAR
VERSION:2.0
PRODID:-//Estate of Health - ECPv6.15.18//NONSGML v1.0//EN
CALSCALE:GREGORIAN
METHOD:PUBLISH
X-WR-CALNAME:Estate of Health
X-ORIGINAL-URL:https://estateofhealth.ca
X-WR-CALDESC:Events for Estate of Health
REFRESH-INTERVAL;VALUE=DURATION:PT1H
X-Robots-Tag:noindex
X-PUBLISHED-TTL:PT1H
BEGIN:VTIMEZONE
TZID:America/Halifax
BEGIN:DAYLIGHT
TZOFFSETFROM:-0400
TZOFFSETTO:-0300
TZNAME:ADT
DTSTART:20250309T060000
END:DAYLIGHT
BEGIN:STANDARD
TZOFFSETFROM:-0300
TZOFFSETTO:-0400
TZNAME:AST
DTSTART:20251102T050000
END:STANDARD
BEGIN:DAYLIGHT
TZOFFSETFROM:-0400
TZOFFSETTO:-0300
TZNAME:ADT
DTSTART:20260308T060000
END:DAYLIGHT
BEGIN:STANDARD
TZOFFSETFROM:-0300
TZOFFSETTO:-0400
TZNAME:AST
DTSTART:20261101T050000
END:STANDARD
BEGIN:DAYLIGHT
TZOFFSETFROM:-0400
TZOFFSETTO:-0300
TZNAME:ADT
DTSTART:20270314T060000
END:DAYLIGHT
BEGIN:STANDARD
TZOFFSETFROM:-0300
TZOFFSETTO:-0400
TZNAME:AST
DTSTART:20271107T050000
END:STANDARD
END:VTIMEZONE
BEGIN:VEVENT
DTSTART;TZID=America/Halifax:20260506T093000
DTEND;TZID=America/Halifax:20260506T103000
DTSTAMP:20260423T203349
CREATED:20260421T180853Z
LAST-MODIFIED:20260421T181504Z
UID:10010475-1778059800-1778063400@estateofhealth.ca
SUMMARY:Urban Poling
DESCRIPTION:It’s simple.–  If you can walk you can urban pole!!!  Why not join Urban Poling Instructor\, Marilyn Farnworth\, for an invigorating walk outside and get some fresh air and sunshine (Vitamin D) at the same time??!! \nUrban Poling/Nordic Walking helps you burn more calories\, engages your core muscles and your upper body\, while reducing impact on your lower joints and enhancing your body’s natural fat burning capabilities.  \nWalking with urban poles gives you more than 1800 ab contractions per mile walked and increases your caloric output up to 45% over regular walking.  It uses 90% of your muscles including chest\, upper body core and arms\, especially your triceps. It also improves your posture. Why not maximize your time??!!—30 minutes of urban poling equals 50 minutes of walking. \nThe unique strapless ergonomic handle design combined with the proper Rutlin Technique will help you reach your weight loss and fitness goals faster\, easier and with less effort. \nClasses will incorporate proper technique\, warm ups and cool downs with the poles and stimulating walks outside.  Make sure you dress appropriately for the weather\, wear comfortable walking shoes\, suntan lotion\, and bring your water bottle. Urban poles will be supplied free of charge for the classes but will also be made available for sale.
URL:https://estateofhealth.ca/event/urban-poling/
LOCATION:Estate of Health\, 101 Mill Street West\, Kingsville\, Ontario\, N9Y 1W4\, Canada
CATEGORIES:Community Events,Special Class
ATTACH;FMTTYPE=image/png:https://estateofhealth.ca/wp-content/uploads/2026/04/Urban-Polling.png
END:VEVENT
BEGIN:VEVENT
DTSTART;TZID=America/Halifax:20260509T140000
DTEND;TZID=America/Halifax:20260509T153000
DTSTAMP:20260423T203349
CREATED:20260312T202714Z
LAST-MODIFIED:20260312T204152Z
UID:10010130-1778335200-1778340600@estateofhealth.ca
SUMMARY:The Mother Earth Ritual: A Spring Awakening
DESCRIPTION:Sarah Papps invites you to step into a living sanctuary where the resilience of the earth meets the magic of the forest. In this 90-minute immersive ritual\, we move beyond the surface to “root” the spirit and “bloom” the skin\, utilizing the succulent power of Stone Crop and the ethereal hydration of Snow Mushroom. \nThis journey features the cutting-edge Advanced Care Tetrapeptide Lifting Gel and the professional-grade Camilia Glow Solid Face Oil to physically lift and redefine your features. From the rhythmic release of EFT Tapping to a guided forest meditation that centers the soul while your botanical mask works its magic\, this ritual is a profound return to your natural state of glow. We conclude with a self-guided Manual Sculpting Massage that proves the power of transformation is literally in your hands. Join us at our communal forest table to shed the weight of the old season and mist yourself in the medicine of the new—because like Mother Nature herself\, your only true work is to begin again.
URL:https://estateofhealth.ca/event/the-mother-earth-ritual-a-spring-awakening/
LOCATION:Estate of Health\, 101 Mill Street West\, Kingsville\, Ontario\, N9Y 1W4\, Canada
CATEGORIES:Special Class,Workshops
ATTACH;FMTTYPE=image/png:https://estateofhealth.ca/wp-content/uploads/2026/03/Mother-Earth-Facial-WS-FB.png
END:VEVENT
BEGIN:VEVENT
DTSTART;TZID=America/Halifax:20261024T100000
DTEND;TZID=America/Halifax:20261024T180000
DTSTAMP:20260423T203349
CREATED:20250808T210901Z
LAST-MODIFIED:20260305T221252Z
UID:10010113-1792836000-1792864800@estateofhealth.ca
SUMMARY:Shamanism and the Spirits of Nature Training
DESCRIPTION:From ancient times\, shamans have worked with the spirits of nature for healing\, survival\, and knowledge. By learning from the plants and animals\, from the rocks and mountains\, from the winds and waters\, and from the sun\, moon\, and stars\, shamans helped their peoples live in harmony with the universe. \nIn a world now out of balance\, the way of the shaman can teach how to again respect nature\, our Earth\, and its inhabitants at a deep spiritual level. As our ancestors everywhere once knew\, our survival depends on the survival of the other species. By working together intensively through shamanic journeys and other spiritual experiences\, we will dedicate ourselves to working in both non-ordinary and ordinary reality to restore and maintain a living planet. \nThis is a two-day workshop combining educational content and experiential learning. Friend of the Estate\, Bob Ulicny will be hosting this workshop\, and will be taking registration directly. Please email bob@shamanichealingpath.com to register.
URL:https://estateofhealth.ca/event/shamanism-and-the-spirits-of-nature-training/2026-10-24/
LOCATION:Estate of Health\, 101 Mill Street West\, Kingsville\, Ontario\, N9Y 1W4\, Canada
CATEGORIES:Shamanism,Special Class,Training,Workshops
END:VEVENT
BEGIN:VEVENT
DTSTART;TZID=America/Halifax:20261025T100000
DTEND;TZID=America/Halifax:20261025T180000
DTSTAMP:20260423T203349
CREATED:20250808T210901Z
LAST-MODIFIED:20260305T221252Z
UID:10010114-1792922400-1792951200@estateofhealth.ca
SUMMARY:Shamanism and the Spirits of Nature Training
DESCRIPTION:From ancient times\, shamans have worked with the spirits of nature for healing\, survival\, and knowledge. By learning from the plants and animals\, from the rocks and mountains\, from the winds and waters\, and from the sun\, moon\, and stars\, shamans helped their peoples live in harmony with the universe. \nIn a world now out of balance\, the way of the shaman can teach how to again respect nature\, our Earth\, and its inhabitants at a deep spiritual level. As our ancestors everywhere once knew\, our survival depends on the survival of the other species. By working together intensively through shamanic journeys and other spiritual experiences\, we will dedicate ourselves to working in both non-ordinary and ordinary reality to restore and maintain a living planet. \nThis is a two-day workshop combining educational content and experiential learning. Friend of the Estate\, Bob Ulicny will be hosting this workshop\, and will be taking registration directly. Please email bob@shamanichealingpath.com to register.
URL:https://estateofhealth.ca/event/shamanism-and-the-spirits-of-nature-training/2026-10-25/
LOCATION:Estate of Health\, 101 Mill Street West\, Kingsville\, Ontario\, N9Y 1W4\, Canada
CATEGORIES:Shamanism,Special Class,Training,Workshops
END:VEVENT
BEGIN:VEVENT
DTSTART;TZID=America/Halifax:20261114T090000
DTEND;TZID=America/Halifax:20261114T170000
DTSTAMP:20260423T203349
CREATED:20250205T003658Z
LAST-MODIFIED:20260129T212914Z
UID:10009979-1794646800-1794675600@estateofhealth.ca
SUMMARY:Reiki Level Three Training
DESCRIPTION:Reiki Trainings at Estate of Health\nJoin us for a transformative journey through the healing art of Reiki\, guided by Master Teachers Janice Mullins & Jordan Scott. Each level of Reiki training offers a deepening connection to universal energy\, personal healing\, and the ability to support others on their path to well-being.\n\nReiki Level Three (Master Level) – Step into the role of a Reiki Master\, deepening your spiritual practice and refining your ability to guide and teach others. This advanced training includes the Master attunement\, additional symbols\, and techniques for amplifying healing energy. Whether you seek to teach Reiki or expand your personal mastery\, this level supports profound transformation and growth.\n\n\nEach training is held in the serene setting of Estate of Health\, providing a nurturing space for learning\, reflection\, and healing. No prior experience is necessary for Level One\, while Levels Two and Three require completion of the previous level.
URL:https://estateofhealth.ca/event/reiki-level-three-training/2026-11-14/
LOCATION:Ontario
CATEGORIES:Knowledge Series,Seminar,Special Class,Workshops
ATTACH;FMTTYPE=image/png:https://estateofhealth.ca/wp-content/uploads/2025/02/Instagram-Posts-11.png
END:VEVENT
BEGIN:VEVENT
DTSTART;TZID=America/Halifax:20261115T090000
DTEND;TZID=America/Halifax:20261115T170000
DTSTAMP:20260423T203349
CREATED:20250205T003658Z
LAST-MODIFIED:20260129T212914Z
UID:10009980-1794733200-1794762000@estateofhealth.ca
SUMMARY:Reiki Level Three Training
DESCRIPTION:Reiki Trainings at Estate of Health\nJoin us for a transformative journey through the healing art of Reiki\, guided by Master Teachers Janice Mullins & Jordan Scott. Each level of Reiki training offers a deepening connection to universal energy\, personal healing\, and the ability to support others on their path to well-being.\n\nReiki Level Three (Master Level) – Step into the role of a Reiki Master\, deepening your spiritual practice and refining your ability to guide and teach others. This advanced training includes the Master attunement\, additional symbols\, and techniques for amplifying healing energy. Whether you seek to teach Reiki or expand your personal mastery\, this level supports profound transformation and growth.\n\n\nEach training is held in the serene setting of Estate of Health\, providing a nurturing space for learning\, reflection\, and healing. No prior experience is necessary for Level One\, while Levels Two and Three require completion of the previous level.
URL:https://estateofhealth.ca/event/reiki-level-three-training/2026-11-15/
LOCATION:Ontario
CATEGORIES:Knowledge Series,Seminar,Special Class,Workshops
ATTACH;FMTTYPE=image/png:https://estateofhealth.ca/wp-content/uploads/2025/02/Instagram-Posts-11.png
END:VEVENT
END:VCALENDAR