BEGIN:VCALENDAR
VERSION:2.0
PRODID:-//Estate of Health - ECPv6.15.18//NONSGML v1.0//EN
CALSCALE:GREGORIAN
METHOD:PUBLISH
X-ORIGINAL-URL:https://estateofhealth.ca
X-WR-CALDESC:Events for Estate of Health
REFRESH-INTERVAL;VALUE=DURATION:PT1H
X-Robots-Tag:noindex
X-PUBLISHED-TTL:PT1H
BEGIN:VTIMEZONE
TZID:America/Halifax
BEGIN:DAYLIGHT
TZOFFSETFROM:-0400
TZOFFSETTO:-0300
TZNAME:ADT
DTSTART:20250309T060000
END:DAYLIGHT
BEGIN:STANDARD
TZOFFSETFROM:-0300
TZOFFSETTO:-0400
TZNAME:AST
DTSTART:20251102T050000
END:STANDARD
BEGIN:DAYLIGHT
TZOFFSETFROM:-0400
TZOFFSETTO:-0300
TZNAME:ADT
DTSTART:20260308T060000
END:DAYLIGHT
BEGIN:STANDARD
TZOFFSETFROM:-0300
TZOFFSETTO:-0400
TZNAME:AST
DTSTART:20261101T050000
END:STANDARD
BEGIN:DAYLIGHT
TZOFFSETFROM:-0400
TZOFFSETTO:-0300
TZNAME:ADT
DTSTART:20270314T060000
END:DAYLIGHT
BEGIN:STANDARD
TZOFFSETFROM:-0300
TZOFFSETTO:-0400
TZNAME:AST
DTSTART:20271107T050000
END:STANDARD
BEGIN:DAYLIGHT
TZOFFSETFROM:-0400
TZOFFSETTO:-0300
TZNAME:ADT
DTSTART:20280312T060000
END:DAYLIGHT
BEGIN:STANDARD
TZOFFSETFROM:-0300
TZOFFSETTO:-0400
TZNAME:AST
DTSTART:20281105T050000
END:STANDARD
END:VTIMEZONE
BEGIN:VEVENT
DTSTART;TZID=America/Halifax:20260815T100000
DTEND;TZID=America/Halifax:20260815T180000
DTSTAMP:20260423T191849
CREATED:20260305T230401Z
LAST-MODIFIED:20260305T230401Z
UID:10010119-1786788000-1786816800@estateofhealth.ca
SUMMARY:Shamanic Training in Creativity Workshop
DESCRIPTION:Shamanic Training in Creativity Workshop \nHosted by The Foundation for Shamanic Studies® \nDate: Saturday\, August 15th\, and Sunday\, August 16th 2026\nTime: 10:00 am – 6:00 pm\nLocation: Estate of Health\, 101 Mill Street West\, Kingsville\, Ontario\, Canada N9Y 1W4\nFee: $396.85 (HST included)\nOptional Green Heart Lunch: $30+HST – orders must be placed 48 hours prior to the event. Place lunch order here. \nCreativity is so ancient that it is at once fundamental and complex\, even a driving force in our lives. Shamanism brings a fresh approach to Westerners for cultivating their creative potential. In this workshop\, based on years of research\, participants will have the opportunity to enhance their creativity through the practice of shamanic methods. Selected historical and anthropological examples will illustrate connections between shamanism and creative abilities\, and a variety of specific shamanic exercises will be taught that participants can apply to their personal lives. \nPrerequisite \n\nCompletion of The Way of the Shaman® in-person\n\nOR \n\nAll three of the following FSS online workshops:\n\nThe Shamanic Journey: Pathway to Knowledge and Power™\nShamanic Divination in Practice™\nShamanism\, Spirits\, and Healing™\n\n\n\nWhat to Bring \n\nRattle and/or drum\nNotebook and pen for note-taking\nBlindfold\, eye covering\, bandana\, or Mindfold®\nComfortable clothing and warm socks\nBlanket and/or cushion (optional)\nPacked lunch (optional) \n\nWhat to Expect \n\nAll FSS workshops and training programs are experiential\, interactive\, and participatory. They feature instruction and practice with shamanic methodologies\, as well as journeywork\, shamanic drumming\, group sharing\, and small group discussions.\n\nFor more information about Bob\, click here. \nRegister Now: \n\nEmail: Bob@shamanichealingpath.com to secure your spot.\nPayment via e-transfer (include your phone number) or PayPal (no account required).\n\nReserve your spot today and begin your journey into shamanic wisdom!
URL:https://estateofhealth.ca/event/shamanic-training-in-creativity-workshop/2026-08-15/
CATEGORIES:Knowledge Series,Workshops
ATTACH;FMTTYPE=image/png:https://estateofhealth.ca/wp-content/uploads/2026/03/creativity.png
END:VEVENT
BEGIN:VEVENT
DTSTART;TZID=America/Halifax:20260816T100000
DTEND;TZID=America/Halifax:20260816T170000
DTSTAMP:20260423T191849
CREATED:20260305T230401Z
LAST-MODIFIED:20260305T230401Z
UID:10010120-1786874400-1786899600@estateofhealth.ca
SUMMARY:Shamanic Training in Creativity Workshop
DESCRIPTION:Shamanic Training in Creativity Workshop \nHosted by The Foundation for Shamanic Studies® \nDate: Saturday\, August 15th\, and Sunday\, August 16th 2026\nTime: 10:00 am – 6:00 pm\nLocation: Estate of Health\, 101 Mill Street West\, Kingsville\, Ontario\, Canada N9Y 1W4\nFee: $396.85 (HST included)\nOptional Green Heart Lunch: $30+HST – orders must be placed 48 hours prior to the event. Place lunch order here. \nCreativity is so ancient that it is at once fundamental and complex\, even a driving force in our lives. Shamanism brings a fresh approach to Westerners for cultivating their creative potential. In this workshop\, based on years of research\, participants will have the opportunity to enhance their creativity through the practice of shamanic methods. Selected historical and anthropological examples will illustrate connections between shamanism and creative abilities\, and a variety of specific shamanic exercises will be taught that participants can apply to their personal lives. \nPrerequisite \n\nCompletion of The Way of the Shaman® in-person\n\nOR \n\nAll three of the following FSS online workshops:\n\nThe Shamanic Journey: Pathway to Knowledge and Power™\nShamanic Divination in Practice™\nShamanism\, Spirits\, and Healing™\n\n\n\nWhat to Bring \n\nRattle and/or drum\nNotebook and pen for note-taking\nBlindfold\, eye covering\, bandana\, or Mindfold®\nComfortable clothing and warm socks\nBlanket and/or cushion (optional)\nPacked lunch (optional) \n\nWhat to Expect \n\nAll FSS workshops and training programs are experiential\, interactive\, and participatory. They feature instruction and practice with shamanic methodologies\, as well as journeywork\, shamanic drumming\, group sharing\, and small group discussions.\n\nFor more information about Bob\, click here. \nRegister Now: \n\nEmail: Bob@shamanichealingpath.com to secure your spot.\nPayment via e-transfer (include your phone number) or PayPal (no account required).\n\nReserve your spot today and begin your journey into shamanic wisdom!
URL:https://estateofhealth.ca/event/shamanic-training-in-creativity-workshop/2026-08-16/
CATEGORIES:Knowledge Series,Workshops
ATTACH;FMTTYPE=image/png:https://estateofhealth.ca/wp-content/uploads/2026/03/creativity.png
END:VEVENT
BEGIN:VEVENT
DTSTART;TZID=America/Halifax:20260829T140000
DTEND;TZID=America/Halifax:20260829T153000
DTSTAMP:20260423T191849
CREATED:20260405T165056Z
LAST-MODIFIED:20260405T172101Z
UID:10010175-1788012000-1788017400@estateofhealth.ca
SUMMARY:The Inner Wild
DESCRIPTION:The Inner Wild is a nourishing embodied movement experience that invites you to reconnect with yourself through gentle guided exploration\, breath and sensation. It is a way of sensing\, listening and moving through the world where body\, heart\, mind and spirit speak at once. \nThrough Ayla’s creative direction\, you are supported to move in ways that feel natural and intuitive\, allowing self-expression to arise through the body. You are invited to listen inwardly\, follow your own pace and notice what your body needs in each moment\, held within a calm and supportive environment. \nA spacious field of time is held throughout\, guiding you to soften\, unwind and arrive more fully into presence\, with optional sharing in circle and gentle reflection woven into the experience. This practice draws from both Indigenous and non-Indigenous knowledge systems\, including symbolic orientation\, elemental and directional frameworks\, imagery and circle-based practices that support embodied gathering. \nAn invitation into breath\, sensation and shared presence\, this is an open\, accessible practice for all levels with no dance experience necessary. It offers a gentle\, meaningful space to return to the body and come home to The Inner Wild. \nCatch the Whole Series \nThis is the first workshop in a series of four offered by Ayla. Each season we explore deeper into the Inner Wild. \n\nSpring – May 16th 2026\nSummer – August 29th 2026\nAutumn – November 7th 2026\nWinter – February 6th 2027\n\nRegistration is necessary for enrollment in this event. The cost is reduced to $25 for each subsequent workshop.
URL:https://estateofhealth.ca/event/the-inner-wild/2026-08-29/
LOCATION:Estate of Health\, 101 Mill Street West\, Kingsville\, Ontario\, N9Y 1W4\, Canada
CATEGORIES:Workshops
ATTACH;FMTTYPE=image/png:https://estateofhealth.ca/wp-content/uploads/2026/04/The-Inner-Wild-IG-1.png
END:VEVENT
BEGIN:VEVENT
DTSTART;TZID=America/Halifax:20260912T100000
DTEND;TZID=America/Halifax:20260912T180000
DTSTAMP:20260423T191849
CREATED:20250122T231225Z
LAST-MODIFIED:20260305T221950Z
UID:10010115-1789207200-1789236000@estateofhealth.ca
SUMMARY:The Way of the Shaman: Basic Introductory Workshop
DESCRIPTION:The Way of the Shaman: Basic Introductory Workshop \nHosted by The Foundation for Shamanic Studies® \nDate: Saturday\, September 12th\, and Sunday\, September 13th 2026\nTime: 10:00 am – 6:00 pm\nLocation: Estate of Health\, 101 Mill Street West\, Kingsville\, Ontario\, Canada N9Y 1W4\nFee: $396.85 (HST included)\nOptional Green Heart Lunch: $30+HST – orders must be placed 48 hours prior to the event. Place lunch order here. \nDiscover the ancient wisdom of shamanism and unlock transformative tools for personal healing\, spiritual growth\, and empowerment in The Way of the Shaman\, an immersive two-day workshop. \nWhat You’ll Learn: \n\nShamanic Journeying: Explore non-ordinary reality to connect with spirit helpers and animal allies.\nDivination: Learn techniques for receiving spiritual guidance and clarity.\nPower and Healing: Develop tools to maintain personal power and support soul-level healing.\nExperiential Practices: Engage in hands-on shamanic practices and connect deeply with the unseen world.\n\nWhether you’re new to shamanism or seeking to deepen your knowledge\, this workshop offers the foundational skills needed to begin your spiritual journey. Build relationships with spirit allies\, gain practical tools for daily life\, and join a supportive\, like-minded community. \nThis workshop is a prerequisite for advanced shamanic training with The Foundation for Shamanic Studies®. \nFor more information about Bob\, click here. \nRegister Now: \n\nEmail: Bob@shamanichealingpath.com to secure your spot.\nPayment via e-transfer (include your phone number) or PayPal (no account required).\n\nReserve your spot today and begin your journey into shamanic wisdom!
URL:https://estateofhealth.ca/event/foundation-for-shamanic-studies-training-with-bob-ulicny/2026-09-12/
CATEGORIES:Knowledge Series,Workshops
ATTACH;FMTTYPE=image/png:https://estateofhealth.ca/wp-content/uploads/2025/01/Staff-Photos-5.png
END:VEVENT
BEGIN:VEVENT
DTSTART;TZID=America/Halifax:20260913T100000
DTEND;TZID=America/Halifax:20260913T170000
DTSTAMP:20260423T191849
CREATED:20250122T231225Z
LAST-MODIFIED:20260305T221950Z
UID:10010116-1789293600-1789318800@estateofhealth.ca
SUMMARY:The Way of the Shaman: Basic Introductory Workshop
DESCRIPTION:The Way of the Shaman: Basic Introductory Workshop \nHosted by The Foundation for Shamanic Studies® \nDate: Saturday\, September 12th\, and Sunday\, September 13th 2026\nTime: 10:00 am – 6:00 pm\nLocation: Estate of Health\, 101 Mill Street West\, Kingsville\, Ontario\, Canada N9Y 1W4\nFee: $396.85 (HST included)\nOptional Green Heart Lunch: $30+HST – orders must be placed 48 hours prior to the event. Place lunch order here. \nDiscover the ancient wisdom of shamanism and unlock transformative tools for personal healing\, spiritual growth\, and empowerment in The Way of the Shaman\, an immersive two-day workshop. \nWhat You’ll Learn: \n\nShamanic Journeying: Explore non-ordinary reality to connect with spirit helpers and animal allies.\nDivination: Learn techniques for receiving spiritual guidance and clarity.\nPower and Healing: Develop tools to maintain personal power and support soul-level healing.\nExperiential Practices: Engage in hands-on shamanic practices and connect deeply with the unseen world.\n\nWhether you’re new to shamanism or seeking to deepen your knowledge\, this workshop offers the foundational skills needed to begin your spiritual journey. Build relationships with spirit allies\, gain practical tools for daily life\, and join a supportive\, like-minded community. \nThis workshop is a prerequisite for advanced shamanic training with The Foundation for Shamanic Studies®. \nFor more information about Bob\, click here. \nRegister Now: \n\nEmail: Bob@shamanichealingpath.com to secure your spot.\nPayment via e-transfer (include your phone number) or PayPal (no account required).\n\nReserve your spot today and begin your journey into shamanic wisdom!
URL:https://estateofhealth.ca/event/foundation-for-shamanic-studies-training-with-bob-ulicny/2026-09-13/
CATEGORIES:Knowledge Series,Workshops
ATTACH;FMTTYPE=image/png:https://estateofhealth.ca/wp-content/uploads/2025/01/Staff-Photos-5.png
END:VEVENT
BEGIN:VEVENT
DTSTART;TZID=America/Halifax:20261024T100000
DTEND;TZID=America/Halifax:20261024T180000
DTSTAMP:20260423T191849
CREATED:20250808T210901Z
LAST-MODIFIED:20260305T221252Z
UID:10010113-1792836000-1792864800@estateofhealth.ca
SUMMARY:Shamanism and the Spirits of Nature Training
DESCRIPTION:From ancient times\, shamans have worked with the spirits of nature for healing\, survival\, and knowledge. By learning from the plants and animals\, from the rocks and mountains\, from the winds and waters\, and from the sun\, moon\, and stars\, shamans helped their peoples live in harmony with the universe. \nIn a world now out of balance\, the way of the shaman can teach how to again respect nature\, our Earth\, and its inhabitants at a deep spiritual level. As our ancestors everywhere once knew\, our survival depends on the survival of the other species. By working together intensively through shamanic journeys and other spiritual experiences\, we will dedicate ourselves to working in both non-ordinary and ordinary reality to restore and maintain a living planet. \nThis is a two-day workshop combining educational content and experiential learning. Friend of the Estate\, Bob Ulicny will be hosting this workshop\, and will be taking registration directly. Please email bob@shamanichealingpath.com to register.
URL:https://estateofhealth.ca/event/shamanism-and-the-spirits-of-nature-training/2026-10-24/
LOCATION:Estate of Health\, 101 Mill Street West\, Kingsville\, Ontario\, N9Y 1W4\, Canada
CATEGORIES:Shamanism,Special Class,Training,Workshops
END:VEVENT
BEGIN:VEVENT
DTSTART;TZID=America/Halifax:20261025T100000
DTEND;TZID=America/Halifax:20261025T180000
DTSTAMP:20260423T191849
CREATED:20250808T210901Z
LAST-MODIFIED:20260305T221252Z
UID:10010114-1792922400-1792951200@estateofhealth.ca
SUMMARY:Shamanism and the Spirits of Nature Training
DESCRIPTION:From ancient times\, shamans have worked with the spirits of nature for healing\, survival\, and knowledge. By learning from the plants and animals\, from the rocks and mountains\, from the winds and waters\, and from the sun\, moon\, and stars\, shamans helped their peoples live in harmony with the universe. \nIn a world now out of balance\, the way of the shaman can teach how to again respect nature\, our Earth\, and its inhabitants at a deep spiritual level. As our ancestors everywhere once knew\, our survival depends on the survival of the other species. By working together intensively through shamanic journeys and other spiritual experiences\, we will dedicate ourselves to working in both non-ordinary and ordinary reality to restore and maintain a living planet. \nThis is a two-day workshop combining educational content and experiential learning. Friend of the Estate\, Bob Ulicny will be hosting this workshop\, and will be taking registration directly. Please email bob@shamanichealingpath.com to register.
URL:https://estateofhealth.ca/event/shamanism-and-the-spirits-of-nature-training/2026-10-25/
LOCATION:Estate of Health\, 101 Mill Street West\, Kingsville\, Ontario\, N9Y 1W4\, Canada
CATEGORIES:Shamanism,Special Class,Training,Workshops
END:VEVENT
BEGIN:VEVENT
DTSTART;TZID=America/Halifax:20261107T140000
DTEND;TZID=America/Halifax:20261107T153000
DTSTAMP:20260423T191849
CREATED:20260405T165056Z
LAST-MODIFIED:20260405T172101Z
UID:10010176-1794060000-1794065400@estateofhealth.ca
SUMMARY:The Inner Wild
DESCRIPTION:The Inner Wild is a nourishing embodied movement experience that invites you to reconnect with yourself through gentle guided exploration\, breath and sensation. It is a way of sensing\, listening and moving through the world where body\, heart\, mind and spirit speak at once. \nThrough Ayla’s creative direction\, you are supported to move in ways that feel natural and intuitive\, allowing self-expression to arise through the body. You are invited to listen inwardly\, follow your own pace and notice what your body needs in each moment\, held within a calm and supportive environment. \nA spacious field of time is held throughout\, guiding you to soften\, unwind and arrive more fully into presence\, with optional sharing in circle and gentle reflection woven into the experience. This practice draws from both Indigenous and non-Indigenous knowledge systems\, including symbolic orientation\, elemental and directional frameworks\, imagery and circle-based practices that support embodied gathering. \nAn invitation into breath\, sensation and shared presence\, this is an open\, accessible practice for all levels with no dance experience necessary. It offers a gentle\, meaningful space to return to the body and come home to The Inner Wild. \nCatch the Whole Series \nThis is the first workshop in a series of four offered by Ayla. Each season we explore deeper into the Inner Wild. \n\nSpring – May 16th 2026\nSummer – August 29th 2026\nAutumn – November 7th 2026\nWinter – February 6th 2027\n\nRegistration is necessary for enrollment in this event. The cost is reduced to $25 for each subsequent workshop.
URL:https://estateofhealth.ca/event/the-inner-wild/2026-11-07/
LOCATION:Estate of Health\, 101 Mill Street West\, Kingsville\, Ontario\, N9Y 1W4\, Canada
CATEGORIES:Workshops
ATTACH;FMTTYPE=image/png:https://estateofhealth.ca/wp-content/uploads/2026/04/The-Inner-Wild-IG-1.png
END:VEVENT
BEGIN:VEVENT
DTSTART;TZID=America/Halifax:20261114T090000
DTEND;TZID=America/Halifax:20261114T170000
DTSTAMP:20260423T191849
CREATED:20250205T003658Z
LAST-MODIFIED:20260129T212914Z
UID:10009979-1794646800-1794675600@estateofhealth.ca
SUMMARY:Reiki Level Three Training
DESCRIPTION:Reiki Trainings at Estate of Health\nJoin us for a transformative journey through the healing art of Reiki\, guided by Master Teachers Janice Mullins & Jordan Scott. Each level of Reiki training offers a deepening connection to universal energy\, personal healing\, and the ability to support others on their path to well-being.\n\nReiki Level Three (Master Level) – Step into the role of a Reiki Master\, deepening your spiritual practice and refining your ability to guide and teach others. This advanced training includes the Master attunement\, additional symbols\, and techniques for amplifying healing energy. Whether you seek to teach Reiki or expand your personal mastery\, this level supports profound transformation and growth.\n\n\nEach training is held in the serene setting of Estate of Health\, providing a nurturing space for learning\, reflection\, and healing. No prior experience is necessary for Level One\, while Levels Two and Three require completion of the previous level.
URL:https://estateofhealth.ca/event/reiki-level-three-training/2026-11-14/
CATEGORIES:Knowledge Series,Seminar,Special Class,Workshops
ATTACH;FMTTYPE=image/png:https://estateofhealth.ca/wp-content/uploads/2025/02/Instagram-Posts-11.png
END:VEVENT
BEGIN:VEVENT
DTSTART;TZID=America/Halifax:20261115T090000
DTEND;TZID=America/Halifax:20261115T170000
DTSTAMP:20260423T191849
CREATED:20250205T003658Z
LAST-MODIFIED:20260129T212914Z
UID:10009980-1794733200-1794762000@estateofhealth.ca
SUMMARY:Reiki Level Three Training
DESCRIPTION:Reiki Trainings at Estate of Health\nJoin us for a transformative journey through the healing art of Reiki\, guided by Master Teachers Janice Mullins & Jordan Scott. Each level of Reiki training offers a deepening connection to universal energy\, personal healing\, and the ability to support others on their path to well-being.\n\nReiki Level Three (Master Level) – Step into the role of a Reiki Master\, deepening your spiritual practice and refining your ability to guide and teach others. This advanced training includes the Master attunement\, additional symbols\, and techniques for amplifying healing energy. Whether you seek to teach Reiki or expand your personal mastery\, this level supports profound transformation and growth.\n\n\nEach training is held in the serene setting of Estate of Health\, providing a nurturing space for learning\, reflection\, and healing. No prior experience is necessary for Level One\, while Levels Two and Three require completion of the previous level.
URL:https://estateofhealth.ca/event/reiki-level-three-training/2026-11-15/
CATEGORIES:Knowledge Series,Seminar,Special Class,Workshops
ATTACH;FMTTYPE=image/png:https://estateofhealth.ca/wp-content/uploads/2025/02/Instagram-Posts-11.png
END:VEVENT
BEGIN:VEVENT
DTSTART;TZID=America/Halifax:20270206T140000
DTEND;TZID=America/Halifax:20270206T153000
DTSTAMP:20260423T191849
CREATED:20260405T165056Z
LAST-MODIFIED:20260405T172101Z
UID:10010177-1801922400-1801927800@estateofhealth.ca
SUMMARY:The Inner Wild
DESCRIPTION:The Inner Wild is a nourishing embodied movement experience that invites you to reconnect with yourself through gentle guided exploration\, breath and sensation. It is a way of sensing\, listening and moving through the world where body\, heart\, mind and spirit speak at once. \nThrough Ayla’s creative direction\, you are supported to move in ways that feel natural and intuitive\, allowing self-expression to arise through the body. You are invited to listen inwardly\, follow your own pace and notice what your body needs in each moment\, held within a calm and supportive environment. \nA spacious field of time is held throughout\, guiding you to soften\, unwind and arrive more fully into presence\, with optional sharing in circle and gentle reflection woven into the experience. This practice draws from both Indigenous and non-Indigenous knowledge systems\, including symbolic orientation\, elemental and directional frameworks\, imagery and circle-based practices that support embodied gathering. \nAn invitation into breath\, sensation and shared presence\, this is an open\, accessible practice for all levels with no dance experience necessary. It offers a gentle\, meaningful space to return to the body and come home to The Inner Wild. \nCatch the Whole Series \nThis is the first workshop in a series of four offered by Ayla. Each season we explore deeper into the Inner Wild. \n\nSpring – May 16th 2026\nSummer – August 29th 2026\nAutumn – November 7th 2026\nWinter – February 6th 2027\n\nRegistration is necessary for enrollment in this event. The cost is reduced to $25 for each subsequent workshop.
URL:https://estateofhealth.ca/event/the-inner-wild/2027-02-06/
LOCATION:Estate of Health\, 101 Mill Street West\, Kingsville\, Ontario\, N9Y 1W4\, Canada
CATEGORIES:Workshops
ATTACH;FMTTYPE=image/png:https://estateofhealth.ca/wp-content/uploads/2026/04/The-Inner-Wild-IG-1.png
END:VEVENT
END:VCALENDAR