BEGIN:VCALENDAR
VERSION:2.0
PRODID:-//Estate of Health - ECPv6.15.18//NONSGML v1.0//EN
CALSCALE:GREGORIAN
METHOD:PUBLISH
X-WR-CALNAME:Estate of Health
X-ORIGINAL-URL:https://estateofhealth.ca
X-WR-CALDESC:Events for Estate of Health
REFRESH-INTERVAL;VALUE=DURATION:PT1H
X-Robots-Tag:noindex
X-PUBLISHED-TTL:PT1H
BEGIN:VTIMEZONE
TZID:America/Halifax
BEGIN:DAYLIGHT
TZOFFSETFROM:-0400
TZOFFSETTO:-0300
TZNAME:ADT
DTSTART:20250309T060000
END:DAYLIGHT
BEGIN:STANDARD
TZOFFSETFROM:-0300
TZOFFSETTO:-0400
TZNAME:AST
DTSTART:20251102T050000
END:STANDARD
BEGIN:DAYLIGHT
TZOFFSETFROM:-0400
TZOFFSETTO:-0300
TZNAME:ADT
DTSTART:20260308T060000
END:DAYLIGHT
BEGIN:STANDARD
TZOFFSETFROM:-0300
TZOFFSETTO:-0400
TZNAME:AST
DTSTART:20261101T050000
END:STANDARD
BEGIN:DAYLIGHT
TZOFFSETFROM:-0400
TZOFFSETTO:-0300
TZNAME:ADT
DTSTART:20270314T060000
END:DAYLIGHT
BEGIN:STANDARD
TZOFFSETFROM:-0300
TZOFFSETTO:-0400
TZNAME:AST
DTSTART:20271107T050000
END:STANDARD
END:VTIMEZONE
BEGIN:VEVENT
DTSTART;TZID=America/Halifax:20260214T170000
DTEND;TZID=America/Halifax:20260214T183000
DTSTAMP:20260423T204901
CREATED:20250115T002400Z
LAST-MODIFIED:20260115T192251Z
UID:10002992-1771088400-1771093800@estateofhealth.ca
SUMMARY:Partner Stretch & Massage
DESCRIPTION:Bring your partner (friend\, mom\, spouse\, sibling etc.) out for a fun\, feel good night! Learn how to help each other release tension and feel better using partner stretches and simple massage techniques. Cultivate closeness through caring communication as you explore various partner stretches and massage techniques. Practice with our signature Warming Massage oil blend\, and take a mini bottle home! (price is per couple)
URL:https://estateofhealth.ca/event/partner-stretch-massage-with-jordan-amber/
LOCATION:Ontario
CATEGORIES:Special Class,Workshops,Yoga Class
ATTACH;FMTTYPE=image/png:https://estateofhealth.ca/wp-content/uploads/2025/01/YOGA-CLASS-2.png
END:VEVENT
END:VCALENDAR