BEGIN:VCALENDAR
VERSION:2.0
PRODID:-//Estate of Health - ECPv6.15.18//NONSGML v1.0//EN
CALSCALE:GREGORIAN
METHOD:PUBLISH
X-ORIGINAL-URL:https://estateofhealth.ca
X-WR-CALDESC:Events for Estate of Health
REFRESH-INTERVAL;VALUE=DURATION:PT1H
X-Robots-Tag:noindex
X-PUBLISHED-TTL:PT1H
BEGIN:VTIMEZONE
TZID:America/Halifax
BEGIN:DAYLIGHT
TZOFFSETFROM:-0400
TZOFFSETTO:-0300
TZNAME:ADT
DTSTART:20250309T060000
END:DAYLIGHT
BEGIN:STANDARD
TZOFFSETFROM:-0300
TZOFFSETTO:-0400
TZNAME:AST
DTSTART:20251102T050000
END:STANDARD
BEGIN:DAYLIGHT
TZOFFSETFROM:-0400
TZOFFSETTO:-0300
TZNAME:ADT
DTSTART:20260308T060000
END:DAYLIGHT
BEGIN:STANDARD
TZOFFSETFROM:-0300
TZOFFSETTO:-0400
TZNAME:AST
DTSTART:20261101T050000
END:STANDARD
BEGIN:DAYLIGHT
TZOFFSETFROM:-0400
TZOFFSETTO:-0300
TZNAME:ADT
DTSTART:20270314T060000
END:DAYLIGHT
BEGIN:STANDARD
TZOFFSETFROM:-0300
TZOFFSETTO:-0400
TZNAME:AST
DTSTART:20271107T050000
END:STANDARD
END:VTIMEZONE
BEGIN:VEVENT
DTSTART;TZID=America/Halifax:20260621T100000
DTEND;TZID=America/Halifax:20260621T170000
DTSTAMP:20260424T035224
CREATED:20260305T230856Z
LAST-MODIFIED:20260305T230856Z
UID:10010124-1782036000-1782061200@estateofhealth.ca
SUMMARY:Shamanic Dreamwork
DESCRIPTION:Shamanic Dreamwork Workshop \nHosted by The Foundation for Shamanic Studies® \nDate: Saturday\, June 20th\, and Sunday\, June 21st 2026\nTime: 10:00 am – 6:00 pm\nLocation: Estate of Health\, 101 Mill Street West\, Kingsville\, Ontario\, Canada N9Y 1W4\nFee: $396.85 (HST included)\nOptional Green Heart Lunch: $30+HST – orders must be placed 48 hours prior to the event. Place lunch order here. \nIn this unique experiential workshop\, you will have the opportunity to explore the nature\, meaning\, and use of dreams among shamanic peoples\, with dreamwork practices from a range of cultures. Researched and developed by Michael Harner\, subjects to be covered include shamanic dream theory and big dreams\, as well as dreams and the soul\, spirits\, shamanic journeys\, the Dreamtime\, and the vision quest. You will have the opportunity to apply the knowledge to contemporary life\, including the use of dreams in divination\, health\, and healing. \nPrerequisite \n\nCompletion of The Way of the Shaman® in-person\n\nOR \n\nAll three of the following FSS online workshops:\n\nThe Shamanic Journey: Pathway to Knowledge and Power™\nShamanic Divination in Practice™\nShamanism\, Spirits\, and Healing™\n\n\n\nWhat to Bring \n\nRattle and/or drum\nNotebook and pen for note-taking\nBlindfold\, eye covering\, bandana\, or Mindfold®\nComfortable clothing and warm socks\nBlanket and/or cushion (optional)\nPacked lunch (optional) \n\nWhat to Expect \n\nAll FSS workshops and training programs are experiential\, interactive\, and participatory. They feature instruction and practice with shamanic methodologies\, as well as journeywork\, shamanic drumming\, group sharing\, and small group discussions.\n\nFor more information about Bob\, click here. \nRegister Now: \n\nEmail: Bob@shamanichealingpath.com to secure your spot.\nPayment via e-transfer (include your phone number) or PayPal (no account required).\n\nReserve your spot today and begin your journey into shamanic wisdom!
URL:https://estateofhealth.ca/event/shamanic-dreamwork/2026-06-21/
LOCATION:Ontario
CATEGORIES:Knowledge Series,Workshops
ATTACH;FMTTYPE=image/png:https://estateofhealth.ca/wp-content/uploads/2026/03/Dreamwork.png
END:VEVENT
BEGIN:VEVENT
DTSTART;TZID=America/Halifax:20260627T140000
DTEND;TZID=America/Halifax:20260627T170000
DTSTAMP:20260424T035224
CREATED:20260405T174233Z
LAST-MODIFIED:20260409T181333Z
UID:10010179-1782568800-1782579600@estateofhealth.ca
SUMMARY:Play * Paint * Passion
DESCRIPTION:This is an opportunity to experience a wabi sabi approach to creativity/art making and living mindfully. \nWabi Sabi is a philosophy on life and art that is centered on finding beauty in imperfection\, in simplicity\, in the authentic and in nature. It values the handmade and the unique. It nurtures and embraces mindful living\, gratitude\, focusing on the gift of the present and wisdom that develops with the patina of time and through use\, wear and the influence of the natural elements. \nThese events are playful\, freeing experiential journeys with your creativity that focus on the feeling of being mindfully present in the moment while embracing an expansive creative process rather than on the outcome or end product. Therefore\, whether you are a complete beginner to art making\, an experienced professional artist\, are somewhere in the middle\, or have participated in Pam’s events previously\, it is all okay. \nWhen we approach art making with a beginner’s mind there is always something new to discover. Please join us! \nCatch the Whole Series \nSaturday June 13th & Saturday June 27th 2 – 5 PM \nIf you are attending both events you will receive 15% off the second one. \n*Note* Weather permitting\, some creative time will be spent outside in nature\, on the ground of Estate of Health.
URL:https://estateofhealth.ca/event/play-paint-passion/2026-06-27/
LOCATION:Estate of Health\, 101 Mill Street West\, Kingsville\, Ontario\, N9Y 1W4\, Canada
CATEGORIES:Art,Workshops
ATTACH;FMTTYPE=image/png:https://estateofhealth.ca/wp-content/uploads/2026/04/Play-Paint-Passion-IG.png
END:VEVENT
END:VCALENDAR