BEGIN:VCALENDAR
VERSION:2.0
PRODID:-//Estate of Health - ECPv6.15.18//NONSGML v1.0//EN
CALSCALE:GREGORIAN
METHOD:PUBLISH
X-ORIGINAL-URL:https://estateofhealth.ca
X-WR-CALDESC:Events for Estate of Health
REFRESH-INTERVAL;VALUE=DURATION:PT1H
X-Robots-Tag:noindex
X-PUBLISHED-TTL:PT1H
BEGIN:VTIMEZONE
TZID:America/Halifax
BEGIN:DAYLIGHT
TZOFFSETFROM:-0400
TZOFFSETTO:-0300
TZNAME:ADT
DTSTART:20250309T060000
END:DAYLIGHT
BEGIN:STANDARD
TZOFFSETFROM:-0300
TZOFFSETTO:-0400
TZNAME:AST
DTSTART:20251102T050000
END:STANDARD
BEGIN:DAYLIGHT
TZOFFSETFROM:-0400
TZOFFSETTO:-0300
TZNAME:ADT
DTSTART:20260308T060000
END:DAYLIGHT
BEGIN:STANDARD
TZOFFSETFROM:-0300
TZOFFSETTO:-0400
TZNAME:AST
DTSTART:20261101T050000
END:STANDARD
BEGIN:DAYLIGHT
TZOFFSETFROM:-0400
TZOFFSETTO:-0300
TZNAME:ADT
DTSTART:20270314T060000
END:DAYLIGHT
BEGIN:STANDARD
TZOFFSETFROM:-0300
TZOFFSETTO:-0400
TZNAME:AST
DTSTART:20271107T050000
END:STANDARD
END:VTIMEZONE
BEGIN:VEVENT
DTSTART;TZID=America/Halifax:20260603T190000
DTEND;TZID=America/Halifax:20260603T201500
DTSTAMP:20260423T192151
CREATED:20260127T223940Z
LAST-MODIFIED:20260310T145903Z
UID:10009923-1780513200-1780517700@estateofhealth.ca
SUMMARY:Yin & Yang Yoga
DESCRIPTION:In this 75-minute\, all-levels class\, we explore the principles of Yin and Yang through meditation\, breathwork and movement. Participants can expect to work on strength\, stability and physical/mental spaciousness\, along with the stillness and focus of Yin Yoga\, applying the principles of TCM Meridian Theory and working with the body’s fascial system.
URL:https://estateofhealth.ca/event/yin-yang-yoga/2026-06-03/
LOCATION:Estate of Health\, 101 Mill Street West\, Kingsville\, Ontario\, N9Y 1W4\, Canada
CATEGORIES:Yoga Class
ATTACH;FMTTYPE=image/png:https://estateofhealth.ca/wp-content/uploads/2026/01/Chair-Yoga-1.png
END:VEVENT
BEGIN:VEVENT
DTSTART;TZID=America/Halifax:20260604T090000
DTEND;TZID=America/Halifax:20260604T100000
DTSTAMP:20260423T192151
CREATED:20260127T222600Z
LAST-MODIFIED:20260310T150028Z
UID:10009854-1780563600-1780567200@estateofhealth.ca
SUMMARY:Chair Yoga with Katera
DESCRIPTION:This class is for anyone who wants to try Yoga but is limited getting up and down from the floor. We use a chair to support the body both sitting and standing. Inspired by Yoga\, Pilates and functional movement practices\, this is the perfect class to help maintain (or even build) flexibility; gain confidence in standing balance; maintain muscle mass; support bone health; and\, have fun and connect with other community members! This class is accessible to all!
URL:https://estateofhealth.ca/event/chair-yoga-with-katera/2026-06-04/
LOCATION:Estate of Health\, 101 Mill Street West\, Kingsville\, Ontario\, N9Y 1W4\, Canada
CATEGORIES:Yoga Class
ATTACH;FMTTYPE=image/png:https://estateofhealth.ca/wp-content/uploads/2026/01/Chair-Yoga.png
END:VEVENT
BEGIN:VEVENT
DTSTART;TZID=America/Halifax:20260609T100000
DTEND;TZID=America/Halifax:20260609T110000
DTSTAMP:20260423T192151
CREATED:20260117T230700Z
LAST-MODIFIED:20260310T144957Z
UID:10009805-1780999200-1781002800@estateofhealth.ca
SUMMARY:Restorative Flow
DESCRIPTION:Restore and more… in this class we will discover the restorative power of movement balanced with breath and stillness to maintain health\, strength and an overall feeling of well being. This class uses a combination of gentle yoga and pilates movements to support the body’s natural alignment. Complimented by breathwork\, meditation and practices to assist deep relaxation\, this class offers rejuvenation to support the mind and uncover your true spirit. Let’s embark on this journey together!
URL:https://estateofhealth.ca/event/restorative-flow/2026-06-09/
LOCATION:Estate of Health\, 101 Mill Street West\, Kingsville\, Ontario\, N9Y 1W4\, Canada
CATEGORIES:Yoga Class
ATTACH;FMTTYPE=image/png:https://estateofhealth.ca/wp-content/uploads/2026/01/Shamanic-Sound-Healing-Journey-1.png
END:VEVENT
BEGIN:VEVENT
DTSTART;TZID=America/Halifax:20260610T190000
DTEND;TZID=America/Halifax:20260610T201500
DTSTAMP:20260423T192151
CREATED:20260127T223940Z
LAST-MODIFIED:20260310T145903Z
UID:10009924-1781118000-1781122500@estateofhealth.ca
SUMMARY:Yin & Yang Yoga
DESCRIPTION:In this 75-minute\, all-levels class\, we explore the principles of Yin and Yang through meditation\, breathwork and movement. Participants can expect to work on strength\, stability and physical/mental spaciousness\, along with the stillness and focus of Yin Yoga\, applying the principles of TCM Meridian Theory and working with the body’s fascial system.
URL:https://estateofhealth.ca/event/yin-yang-yoga/2026-06-10/
LOCATION:Estate of Health\, 101 Mill Street West\, Kingsville\, Ontario\, N9Y 1W4\, Canada
CATEGORIES:Yoga Class
ATTACH;FMTTYPE=image/png:https://estateofhealth.ca/wp-content/uploads/2026/01/Chair-Yoga-1.png
END:VEVENT
BEGIN:VEVENT
DTSTART;TZID=America/Halifax:20260611T090000
DTEND;TZID=America/Halifax:20260611T100000
DTSTAMP:20260423T192151
CREATED:20260127T222600Z
LAST-MODIFIED:20260310T150028Z
UID:10009855-1781168400-1781172000@estateofhealth.ca
SUMMARY:Chair Yoga with Katera
DESCRIPTION:This class is for anyone who wants to try Yoga but is limited getting up and down from the floor. We use a chair to support the body both sitting and standing. Inspired by Yoga\, Pilates and functional movement practices\, this is the perfect class to help maintain (or even build) flexibility; gain confidence in standing balance; maintain muscle mass; support bone health; and\, have fun and connect with other community members! This class is accessible to all!
URL:https://estateofhealth.ca/event/chair-yoga-with-katera/2026-06-11/
LOCATION:Estate of Health\, 101 Mill Street West\, Kingsville\, Ontario\, N9Y 1W4\, Canada
CATEGORIES:Yoga Class
ATTACH;FMTTYPE=image/png:https://estateofhealth.ca/wp-content/uploads/2026/01/Chair-Yoga.png
END:VEVENT
BEGIN:VEVENT
DTSTART;TZID=America/Halifax:20260616T100000
DTEND;TZID=America/Halifax:20260616T110000
DTSTAMP:20260423T192151
CREATED:20260117T230700Z
LAST-MODIFIED:20260310T144957Z
UID:10009806-1781604000-1781607600@estateofhealth.ca
SUMMARY:Restorative Flow
DESCRIPTION:Restore and more… in this class we will discover the restorative power of movement balanced with breath and stillness to maintain health\, strength and an overall feeling of well being. This class uses a combination of gentle yoga and pilates movements to support the body’s natural alignment. Complimented by breathwork\, meditation and practices to assist deep relaxation\, this class offers rejuvenation to support the mind and uncover your true spirit. Let’s embark on this journey together!
URL:https://estateofhealth.ca/event/restorative-flow/2026-06-16/
LOCATION:Estate of Health\, 101 Mill Street West\, Kingsville\, Ontario\, N9Y 1W4\, Canada
CATEGORIES:Yoga Class
ATTACH;FMTTYPE=image/png:https://estateofhealth.ca/wp-content/uploads/2026/01/Shamanic-Sound-Healing-Journey-1.png
END:VEVENT
BEGIN:VEVENT
DTSTART;TZID=America/Halifax:20260617T190000
DTEND;TZID=America/Halifax:20260617T201500
DTSTAMP:20260423T192151
CREATED:20260127T223940Z
LAST-MODIFIED:20260310T145903Z
UID:10009925-1781722800-1781727300@estateofhealth.ca
SUMMARY:Yin & Yang Yoga
DESCRIPTION:In this 75-minute\, all-levels class\, we explore the principles of Yin and Yang through meditation\, breathwork and movement. Participants can expect to work on strength\, stability and physical/mental spaciousness\, along with the stillness and focus of Yin Yoga\, applying the principles of TCM Meridian Theory and working with the body’s fascial system.
URL:https://estateofhealth.ca/event/yin-yang-yoga/2026-06-17/
LOCATION:Estate of Health\, 101 Mill Street West\, Kingsville\, Ontario\, N9Y 1W4\, Canada
CATEGORIES:Yoga Class
ATTACH;FMTTYPE=image/png:https://estateofhealth.ca/wp-content/uploads/2026/01/Chair-Yoga-1.png
END:VEVENT
BEGIN:VEVENT
DTSTART;TZID=America/Halifax:20260618T090000
DTEND;TZID=America/Halifax:20260618T100000
DTSTAMP:20260423T192151
CREATED:20260127T222600Z
LAST-MODIFIED:20260310T150028Z
UID:10009856-1781773200-1781776800@estateofhealth.ca
SUMMARY:Chair Yoga with Katera
DESCRIPTION:This class is for anyone who wants to try Yoga but is limited getting up and down from the floor. We use a chair to support the body both sitting and standing. Inspired by Yoga\, Pilates and functional movement practices\, this is the perfect class to help maintain (or even build) flexibility; gain confidence in standing balance; maintain muscle mass; support bone health; and\, have fun and connect with other community members! This class is accessible to all!
URL:https://estateofhealth.ca/event/chair-yoga-with-katera/2026-06-18/
LOCATION:Estate of Health\, 101 Mill Street West\, Kingsville\, Ontario\, N9Y 1W4\, Canada
CATEGORIES:Yoga Class
ATTACH;FMTTYPE=image/png:https://estateofhealth.ca/wp-content/uploads/2026/01/Chair-Yoga.png
END:VEVENT
BEGIN:VEVENT
DTSTART;TZID=America/Halifax:20260623T100000
DTEND;TZID=America/Halifax:20260623T110000
DTSTAMP:20260423T192151
CREATED:20260117T230700Z
LAST-MODIFIED:20260310T144957Z
UID:10009807-1782208800-1782212400@estateofhealth.ca
SUMMARY:Restorative Flow
DESCRIPTION:Restore and more… in this class we will discover the restorative power of movement balanced with breath and stillness to maintain health\, strength and an overall feeling of well being. This class uses a combination of gentle yoga and pilates movements to support the body’s natural alignment. Complimented by breathwork\, meditation and practices to assist deep relaxation\, this class offers rejuvenation to support the mind and uncover your true spirit. Let’s embark on this journey together!
URL:https://estateofhealth.ca/event/restorative-flow/2026-06-23/
LOCATION:Estate of Health\, 101 Mill Street West\, Kingsville\, Ontario\, N9Y 1W4\, Canada
CATEGORIES:Yoga Class
ATTACH;FMTTYPE=image/png:https://estateofhealth.ca/wp-content/uploads/2026/01/Shamanic-Sound-Healing-Journey-1.png
END:VEVENT
BEGIN:VEVENT
DTSTART;TZID=America/Halifax:20260624T190000
DTEND;TZID=America/Halifax:20260624T201500
DTSTAMP:20260423T192151
CREATED:20260127T223940Z
LAST-MODIFIED:20260310T145903Z
UID:10009926-1782327600-1782332100@estateofhealth.ca
SUMMARY:Yin & Yang Yoga
DESCRIPTION:In this 75-minute\, all-levels class\, we explore the principles of Yin and Yang through meditation\, breathwork and movement. Participants can expect to work on strength\, stability and physical/mental spaciousness\, along with the stillness and focus of Yin Yoga\, applying the principles of TCM Meridian Theory and working with the body’s fascial system.
URL:https://estateofhealth.ca/event/yin-yang-yoga/2026-06-24/
LOCATION:Estate of Health\, 101 Mill Street West\, Kingsville\, Ontario\, N9Y 1W4\, Canada
CATEGORIES:Yoga Class
ATTACH;FMTTYPE=image/png:https://estateofhealth.ca/wp-content/uploads/2026/01/Chair-Yoga-1.png
END:VEVENT
BEGIN:VEVENT
DTSTART;TZID=America/Halifax:20260625T090000
DTEND;TZID=America/Halifax:20260625T100000
DTSTAMP:20260423T192151
CREATED:20260127T222600Z
LAST-MODIFIED:20260310T150028Z
UID:10009857-1782378000-1782381600@estateofhealth.ca
SUMMARY:Chair Yoga with Katera
DESCRIPTION:This class is for anyone who wants to try Yoga but is limited getting up and down from the floor. We use a chair to support the body both sitting and standing. Inspired by Yoga\, Pilates and functional movement practices\, this is the perfect class to help maintain (or even build) flexibility; gain confidence in standing balance; maintain muscle mass; support bone health; and\, have fun and connect with other community members! This class is accessible to all!
URL:https://estateofhealth.ca/event/chair-yoga-with-katera/2026-06-25/
LOCATION:Estate of Health\, 101 Mill Street West\, Kingsville\, Ontario\, N9Y 1W4\, Canada
CATEGORIES:Yoga Class
ATTACH;FMTTYPE=image/png:https://estateofhealth.ca/wp-content/uploads/2026/01/Chair-Yoga.png
END:VEVENT
END:VCALENDAR