BEGIN:VCALENDAR
VERSION:2.0
PRODID:-//Estate of Health - ECPv6.15.18//NONSGML v1.0//EN
CALSCALE:GREGORIAN
METHOD:PUBLISH
X-ORIGINAL-URL:https://estateofhealth.ca
X-WR-CALDESC:Events for Estate of Health
REFRESH-INTERVAL;VALUE=DURATION:PT1H
X-Robots-Tag:noindex
X-PUBLISHED-TTL:PT1H
BEGIN:VTIMEZONE
TZID:America/Halifax
BEGIN:DAYLIGHT
TZOFFSETFROM:-0400
TZOFFSETTO:-0300
TZNAME:ADT
DTSTART:20250309T060000
END:DAYLIGHT
BEGIN:STANDARD
TZOFFSETFROM:-0300
TZOFFSETTO:-0400
TZNAME:AST
DTSTART:20251102T050000
END:STANDARD
BEGIN:DAYLIGHT
TZOFFSETFROM:-0400
TZOFFSETTO:-0300
TZNAME:ADT
DTSTART:20260308T060000
END:DAYLIGHT
BEGIN:STANDARD
TZOFFSETFROM:-0300
TZOFFSETTO:-0400
TZNAME:AST
DTSTART:20261101T050000
END:STANDARD
BEGIN:DAYLIGHT
TZOFFSETFROM:-0400
TZOFFSETTO:-0300
TZNAME:ADT
DTSTART:20270314T060000
END:DAYLIGHT
BEGIN:STANDARD
TZOFFSETFROM:-0300
TZOFFSETTO:-0400
TZNAME:AST
DTSTART:20271107T050000
END:STANDARD
END:VTIMEZONE
BEGIN:VEVENT
DTSTART;TZID=America/Halifax:20260421T100000
DTEND;TZID=America/Halifax:20260421T110000
DTSTAMP:20260423T175711
CREATED:20260117T230700Z
LAST-MODIFIED:20260310T144957Z
UID:10009799-1776765600-1776769200@estateofhealth.ca
SUMMARY:Restorative Flow
DESCRIPTION:Restore and more… in this class we will discover the restorative power of movement balanced with breath and stillness to maintain health\, strength and an overall feeling of well being. This class uses a combination of gentle yoga and pilates movements to support the body’s natural alignment. Complimented by breathwork\, meditation and practices to assist deep relaxation\, this class offers rejuvenation to support the mind and uncover your true spirit. Let’s embark on this journey together!
URL:https://estateofhealth.ca/event/restorative-flow/2026-04-21/
LOCATION:Estate of Health\, 101 Mill Street West\, Kingsville\, Ontario\, N9Y 1W4\, Canada
CATEGORIES:Yoga Class
ATTACH;FMTTYPE=image/png:https://estateofhealth.ca/wp-content/uploads/2026/01/Shamanic-Sound-Healing-Journey-1.png
END:VEVENT
BEGIN:VEVENT
DTSTART;TZID=America/Halifax:20260421T190000
DTEND;TZID=America/Halifax:20260421T201000
DTSTAMP:20260423T175712
CREATED:20260421T173824Z
LAST-MODIFIED:20260421T173824Z
UID:10010008-1776798000-1776802200@estateofhealth.ca
SUMMARY:Yin Yoga & Deep Rest Meditation
DESCRIPTION:In This class we will allow stillness and silence to create space in our bodies and minds with or without props to support . \nWe allow deep work to take place in our Yin tissues . This Yin practice will help our bodies relax into deep rest meditation and come into a \nYoga Nidra space in the last bit of our time together leaving you relaxed and ready for sleep.
URL:https://estateofhealth.ca/event/yin-with-sue-4-2/2026-04-21/
LOCATION:Estate of Health\, 101 Mill Street West\, Kingsville\, Ontario\, N9Y 1W4\, Canada
CATEGORIES:Yoga Class
ATTACH;FMTTYPE=image/png:https://estateofhealth.ca/wp-content/uploads/2025/12/Copy-of-The-Studio.png
END:VEVENT
END:VCALENDAR