BEGIN:VCALENDAR
VERSION:2.0
PRODID:-//Estate of Health - ECPv6.15.18//NONSGML v1.0//EN
CALSCALE:GREGORIAN
METHOD:PUBLISH
X-ORIGINAL-URL:https://estateofhealth.ca
X-WR-CALDESC:Events for Estate of Health
REFRESH-INTERVAL;VALUE=DURATION:PT1H
X-Robots-Tag:noindex
X-PUBLISHED-TTL:PT1H
BEGIN:VTIMEZONE
TZID:America/Halifax
BEGIN:DAYLIGHT
TZOFFSETFROM:-0400
TZOFFSETTO:-0300
TZNAME:ADT
DTSTART:20250309T060000
END:DAYLIGHT
BEGIN:STANDARD
TZOFFSETFROM:-0300
TZOFFSETTO:-0400
TZNAME:AST
DTSTART:20251102T050000
END:STANDARD
BEGIN:DAYLIGHT
TZOFFSETFROM:-0400
TZOFFSETTO:-0300
TZNAME:ADT
DTSTART:20260308T060000
END:DAYLIGHT
BEGIN:STANDARD
TZOFFSETFROM:-0300
TZOFFSETTO:-0400
TZNAME:AST
DTSTART:20261101T050000
END:STANDARD
BEGIN:DAYLIGHT
TZOFFSETFROM:-0400
TZOFFSETTO:-0300
TZNAME:ADT
DTSTART:20270314T060000
END:DAYLIGHT
BEGIN:STANDARD
TZOFFSETFROM:-0300
TZOFFSETTO:-0400
TZNAME:AST
DTSTART:20271107T050000
END:STANDARD
END:VTIMEZONE
BEGIN:VEVENT
DTSTART;TZID=America/Halifax:20260423T090000
DTEND;TZID=America/Halifax:20260423T100000
DTSTAMP:20260423T180641
CREATED:20260127T222600Z
LAST-MODIFIED:20260310T150028Z
UID:10009848-1776934800-1776938400@estateofhealth.ca
SUMMARY:Chair Yoga with Katera
DESCRIPTION:This class is for anyone who wants to try Yoga but is limited getting up and down from the floor. We use a chair to support the body both sitting and standing. Inspired by Yoga\, Pilates and functional movement practices\, this is the perfect class to help maintain (or even build) flexibility; gain confidence in standing balance; maintain muscle mass; support bone health; and\, have fun and connect with other community members! This class is accessible to all!
URL:https://estateofhealth.ca/event/chair-yoga-with-katera/2026-04-23/
LOCATION:Estate of Health\, 101 Mill Street West\, Kingsville\, Ontario\, N9Y 1W4\, Canada
CATEGORIES:Yoga Class
ATTACH;FMTTYPE=image/png:https://estateofhealth.ca/wp-content/uploads/2026/01/Chair-Yoga.png
END:VEVENT
BEGIN:VEVENT
DTSTART;TZID=America/Halifax:20260424T180000
DTEND;TZID=America/Halifax:20260424T193000
DTSTAMP:20260423T180641
CREATED:20260130T224333Z
LAST-MODIFIED:20260305T212657Z
UID:10009977-1777053600-1777059000@estateofhealth.ca
SUMMARY:Karma Yoga
DESCRIPTION:Karma Yoga is an offering of service for a cause that is close to our hearts. Find these DONATION based classes on the last Friday of every month at 6 PM. This special class features a rotation of our wonderful teaching staff here at Estate of Health. Each class has its unique style and lengths are variable.  \nAs class details change each month\, please contact us to book your spot: 519-712-8838   |   info@estateofhealth.ca. \nKarma Yoga Line Up \nFebruary 27th 6:00 PM – 7:00 PM – Fireside Hatha with Jordan raises funds for The Nature Conservancy of Canada \nMarch 27th 6:00 PM – 7:15 PM – All Levels Gentle Yoga with Katera raises funds for Wings Rehabilitation Centre \nApril 24th 6:00 PM – 7:30 PM – All Levels with Steph raises funds for Kittenaide \nMay 29th 6:00 PM – 7:15 PM – Restorative Mindful Movement with Sue raises funds for The Canadian Mental Health Association \n  \n 
URL:https://estateofhealth.ca/event/karma-yoga/2026-04-24/
LOCATION:Estate of Health\, 101 Mill Street West\, Kingsville\, Ontario\, N9Y 1W4\, Canada
CATEGORIES:Community Events,Feature Event on Home Page,Yoga Class
ATTACH;FMTTYPE=image/png:https://estateofhealth.ca/wp-content/uploads/2026/01/November-2025-Karma-Yoga.png
END:VEVENT
BEGIN:VEVENT
DTSTART;TZID=America/Halifax:20260428T100000
DTEND;TZID=America/Halifax:20260428T110000
DTSTAMP:20260423T180641
CREATED:20260117T230700Z
LAST-MODIFIED:20260310T144957Z
UID:10009800-1777370400-1777374000@estateofhealth.ca
SUMMARY:Restorative Flow
DESCRIPTION:Restore and more… in this class we will discover the restorative power of movement balanced with breath and stillness to maintain health\, strength and an overall feeling of well being. This class uses a combination of gentle yoga and pilates movements to support the body’s natural alignment. Complimented by breathwork\, meditation and practices to assist deep relaxation\, this class offers rejuvenation to support the mind and uncover your true spirit. Let’s embark on this journey together!
URL:https://estateofhealth.ca/event/restorative-flow/2026-04-28/
LOCATION:Estate of Health\, 101 Mill Street West\, Kingsville\, Ontario\, N9Y 1W4\, Canada
CATEGORIES:Yoga Class
ATTACH;FMTTYPE=image/png:https://estateofhealth.ca/wp-content/uploads/2026/01/Shamanic-Sound-Healing-Journey-1.png
END:VEVENT
BEGIN:VEVENT
DTSTART;TZID=America/Halifax:20260428T190000
DTEND;TZID=America/Halifax:20260428T201000
DTSTAMP:20260423T180641
CREATED:20260421T173824Z
LAST-MODIFIED:20260421T173824Z
UID:10010009-1777402800-1777407000@estateofhealth.ca
SUMMARY:Yin Yoga & Deep Rest Meditation
DESCRIPTION:In This class we will allow stillness and silence to create space in our bodies and minds with or without props to support . \nWe allow deep work to take place in our Yin tissues . This Yin practice will help our bodies relax into deep rest meditation and come into a \nYoga Nidra space in the last bit of our time together leaving you relaxed and ready for sleep.
URL:https://estateofhealth.ca/event/yin-with-sue-4-2/2026-04-28/
LOCATION:Estate of Health\, 101 Mill Street West\, Kingsville\, Ontario\, N9Y 1W4\, Canada
CATEGORIES:Yoga Class
ATTACH;FMTTYPE=image/png:https://estateofhealth.ca/wp-content/uploads/2025/12/Copy-of-The-Studio.png
END:VEVENT
BEGIN:VEVENT
DTSTART;TZID=America/Halifax:20260429T190000
DTEND;TZID=America/Halifax:20260429T201500
DTSTAMP:20260423T180641
CREATED:20260127T223940Z
LAST-MODIFIED:20260310T145903Z
UID:10009918-1777489200-1777493700@estateofhealth.ca
SUMMARY:Yin & Yang Yoga
DESCRIPTION:In this 75-minute\, all-levels class\, we explore the principles of Yin and Yang through meditation\, breathwork and movement. Participants can expect to work on strength\, stability and physical/mental spaciousness\, along with the stillness and focus of Yin Yoga\, applying the principles of TCM Meridian Theory and working with the body’s fascial system.
URL:https://estateofhealth.ca/event/yin-yang-yoga/2026-04-29/
LOCATION:Estate of Health\, 101 Mill Street West\, Kingsville\, Ontario\, N9Y 1W4\, Canada
CATEGORIES:Yoga Class
ATTACH;FMTTYPE=image/png:https://estateofhealth.ca/wp-content/uploads/2026/01/Chair-Yoga-1.png
END:VEVENT
BEGIN:VEVENT
DTSTART;TZID=America/Halifax:20260430T090000
DTEND;TZID=America/Halifax:20260430T100000
DTSTAMP:20260423T180641
CREATED:20260127T222600Z
LAST-MODIFIED:20260310T150028Z
UID:10009849-1777539600-1777543200@estateofhealth.ca
SUMMARY:Chair Yoga with Katera
DESCRIPTION:This class is for anyone who wants to try Yoga but is limited getting up and down from the floor. We use a chair to support the body both sitting and standing. Inspired by Yoga\, Pilates and functional movement practices\, this is the perfect class to help maintain (or even build) flexibility; gain confidence in standing balance; maintain muscle mass; support bone health; and\, have fun and connect with other community members! This class is accessible to all!
URL:https://estateofhealth.ca/event/chair-yoga-with-katera/2026-04-30/
LOCATION:Estate of Health\, 101 Mill Street West\, Kingsville\, Ontario\, N9Y 1W4\, Canada
CATEGORIES:Yoga Class
ATTACH;FMTTYPE=image/png:https://estateofhealth.ca/wp-content/uploads/2026/01/Chair-Yoga.png
END:VEVENT
END:VCALENDAR