BEGIN:VCALENDAR
VERSION:2.0
PRODID:-//Estate of Health - ECPv6.15.18//NONSGML v1.0//EN
CALSCALE:GREGORIAN
METHOD:PUBLISH
X-ORIGINAL-URL:https://estateofhealth.ca
X-WR-CALDESC:Events for Estate of Health
REFRESH-INTERVAL;VALUE=DURATION:PT1H
X-Robots-Tag:noindex
X-PUBLISHED-TTL:PT1H
BEGIN:VTIMEZONE
TZID:America/Halifax
BEGIN:DAYLIGHT
TZOFFSETFROM:-0400
TZOFFSETTO:-0300
TZNAME:ADT
DTSTART:20250309T060000
END:DAYLIGHT
BEGIN:STANDARD
TZOFFSETFROM:-0300
TZOFFSETTO:-0400
TZNAME:AST
DTSTART:20251102T050000
END:STANDARD
BEGIN:DAYLIGHT
TZOFFSETFROM:-0400
TZOFFSETTO:-0300
TZNAME:ADT
DTSTART:20260308T060000
END:DAYLIGHT
BEGIN:STANDARD
TZOFFSETFROM:-0300
TZOFFSETTO:-0400
TZNAME:AST
DTSTART:20261101T050000
END:STANDARD
BEGIN:DAYLIGHT
TZOFFSETFROM:-0400
TZOFFSETTO:-0300
TZNAME:ADT
DTSTART:20270314T060000
END:DAYLIGHT
BEGIN:STANDARD
TZOFFSETFROM:-0300
TZOFFSETTO:-0400
TZNAME:AST
DTSTART:20271107T050000
END:STANDARD
END:VTIMEZONE
BEGIN:VEVENT
DTSTART;TZID=America/Halifax:20260331T100000
DTEND;TZID=America/Halifax:20260331T110000
DTSTAMP:20260423T203505
CREATED:20260117T230700Z
LAST-MODIFIED:20260310T144957Z
UID:10009796-1774951200-1774954800@estateofhealth.ca
SUMMARY:Restorative Flow
DESCRIPTION:Restore and more… in this class we will discover the restorative power of movement balanced with breath and stillness to maintain health\, strength and an overall feeling of well being. This class uses a combination of gentle yoga and pilates movements to support the body’s natural alignment. Complimented by breathwork\, meditation and practices to assist deep relaxation\, this class offers rejuvenation to support the mind and uncover your true spirit. Let’s embark on this journey together!
URL:https://estateofhealth.ca/event/restorative-flow/2026-03-31/
LOCATION:Estate of Health\, 101 Mill Street West\, Kingsville\, Ontario\, N9Y 1W4\, Canada
CATEGORIES:Yoga Class
ATTACH;FMTTYPE=image/png:https://estateofhealth.ca/wp-content/uploads/2026/01/Shamanic-Sound-Healing-Journey-1.png
END:VEVENT
BEGIN:VEVENT
DTSTART;TZID=America/Halifax:20260331T190000
DTEND;TZID=America/Halifax:20260331T200000
DTSTAMP:20260423T203505
CREATED:20251210T135456Z
LAST-MODIFIED:20260305T162318Z
UID:10009724-1774983600-1774987200@estateofhealth.ca
SUMMARY:Yin with Sue
DESCRIPTION:In this practice we go inward. We allow stillness and silence to\ncreate space in our bodies and in our minds. In this class we will hold poses or shapes for a period of time with or without the assistance of props to support. In this class we go deep and work the Yin tissues \, the ligaments\, joints \, deep fascial networks (connective tissue) and bones. You will be offered cues to get into the shapes and maybe a word here and there but the Silence is the most beautiful part of this Yin class. This is where the magic happens. I mind the time so you are free to just allow.\nRelax\, Nourish and Rejuvenate.
URL:https://estateofhealth.ca/event/yin-with-sue-4/2026-03-31/
LOCATION:Ontario
CATEGORIES:Yoga Class
ATTACH;FMTTYPE=image/jpeg:https://estateofhealth.ca/wp-content/uploads/2024/12/The-Studio-13.jpg
END:VEVENT
BEGIN:VEVENT
DTSTART;TZID=America/Halifax:20260401T190000
DTEND;TZID=America/Halifax:20260401T201500
DTSTAMP:20260423T203505
CREATED:20260127T223940Z
LAST-MODIFIED:20260310T145903Z
UID:10009914-1775070000-1775074500@estateofhealth.ca
SUMMARY:Yin & Yang Yoga
DESCRIPTION:In this 75-minute\, all-levels class\, we explore the principles of Yin and Yang through meditation\, breathwork and movement. Participants can expect to work on strength\, stability and physical/mental spaciousness\, along with the stillness and focus of Yin Yoga\, applying the principles of TCM Meridian Theory and working with the body’s fascial system.
URL:https://estateofhealth.ca/event/yin-yang-yoga/2026-04-01/
LOCATION:Estate of Health\, 101 Mill Street West\, Kingsville\, Ontario\, N9Y 1W4\, Canada
CATEGORIES:Yoga Class
ATTACH;FMTTYPE=image/png:https://estateofhealth.ca/wp-content/uploads/2026/01/Chair-Yoga-1.png
END:VEVENT
BEGIN:VEVENT
DTSTART;TZID=America/Halifax:20260402T090000
DTEND;TZID=America/Halifax:20260402T100000
DTSTAMP:20260423T203505
CREATED:20260127T222600Z
LAST-MODIFIED:20260310T150028Z
UID:10009845-1775120400-1775124000@estateofhealth.ca
SUMMARY:Chair Yoga with Katera
DESCRIPTION:This class is for anyone who wants to try Yoga but is limited getting up and down from the floor. We use a chair to support the body both sitting and standing. Inspired by Yoga\, Pilates and functional movement practices\, this is the perfect class to help maintain (or even build) flexibility; gain confidence in standing balance; maintain muscle mass; support bone health; and\, have fun and connect with other community members! This class is accessible to all!
URL:https://estateofhealth.ca/event/chair-yoga-with-katera/2026-04-02/
LOCATION:Estate of Health\, 101 Mill Street West\, Kingsville\, Ontario\, N9Y 1W4\, Canada
CATEGORIES:Yoga Class
ATTACH;FMTTYPE=image/png:https://estateofhealth.ca/wp-content/uploads/2026/01/Chair-Yoga.png
END:VEVENT
END:VCALENDAR