BEGIN:VCALENDAR
VERSION:2.0
PRODID:-//Estate of Health - ECPv6.15.18//NONSGML v1.0//EN
CALSCALE:GREGORIAN
METHOD:PUBLISH
X-ORIGINAL-URL:https://estateofhealth.ca
X-WR-CALDESC:Events for Estate of Health
REFRESH-INTERVAL;VALUE=DURATION:PT1H
X-Robots-Tag:noindex
X-PUBLISHED-TTL:PT1H
BEGIN:VTIMEZONE
TZID:America/Halifax
BEGIN:DAYLIGHT
TZOFFSETFROM:-0400
TZOFFSETTO:-0300
TZNAME:ADT
DTSTART:20260308T060000
END:DAYLIGHT
BEGIN:STANDARD
TZOFFSETFROM:-0300
TZOFFSETTO:-0400
TZNAME:AST
DTSTART:20261101T050000
END:STANDARD
BEGIN:DAYLIGHT
TZOFFSETFROM:-0400
TZOFFSETTO:-0300
TZNAME:ADT
DTSTART:20270314T060000
END:DAYLIGHT
BEGIN:STANDARD
TZOFFSETFROM:-0300
TZOFFSETTO:-0400
TZNAME:AST
DTSTART:20271107T050000
END:STANDARD
BEGIN:DAYLIGHT
TZOFFSETFROM:-0400
TZOFFSETTO:-0300
TZNAME:ADT
DTSTART:20280312T060000
END:DAYLIGHT
BEGIN:STANDARD
TZOFFSETFROM:-0300
TZOFFSETTO:-0400
TZNAME:AST
DTSTART:20281105T050000
END:STANDARD
END:VTIMEZONE
BEGIN:VEVENT
DTSTART;TZID=America/Halifax:20270323T173000
DTEND;TZID=America/Halifax:20270323T181500
DTSTAMP:20260425T124713
CREATED:20260416T221810Z
LAST-MODIFIED:20260416T222953Z
UID:10010242-1805823000-1805825700@estateofhealth.ca
SUMMARY:Aqua Aerobics (Tues)
DESCRIPTION:Join Marilyn for some fun\, low-impact exercise in the salt water pool! Aqua aerobics is a great way to get in shape\, using the resistance of water to both support you in balance and challenge you in strength! This is a 45-minute  all-levels class. Pre-registration required. Please call/email to book your spot!
URL:https://estateofhealth.ca/event/aqua-aerobics-tues/2027-03-23/
LOCATION:Estate of Health\, 101 Mill Street West\, Kingsville\, Ontario\, N9Y 1W4\, Canada
ATTACH;FMTTYPE=image/png:https://estateofhealth.ca/wp-content/uploads/2026/04/Aqua-Aerobics-2025.png
END:VEVENT
BEGIN:VEVENT
DTSTART;TZID=America/Halifax:20270324T173000
DTEND;TZID=America/Halifax:20270324T183000
DTSTAMP:20260425T124713
CREATED:20260424T034657Z
LAST-MODIFIED:20260424T034657Z
UID:10010522-1805909400-1805913000@estateofhealth.ca
SUMMARY:Nature Flow
DESCRIPTION:Enjoy the beautiful surroundings of nature as you connect with the body & breath outside with Steph. Inspired by nature and the grounded peace that being outdoors can bring\, this practice will calm the busy mind and ease the tension in the body. Please bring your own mat for this outdoor practice. Registration is required.
URL:https://estateofhealth.ca/event/nature-flow/2027-03-24/
LOCATION:Estate of Health\, 101 Mill Street West\, Kingsville\, Ontario\, N9Y 1W4\, Canada
ATTACH;FMTTYPE=image/png:https://estateofhealth.ca/wp-content/uploads/2026/04/All-Levels-Yoga-substitute-1.png
END:VEVENT
BEGIN:VEVENT
DTSTART;TZID=America/Halifax:20270324T190000
DTEND;TZID=America/Halifax:20270324T201500
DTSTAMP:20260425T124713
CREATED:20260127T223940Z
LAST-MODIFIED:20260310T145903Z
UID:10009965-1805914800-1805919300@estateofhealth.ca
SUMMARY:Yin & Yang Yoga
DESCRIPTION:In this 75-minute\, all-levels class\, we explore the principles of Yin and Yang through meditation\, breathwork and movement. Participants can expect to work on strength\, stability and physical/mental spaciousness\, along with the stillness and focus of Yin Yoga\, applying the principles of TCM Meridian Theory and working with the body’s fascial system.
URL:https://estateofhealth.ca/event/yin-yang-yoga/2027-03-24/
LOCATION:Estate of Health\, 101 Mill Street West\, Kingsville\, Ontario\, N9Y 1W4\, Canada
CATEGORIES:Yoga Class
ATTACH;FMTTYPE=image/png:https://estateofhealth.ca/wp-content/uploads/2026/01/Chair-Yoga-1.png
END:VEVENT
BEGIN:VEVENT
DTSTART;TZID=America/Halifax:20270325T090000
DTEND;TZID=America/Halifax:20270325T100000
DTSTAMP:20260425T124713
CREATED:20260127T222600Z
LAST-MODIFIED:20260310T150028Z
UID:10009896-1805965200-1805968800@estateofhealth.ca
SUMMARY:Chair Yoga with Katera
DESCRIPTION:This class is for anyone who wants to try Yoga but is limited getting up and down from the floor. We use a chair to support the body both sitting and standing. Inspired by Yoga\, Pilates and functional movement practices\, this is the perfect class to help maintain (or even build) flexibility; gain confidence in standing balance; maintain muscle mass; support bone health; and\, have fun and connect with other community members! This class is accessible to all!
URL:https://estateofhealth.ca/event/chair-yoga-with-katera/2027-03-25/
LOCATION:Estate of Health\, 101 Mill Street West\, Kingsville\, Ontario\, N9Y 1W4\, Canada
CATEGORIES:Yoga Class
ATTACH;FMTTYPE=image/png:https://estateofhealth.ca/wp-content/uploads/2026/01/Chair-Yoga.png
END:VEVENT
BEGIN:VEVENT
DTSTART;TZID=America/Halifax:20270330T173000
DTEND;TZID=America/Halifax:20270330T181500
DTSTAMP:20260425T124713
CREATED:20260416T221810Z
LAST-MODIFIED:20260416T222953Z
UID:10010243-1806427800-1806430500@estateofhealth.ca
SUMMARY:Aqua Aerobics (Tues)
DESCRIPTION:Join Marilyn for some fun\, low-impact exercise in the salt water pool! Aqua aerobics is a great way to get in shape\, using the resistance of water to both support you in balance and challenge you in strength! This is a 45-minute  all-levels class. Pre-registration required. Please call/email to book your spot!
URL:https://estateofhealth.ca/event/aqua-aerobics-tues/2027-03-30/
LOCATION:Estate of Health\, 101 Mill Street West\, Kingsville\, Ontario\, N9Y 1W4\, Canada
ATTACH;FMTTYPE=image/png:https://estateofhealth.ca/wp-content/uploads/2026/04/Aqua-Aerobics-2025.png
END:VEVENT
BEGIN:VEVENT
DTSTART;TZID=America/Halifax:20270331T173000
DTEND;TZID=America/Halifax:20270331T183000
DTSTAMP:20260425T124714
CREATED:20260424T034657Z
LAST-MODIFIED:20260424T034657Z
UID:10010523-1806514200-1806517800@estateofhealth.ca
SUMMARY:Nature Flow
DESCRIPTION:Enjoy the beautiful surroundings of nature as you connect with the body & breath outside with Steph. Inspired by nature and the grounded peace that being outdoors can bring\, this practice will calm the busy mind and ease the tension in the body. Please bring your own mat for this outdoor practice. Registration is required.
URL:https://estateofhealth.ca/event/nature-flow/2027-03-31/
LOCATION:Estate of Health\, 101 Mill Street West\, Kingsville\, Ontario\, N9Y 1W4\, Canada
ATTACH;FMTTYPE=image/png:https://estateofhealth.ca/wp-content/uploads/2026/04/All-Levels-Yoga-substitute-1.png
END:VEVENT
BEGIN:VEVENT
DTSTART;TZID=America/Halifax:20270331T190000
DTEND;TZID=America/Halifax:20270331T201500
DTSTAMP:20260425T124714
CREATED:20260127T223940Z
LAST-MODIFIED:20260310T145903Z
UID:10009966-1806519600-1806524100@estateofhealth.ca
SUMMARY:Yin & Yang Yoga
DESCRIPTION:In this 75-minute\, all-levels class\, we explore the principles of Yin and Yang through meditation\, breathwork and movement. Participants can expect to work on strength\, stability and physical/mental spaciousness\, along with the stillness and focus of Yin Yoga\, applying the principles of TCM Meridian Theory and working with the body’s fascial system.
URL:https://estateofhealth.ca/event/yin-yang-yoga/2027-03-31/
LOCATION:Estate of Health\, 101 Mill Street West\, Kingsville\, Ontario\, N9Y 1W4\, Canada
CATEGORIES:Yoga Class
ATTACH;FMTTYPE=image/png:https://estateofhealth.ca/wp-content/uploads/2026/01/Chair-Yoga-1.png
END:VEVENT
BEGIN:VEVENT
DTSTART;TZID=America/Halifax:20270401T090000
DTEND;TZID=America/Halifax:20270401T100000
DTSTAMP:20260425T124714
CREATED:20260127T222600Z
LAST-MODIFIED:20260310T150028Z
UID:10009897-1806570000-1806573600@estateofhealth.ca
SUMMARY:Chair Yoga with Katera
DESCRIPTION:This class is for anyone who wants to try Yoga but is limited getting up and down from the floor. We use a chair to support the body both sitting and standing. Inspired by Yoga\, Pilates and functional movement practices\, this is the perfect class to help maintain (or even build) flexibility; gain confidence in standing balance; maintain muscle mass; support bone health; and\, have fun and connect with other community members! This class is accessible to all!
URL:https://estateofhealth.ca/event/chair-yoga-with-katera/2027-04-01/
LOCATION:Estate of Health\, 101 Mill Street West\, Kingsville\, Ontario\, N9Y 1W4\, Canada
CATEGORIES:Yoga Class
ATTACH;FMTTYPE=image/png:https://estateofhealth.ca/wp-content/uploads/2026/01/Chair-Yoga.png
END:VEVENT
BEGIN:VEVENT
DTSTART;TZID=America/Halifax:20270406T173000
DTEND;TZID=America/Halifax:20270406T181500
DTSTAMP:20260425T124714
CREATED:20260416T221810Z
LAST-MODIFIED:20260416T222953Z
UID:10010244-1807032600-1807035300@estateofhealth.ca
SUMMARY:Aqua Aerobics (Tues)
DESCRIPTION:Join Marilyn for some fun\, low-impact exercise in the salt water pool! Aqua aerobics is a great way to get in shape\, using the resistance of water to both support you in balance and challenge you in strength! This is a 45-minute  all-levels class. Pre-registration required. Please call/email to book your spot!
URL:https://estateofhealth.ca/event/aqua-aerobics-tues/2027-04-06/
LOCATION:Estate of Health\, 101 Mill Street West\, Kingsville\, Ontario\, N9Y 1W4\, Canada
ATTACH;FMTTYPE=image/png:https://estateofhealth.ca/wp-content/uploads/2026/04/Aqua-Aerobics-2025.png
END:VEVENT
BEGIN:VEVENT
DTSTART;TZID=America/Halifax:20270407T173000
DTEND;TZID=America/Halifax:20270407T183000
DTSTAMP:20260425T124714
CREATED:20260424T034657Z
LAST-MODIFIED:20260424T034657Z
UID:10010524-1807119000-1807122600@estateofhealth.ca
SUMMARY:Nature Flow
DESCRIPTION:Enjoy the beautiful surroundings of nature as you connect with the body & breath outside with Steph. Inspired by nature and the grounded peace that being outdoors can bring\, this practice will calm the busy mind and ease the tension in the body. Please bring your own mat for this outdoor practice. Registration is required.
URL:https://estateofhealth.ca/event/nature-flow/2027-04-07/
LOCATION:Estate of Health\, 101 Mill Street West\, Kingsville\, Ontario\, N9Y 1W4\, Canada
ATTACH;FMTTYPE=image/png:https://estateofhealth.ca/wp-content/uploads/2026/04/All-Levels-Yoga-substitute-1.png
END:VEVENT
BEGIN:VEVENT
DTSTART;TZID=America/Halifax:20270407T190000
DTEND;TZID=America/Halifax:20270407T201500
DTSTAMP:20260425T124714
CREATED:20260127T223940Z
LAST-MODIFIED:20260310T145903Z
UID:10009967-1807124400-1807128900@estateofhealth.ca
SUMMARY:Yin & Yang Yoga
DESCRIPTION:In this 75-minute\, all-levels class\, we explore the principles of Yin and Yang through meditation\, breathwork and movement. Participants can expect to work on strength\, stability and physical/mental spaciousness\, along with the stillness and focus of Yin Yoga\, applying the principles of TCM Meridian Theory and working with the body’s fascial system.
URL:https://estateofhealth.ca/event/yin-yang-yoga/2027-04-07/
LOCATION:Estate of Health\, 101 Mill Street West\, Kingsville\, Ontario\, N9Y 1W4\, Canada
CATEGORIES:Yoga Class
ATTACH;FMTTYPE=image/png:https://estateofhealth.ca/wp-content/uploads/2026/01/Chair-Yoga-1.png
END:VEVENT
BEGIN:VEVENT
DTSTART;TZID=America/Halifax:20270408T090000
DTEND;TZID=America/Halifax:20270408T100000
DTSTAMP:20260425T124714
CREATED:20260127T222600Z
LAST-MODIFIED:20260310T150028Z
UID:10009898-1807174800-1807178400@estateofhealth.ca
SUMMARY:Chair Yoga with Katera
DESCRIPTION:This class is for anyone who wants to try Yoga but is limited getting up and down from the floor. We use a chair to support the body both sitting and standing. Inspired by Yoga\, Pilates and functional movement practices\, this is the perfect class to help maintain (or even build) flexibility; gain confidence in standing balance; maintain muscle mass; support bone health; and\, have fun and connect with other community members! This class is accessible to all!
URL:https://estateofhealth.ca/event/chair-yoga-with-katera/2027-04-08/
LOCATION:Estate of Health\, 101 Mill Street West\, Kingsville\, Ontario\, N9Y 1W4\, Canada
CATEGORIES:Yoga Class
ATTACH;FMTTYPE=image/png:https://estateofhealth.ca/wp-content/uploads/2026/01/Chair-Yoga.png
END:VEVENT
BEGIN:VEVENT
DTSTART;TZID=America/Halifax:20270413T173000
DTEND;TZID=America/Halifax:20270413T181500
DTSTAMP:20260425T124714
CREATED:20260416T221810Z
LAST-MODIFIED:20260416T222953Z
UID:10010245-1807637400-1807640100@estateofhealth.ca
SUMMARY:Aqua Aerobics (Tues)
DESCRIPTION:Join Marilyn for some fun\, low-impact exercise in the salt water pool! Aqua aerobics is a great way to get in shape\, using the resistance of water to both support you in balance and challenge you in strength! This is a 45-minute  all-levels class. Pre-registration required. Please call/email to book your spot!
URL:https://estateofhealth.ca/event/aqua-aerobics-tues/2027-04-13/
LOCATION:Estate of Health\, 101 Mill Street West\, Kingsville\, Ontario\, N9Y 1W4\, Canada
ATTACH;FMTTYPE=image/png:https://estateofhealth.ca/wp-content/uploads/2026/04/Aqua-Aerobics-2025.png
END:VEVENT
BEGIN:VEVENT
DTSTART;TZID=America/Halifax:20270414T173000
DTEND;TZID=America/Halifax:20270414T183000
DTSTAMP:20260425T124714
CREATED:20260424T034657Z
LAST-MODIFIED:20260424T034657Z
UID:10010525-1807723800-1807727400@estateofhealth.ca
SUMMARY:Nature Flow
DESCRIPTION:Enjoy the beautiful surroundings of nature as you connect with the body & breath outside with Steph. Inspired by nature and the grounded peace that being outdoors can bring\, this practice will calm the busy mind and ease the tension in the body. Please bring your own mat for this outdoor practice. Registration is required.
URL:https://estateofhealth.ca/event/nature-flow/2027-04-14/
LOCATION:Estate of Health\, 101 Mill Street West\, Kingsville\, Ontario\, N9Y 1W4\, Canada
ATTACH;FMTTYPE=image/png:https://estateofhealth.ca/wp-content/uploads/2026/04/All-Levels-Yoga-substitute-1.png
END:VEVENT
BEGIN:VEVENT
DTSTART;TZID=America/Halifax:20270414T190000
DTEND;TZID=America/Halifax:20270414T201500
DTSTAMP:20260425T124714
CREATED:20260127T223940Z
LAST-MODIFIED:20260310T145903Z
UID:10009968-1807729200-1807733700@estateofhealth.ca
SUMMARY:Yin & Yang Yoga
DESCRIPTION:In this 75-minute\, all-levels class\, we explore the principles of Yin and Yang through meditation\, breathwork and movement. Participants can expect to work on strength\, stability and physical/mental spaciousness\, along with the stillness and focus of Yin Yoga\, applying the principles of TCM Meridian Theory and working with the body’s fascial system.
URL:https://estateofhealth.ca/event/yin-yang-yoga/2027-04-14/
LOCATION:Estate of Health\, 101 Mill Street West\, Kingsville\, Ontario\, N9Y 1W4\, Canada
CATEGORIES:Yoga Class
ATTACH;FMTTYPE=image/png:https://estateofhealth.ca/wp-content/uploads/2026/01/Chair-Yoga-1.png
END:VEVENT
BEGIN:VEVENT
DTSTART;TZID=America/Halifax:20270415T090000
DTEND;TZID=America/Halifax:20270415T100000
DTSTAMP:20260425T124714
CREATED:20260127T222600Z
LAST-MODIFIED:20260310T150028Z
UID:10009899-1807779600-1807783200@estateofhealth.ca
SUMMARY:Chair Yoga with Katera
DESCRIPTION:This class is for anyone who wants to try Yoga but is limited getting up and down from the floor. We use a chair to support the body both sitting and standing. Inspired by Yoga\, Pilates and functional movement practices\, this is the perfect class to help maintain (or even build) flexibility; gain confidence in standing balance; maintain muscle mass; support bone health; and\, have fun and connect with other community members! This class is accessible to all!
URL:https://estateofhealth.ca/event/chair-yoga-with-katera/2027-04-15/
LOCATION:Estate of Health\, 101 Mill Street West\, Kingsville\, Ontario\, N9Y 1W4\, Canada
CATEGORIES:Yoga Class
ATTACH;FMTTYPE=image/png:https://estateofhealth.ca/wp-content/uploads/2026/01/Chair-Yoga.png
END:VEVENT
BEGIN:VEVENT
DTSTART;TZID=America/Halifax:20270420T173000
DTEND;TZID=America/Halifax:20270420T181500
DTSTAMP:20260425T124714
CREATED:20260416T221810Z
LAST-MODIFIED:20260416T222953Z
UID:10010246-1808242200-1808244900@estateofhealth.ca
SUMMARY:Aqua Aerobics (Tues)
DESCRIPTION:Join Marilyn for some fun\, low-impact exercise in the salt water pool! Aqua aerobics is a great way to get in shape\, using the resistance of water to both support you in balance and challenge you in strength! This is a 45-minute  all-levels class. Pre-registration required. Please call/email to book your spot!
URL:https://estateofhealth.ca/event/aqua-aerobics-tues/2027-04-20/
LOCATION:Estate of Health\, 101 Mill Street West\, Kingsville\, Ontario\, N9Y 1W4\, Canada
ATTACH;FMTTYPE=image/png:https://estateofhealth.ca/wp-content/uploads/2026/04/Aqua-Aerobics-2025.png
END:VEVENT
BEGIN:VEVENT
DTSTART;TZID=America/Halifax:20270421T173000
DTEND;TZID=America/Halifax:20270421T183000
DTSTAMP:20260425T124714
CREATED:20260424T034657Z
LAST-MODIFIED:20260424T034657Z
UID:10010526-1808328600-1808332200@estateofhealth.ca
SUMMARY:Nature Flow
DESCRIPTION:Enjoy the beautiful surroundings of nature as you connect with the body & breath outside with Steph. Inspired by nature and the grounded peace that being outdoors can bring\, this practice will calm the busy mind and ease the tension in the body. Please bring your own mat for this outdoor practice. Registration is required.
URL:https://estateofhealth.ca/event/nature-flow/2027-04-21/
LOCATION:Estate of Health\, 101 Mill Street West\, Kingsville\, Ontario\, N9Y 1W4\, Canada
ATTACH;FMTTYPE=image/png:https://estateofhealth.ca/wp-content/uploads/2026/04/All-Levels-Yoga-substitute-1.png
END:VEVENT
BEGIN:VEVENT
DTSTART;TZID=America/Halifax:20270421T190000
DTEND;TZID=America/Halifax:20270421T201500
DTSTAMP:20260425T124714
CREATED:20260127T223940Z
LAST-MODIFIED:20260310T145903Z
UID:10009969-1808334000-1808338500@estateofhealth.ca
SUMMARY:Yin & Yang Yoga
DESCRIPTION:In this 75-minute\, all-levels class\, we explore the principles of Yin and Yang through meditation\, breathwork and movement. Participants can expect to work on strength\, stability and physical/mental spaciousness\, along with the stillness and focus of Yin Yoga\, applying the principles of TCM Meridian Theory and working with the body’s fascial system.
URL:https://estateofhealth.ca/event/yin-yang-yoga/2027-04-21/
LOCATION:Estate of Health\, 101 Mill Street West\, Kingsville\, Ontario\, N9Y 1W4\, Canada
CATEGORIES:Yoga Class
ATTACH;FMTTYPE=image/png:https://estateofhealth.ca/wp-content/uploads/2026/01/Chair-Yoga-1.png
END:VEVENT
BEGIN:VEVENT
DTSTART;TZID=America/Halifax:20270422T090000
DTEND;TZID=America/Halifax:20270422T100000
DTSTAMP:20260425T124714
CREATED:20260127T222600Z
LAST-MODIFIED:20260310T150028Z
UID:10009900-1808384400-1808388000@estateofhealth.ca
SUMMARY:Chair Yoga with Katera
DESCRIPTION:This class is for anyone who wants to try Yoga but is limited getting up and down from the floor. We use a chair to support the body both sitting and standing. Inspired by Yoga\, Pilates and functional movement practices\, this is the perfect class to help maintain (or even build) flexibility; gain confidence in standing balance; maintain muscle mass; support bone health; and\, have fun and connect with other community members! This class is accessible to all!
URL:https://estateofhealth.ca/event/chair-yoga-with-katera/2027-04-22/
LOCATION:Estate of Health\, 101 Mill Street West\, Kingsville\, Ontario\, N9Y 1W4\, Canada
CATEGORIES:Yoga Class
ATTACH;FMTTYPE=image/png:https://estateofhealth.ca/wp-content/uploads/2026/01/Chair-Yoga.png
END:VEVENT
BEGIN:VEVENT
DTSTART;TZID=America/Halifax:20270427T173000
DTEND;TZID=America/Halifax:20270427T181500
DTSTAMP:20260425T124714
CREATED:20260416T221810Z
LAST-MODIFIED:20260416T222953Z
UID:10010247-1808847000-1808849700@estateofhealth.ca
SUMMARY:Aqua Aerobics (Tues)
DESCRIPTION:Join Marilyn for some fun\, low-impact exercise in the salt water pool! Aqua aerobics is a great way to get in shape\, using the resistance of water to both support you in balance and challenge you in strength! This is a 45-minute  all-levels class. Pre-registration required. Please call/email to book your spot!
URL:https://estateofhealth.ca/event/aqua-aerobics-tues/2027-04-27/
LOCATION:Estate of Health\, 101 Mill Street West\, Kingsville\, Ontario\, N9Y 1W4\, Canada
ATTACH;FMTTYPE=image/png:https://estateofhealth.ca/wp-content/uploads/2026/04/Aqua-Aerobics-2025.png
END:VEVENT
BEGIN:VEVENT
DTSTART;TZID=America/Halifax:20270428T173000
DTEND;TZID=America/Halifax:20270428T183000
DTSTAMP:20260425T124714
CREATED:20260424T034657Z
LAST-MODIFIED:20260424T034657Z
UID:10010527-1808933400-1808937000@estateofhealth.ca
SUMMARY:Nature Flow
DESCRIPTION:Enjoy the beautiful surroundings of nature as you connect with the body & breath outside with Steph. Inspired by nature and the grounded peace that being outdoors can bring\, this practice will calm the busy mind and ease the tension in the body. Please bring your own mat for this outdoor practice. Registration is required.
URL:https://estateofhealth.ca/event/nature-flow/2027-04-28/
LOCATION:Estate of Health\, 101 Mill Street West\, Kingsville\, Ontario\, N9Y 1W4\, Canada
ATTACH;FMTTYPE=image/png:https://estateofhealth.ca/wp-content/uploads/2026/04/All-Levels-Yoga-substitute-1.png
END:VEVENT
BEGIN:VEVENT
DTSTART;TZID=America/Halifax:20270428T190000
DTEND;TZID=America/Halifax:20270428T201500
DTSTAMP:20260425T124714
CREATED:20260127T223940Z
LAST-MODIFIED:20260310T145903Z
UID:10009970-1808938800-1808943300@estateofhealth.ca
SUMMARY:Yin & Yang Yoga
DESCRIPTION:In this 75-minute\, all-levels class\, we explore the principles of Yin and Yang through meditation\, breathwork and movement. Participants can expect to work on strength\, stability and physical/mental spaciousness\, along with the stillness and focus of Yin Yoga\, applying the principles of TCM Meridian Theory and working with the body’s fascial system.
URL:https://estateofhealth.ca/event/yin-yang-yoga/2027-04-28/
LOCATION:Estate of Health\, 101 Mill Street West\, Kingsville\, Ontario\, N9Y 1W4\, Canada
CATEGORIES:Yoga Class
ATTACH;FMTTYPE=image/png:https://estateofhealth.ca/wp-content/uploads/2026/01/Chair-Yoga-1.png
END:VEVENT
BEGIN:VEVENT
DTSTART;TZID=America/Halifax:20270429T090000
DTEND;TZID=America/Halifax:20270429T100000
DTSTAMP:20260425T124714
CREATED:20260127T222600Z
LAST-MODIFIED:20260310T150028Z
UID:10009901-1808989200-1808992800@estateofhealth.ca
SUMMARY:Chair Yoga with Katera
DESCRIPTION:This class is for anyone who wants to try Yoga but is limited getting up and down from the floor. We use a chair to support the body both sitting and standing. Inspired by Yoga\, Pilates and functional movement practices\, this is the perfect class to help maintain (or even build) flexibility; gain confidence in standing balance; maintain muscle mass; support bone health; and\, have fun and connect with other community members! This class is accessible to all!
URL:https://estateofhealth.ca/event/chair-yoga-with-katera/2027-04-29/
LOCATION:Estate of Health\, 101 Mill Street West\, Kingsville\, Ontario\, N9Y 1W4\, Canada
CATEGORIES:Yoga Class
ATTACH;FMTTYPE=image/png:https://estateofhealth.ca/wp-content/uploads/2026/01/Chair-Yoga.png
END:VEVENT
BEGIN:VEVENT
DTSTART;TZID=America/Halifax:20270504T173000
DTEND;TZID=America/Halifax:20270504T181500
DTSTAMP:20260425T124714
CREATED:20260416T221810Z
LAST-MODIFIED:20260416T222953Z
UID:10010248-1809451800-1809454500@estateofhealth.ca
SUMMARY:Aqua Aerobics (Tues)
DESCRIPTION:Join Marilyn for some fun\, low-impact exercise in the salt water pool! Aqua aerobics is a great way to get in shape\, using the resistance of water to both support you in balance and challenge you in strength! This is a 45-minute  all-levels class. Pre-registration required. Please call/email to book your spot!
URL:https://estateofhealth.ca/event/aqua-aerobics-tues/2027-05-04/
LOCATION:Estate of Health\, 101 Mill Street West\, Kingsville\, Ontario\, N9Y 1W4\, Canada
ATTACH;FMTTYPE=image/png:https://estateofhealth.ca/wp-content/uploads/2026/04/Aqua-Aerobics-2025.png
END:VEVENT
BEGIN:VEVENT
DTSTART;TZID=America/Halifax:20270505T173000
DTEND;TZID=America/Halifax:20270505T183000
DTSTAMP:20260425T124714
CREATED:20260424T034657Z
LAST-MODIFIED:20260424T034657Z
UID:10010528-1809538200-1809541800@estateofhealth.ca
SUMMARY:Nature Flow
DESCRIPTION:Enjoy the beautiful surroundings of nature as you connect with the body & breath outside with Steph. Inspired by nature and the grounded peace that being outdoors can bring\, this practice will calm the busy mind and ease the tension in the body. Please bring your own mat for this outdoor practice. Registration is required.
URL:https://estateofhealth.ca/event/nature-flow/2027-05-05/
LOCATION:Estate of Health\, 101 Mill Street West\, Kingsville\, Ontario\, N9Y 1W4\, Canada
ATTACH;FMTTYPE=image/png:https://estateofhealth.ca/wp-content/uploads/2026/04/All-Levels-Yoga-substitute-1.png
END:VEVENT
BEGIN:VEVENT
DTSTART;TZID=America/Halifax:20270505T190000
DTEND;TZID=America/Halifax:20270505T201500
DTSTAMP:20260425T124714
CREATED:20260127T223940Z
LAST-MODIFIED:20260310T145903Z
UID:10009971-1809543600-1809548100@estateofhealth.ca
SUMMARY:Yin & Yang Yoga
DESCRIPTION:In this 75-minute\, all-levels class\, we explore the principles of Yin and Yang through meditation\, breathwork and movement. Participants can expect to work on strength\, stability and physical/mental spaciousness\, along with the stillness and focus of Yin Yoga\, applying the principles of TCM Meridian Theory and working with the body’s fascial system.
URL:https://estateofhealth.ca/event/yin-yang-yoga/2027-05-05/
LOCATION:Estate of Health\, 101 Mill Street West\, Kingsville\, Ontario\, N9Y 1W4\, Canada
CATEGORIES:Yoga Class
ATTACH;FMTTYPE=image/png:https://estateofhealth.ca/wp-content/uploads/2026/01/Chair-Yoga-1.png
END:VEVENT
BEGIN:VEVENT
DTSTART;TZID=America/Halifax:20270506T090000
DTEND;TZID=America/Halifax:20270506T100000
DTSTAMP:20260425T124714
CREATED:20260127T222600Z
LAST-MODIFIED:20260310T150028Z
UID:10009902-1809594000-1809597600@estateofhealth.ca
SUMMARY:Chair Yoga with Katera
DESCRIPTION:This class is for anyone who wants to try Yoga but is limited getting up and down from the floor. We use a chair to support the body both sitting and standing. Inspired by Yoga\, Pilates and functional movement practices\, this is the perfect class to help maintain (or even build) flexibility; gain confidence in standing balance; maintain muscle mass; support bone health; and\, have fun and connect with other community members! This class is accessible to all!
URL:https://estateofhealth.ca/event/chair-yoga-with-katera/2027-05-06/
LOCATION:Estate of Health\, 101 Mill Street West\, Kingsville\, Ontario\, N9Y 1W4\, Canada
CATEGORIES:Yoga Class
ATTACH;FMTTYPE=image/png:https://estateofhealth.ca/wp-content/uploads/2026/01/Chair-Yoga.png
END:VEVENT
BEGIN:VEVENT
DTSTART;TZID=America/Halifax:20270511T173000
DTEND;TZID=America/Halifax:20270511T181500
DTSTAMP:20260425T124714
CREATED:20260416T221810Z
LAST-MODIFIED:20260416T222953Z
UID:10010249-1810056600-1810059300@estateofhealth.ca
SUMMARY:Aqua Aerobics (Tues)
DESCRIPTION:Join Marilyn for some fun\, low-impact exercise in the salt water pool! Aqua aerobics is a great way to get in shape\, using the resistance of water to both support you in balance and challenge you in strength! This is a 45-minute  all-levels class. Pre-registration required. Please call/email to book your spot!
URL:https://estateofhealth.ca/event/aqua-aerobics-tues/2027-05-11/
LOCATION:Estate of Health\, 101 Mill Street West\, Kingsville\, Ontario\, N9Y 1W4\, Canada
ATTACH;FMTTYPE=image/png:https://estateofhealth.ca/wp-content/uploads/2026/04/Aqua-Aerobics-2025.png
END:VEVENT
BEGIN:VEVENT
DTSTART;TZID=America/Halifax:20270512T173000
DTEND;TZID=America/Halifax:20270512T183000
DTSTAMP:20260425T124714
CREATED:20260424T034657Z
LAST-MODIFIED:20260424T034657Z
UID:10010529-1810143000-1810146600@estateofhealth.ca
SUMMARY:Nature Flow
DESCRIPTION:Enjoy the beautiful surroundings of nature as you connect with the body & breath outside with Steph. Inspired by nature and the grounded peace that being outdoors can bring\, this practice will calm the busy mind and ease the tension in the body. Please bring your own mat for this outdoor practice. Registration is required.
URL:https://estateofhealth.ca/event/nature-flow/2027-05-12/
LOCATION:Estate of Health\, 101 Mill Street West\, Kingsville\, Ontario\, N9Y 1W4\, Canada
ATTACH;FMTTYPE=image/png:https://estateofhealth.ca/wp-content/uploads/2026/04/All-Levels-Yoga-substitute-1.png
END:VEVENT
END:VCALENDAR