BEGIN:VCALENDAR
VERSION:2.0
PRODID:-//Estate of Health - ECPv6.15.18//NONSGML v1.0//EN
CALSCALE:GREGORIAN
METHOD:PUBLISH
X-ORIGINAL-URL:https://estateofhealth.ca
X-WR-CALDESC:Events for Estate of Health
REFRESH-INTERVAL;VALUE=DURATION:PT1H
X-Robots-Tag:noindex
X-PUBLISHED-TTL:PT1H
BEGIN:VTIMEZONE
TZID:America/Halifax
BEGIN:DAYLIGHT
TZOFFSETFROM:-0400
TZOFFSETTO:-0300
TZNAME:ADT
DTSTART:20260308T060000
END:DAYLIGHT
BEGIN:STANDARD
TZOFFSETFROM:-0300
TZOFFSETTO:-0400
TZNAME:AST
DTSTART:20261101T050000
END:STANDARD
BEGIN:DAYLIGHT
TZOFFSETFROM:-0400
TZOFFSETTO:-0300
TZNAME:ADT
DTSTART:20270314T060000
END:DAYLIGHT
BEGIN:STANDARD
TZOFFSETFROM:-0300
TZOFFSETTO:-0400
TZNAME:AST
DTSTART:20271107T050000
END:STANDARD
BEGIN:DAYLIGHT
TZOFFSETFROM:-0400
TZOFFSETTO:-0300
TZNAME:ADT
DTSTART:20280312T060000
END:DAYLIGHT
BEGIN:STANDARD
TZOFFSETFROM:-0300
TZOFFSETTO:-0400
TZNAME:AST
DTSTART:20281105T050000
END:STANDARD
END:VTIMEZONE
BEGIN:VEVENT
DTSTART;TZID=America/Halifax:20270217T173000
DTEND;TZID=America/Halifax:20270217T183000
DTSTAMP:20260425T082103
CREATED:20260424T034657Z
LAST-MODIFIED:20260424T034657Z
UID:10010517-1802885400-1802889000@estateofhealth.ca
SUMMARY:Nature Flow
DESCRIPTION:Enjoy the beautiful surroundings of nature as you connect with the body & breath outside with Steph. Inspired by nature and the grounded peace that being outdoors can bring\, this practice will calm the busy mind and ease the tension in the body. Please bring your own mat for this outdoor practice. Registration is required.
URL:https://estateofhealth.ca/event/nature-flow/2027-02-17/
LOCATION:Estate of Health\, 101 Mill Street West\, Kingsville\, Ontario\, N9Y 1W4\, Canada
ATTACH;FMTTYPE=image/png:https://estateofhealth.ca/wp-content/uploads/2026/04/All-Levels-Yoga-substitute-1.png
END:VEVENT
BEGIN:VEVENT
DTSTART;TZID=America/Halifax:20270217T190000
DTEND;TZID=America/Halifax:20270217T201500
DTSTAMP:20260425T082103
CREATED:20260127T223940Z
LAST-MODIFIED:20260310T145903Z
UID:10009960-1802890800-1802895300@estateofhealth.ca
SUMMARY:Yin & Yang Yoga
DESCRIPTION:In this 75-minute\, all-levels class\, we explore the principles of Yin and Yang through meditation\, breathwork and movement. Participants can expect to work on strength\, stability and physical/mental spaciousness\, along with the stillness and focus of Yin Yoga\, applying the principles of TCM Meridian Theory and working with the body’s fascial system.
URL:https://estateofhealth.ca/event/yin-yang-yoga/2027-02-17/
LOCATION:Estate of Health\, 101 Mill Street West\, Kingsville\, Ontario\, N9Y 1W4\, Canada
CATEGORIES:Yoga Class
ATTACH;FMTTYPE=image/png:https://estateofhealth.ca/wp-content/uploads/2026/01/Chair-Yoga-1.png
END:VEVENT
BEGIN:VEVENT
DTSTART;TZID=America/Halifax:20270218T090000
DTEND;TZID=America/Halifax:20270218T100000
DTSTAMP:20260425T082103
CREATED:20260127T222600Z
LAST-MODIFIED:20260310T150028Z
UID:10009891-1802941200-1802944800@estateofhealth.ca
SUMMARY:Chair Yoga with Katera
DESCRIPTION:This class is for anyone who wants to try Yoga but is limited getting up and down from the floor. We use a chair to support the body both sitting and standing. Inspired by Yoga\, Pilates and functional movement practices\, this is the perfect class to help maintain (or even build) flexibility; gain confidence in standing balance; maintain muscle mass; support bone health; and\, have fun and connect with other community members! This class is accessible to all!
URL:https://estateofhealth.ca/event/chair-yoga-with-katera/2027-02-18/
LOCATION:Estate of Health\, 101 Mill Street West\, Kingsville\, Ontario\, N9Y 1W4\, Canada
CATEGORIES:Yoga Class
ATTACH;FMTTYPE=image/png:https://estateofhealth.ca/wp-content/uploads/2026/01/Chair-Yoga.png
END:VEVENT
BEGIN:VEVENT
DTSTART;TZID=America/Halifax:20270223T173000
DTEND;TZID=America/Halifax:20270223T181500
DTSTAMP:20260425T082103
CREATED:20260416T221810Z
LAST-MODIFIED:20260416T222953Z
UID:10010238-1803403800-1803406500@estateofhealth.ca
SUMMARY:Aqua Aerobics (Tues)
DESCRIPTION:Join Marilyn for some fun\, low-impact exercise in the salt water pool! Aqua aerobics is a great way to get in shape\, using the resistance of water to both support you in balance and challenge you in strength! This is a 45-minute  all-levels class. Pre-registration required. Please call/email to book your spot!
URL:https://estateofhealth.ca/event/aqua-aerobics-tues/2027-02-23/
LOCATION:Estate of Health\, 101 Mill Street West\, Kingsville\, Ontario\, N9Y 1W4\, Canada
ATTACH;FMTTYPE=image/png:https://estateofhealth.ca/wp-content/uploads/2026/04/Aqua-Aerobics-2025.png
END:VEVENT
BEGIN:VEVENT
DTSTART;TZID=America/Halifax:20270224T173000
DTEND;TZID=America/Halifax:20270224T183000
DTSTAMP:20260425T082103
CREATED:20260424T034657Z
LAST-MODIFIED:20260424T034657Z
UID:10010518-1803490200-1803493800@estateofhealth.ca
SUMMARY:Nature Flow
DESCRIPTION:Enjoy the beautiful surroundings of nature as you connect with the body & breath outside with Steph. Inspired by nature and the grounded peace that being outdoors can bring\, this practice will calm the busy mind and ease the tension in the body. Please bring your own mat for this outdoor practice. Registration is required.
URL:https://estateofhealth.ca/event/nature-flow/2027-02-24/
LOCATION:Estate of Health\, 101 Mill Street West\, Kingsville\, Ontario\, N9Y 1W4\, Canada
ATTACH;FMTTYPE=image/png:https://estateofhealth.ca/wp-content/uploads/2026/04/All-Levels-Yoga-substitute-1.png
END:VEVENT
BEGIN:VEVENT
DTSTART;TZID=America/Halifax:20270224T190000
DTEND;TZID=America/Halifax:20270224T201500
DTSTAMP:20260425T082103
CREATED:20260127T223940Z
LAST-MODIFIED:20260310T145903Z
UID:10009961-1803495600-1803500100@estateofhealth.ca
SUMMARY:Yin & Yang Yoga
DESCRIPTION:In this 75-minute\, all-levels class\, we explore the principles of Yin and Yang through meditation\, breathwork and movement. Participants can expect to work on strength\, stability and physical/mental spaciousness\, along with the stillness and focus of Yin Yoga\, applying the principles of TCM Meridian Theory and working with the body’s fascial system.
URL:https://estateofhealth.ca/event/yin-yang-yoga/2027-02-24/
LOCATION:Estate of Health\, 101 Mill Street West\, Kingsville\, Ontario\, N9Y 1W4\, Canada
CATEGORIES:Yoga Class
ATTACH;FMTTYPE=image/png:https://estateofhealth.ca/wp-content/uploads/2026/01/Chair-Yoga-1.png
END:VEVENT
BEGIN:VEVENT
DTSTART;TZID=America/Halifax:20270225T090000
DTEND;TZID=America/Halifax:20270225T100000
DTSTAMP:20260425T082103
CREATED:20260127T222600Z
LAST-MODIFIED:20260310T150028Z
UID:10009892-1803546000-1803549600@estateofhealth.ca
SUMMARY:Chair Yoga with Katera
DESCRIPTION:This class is for anyone who wants to try Yoga but is limited getting up and down from the floor. We use a chair to support the body both sitting and standing. Inspired by Yoga\, Pilates and functional movement practices\, this is the perfect class to help maintain (or even build) flexibility; gain confidence in standing balance; maintain muscle mass; support bone health; and\, have fun and connect with other community members! This class is accessible to all!
URL:https://estateofhealth.ca/event/chair-yoga-with-katera/2027-02-25/
LOCATION:Estate of Health\, 101 Mill Street West\, Kingsville\, Ontario\, N9Y 1W4\, Canada
CATEGORIES:Yoga Class
ATTACH;FMTTYPE=image/png:https://estateofhealth.ca/wp-content/uploads/2026/01/Chair-Yoga.png
END:VEVENT
BEGIN:VEVENT
DTSTART;TZID=America/Halifax:20270302T173000
DTEND;TZID=America/Halifax:20270302T181500
DTSTAMP:20260425T082103
CREATED:20260416T221810Z
LAST-MODIFIED:20260416T222953Z
UID:10010239-1804008600-1804011300@estateofhealth.ca
SUMMARY:Aqua Aerobics (Tues)
DESCRIPTION:Join Marilyn for some fun\, low-impact exercise in the salt water pool! Aqua aerobics is a great way to get in shape\, using the resistance of water to both support you in balance and challenge you in strength! This is a 45-minute  all-levels class. Pre-registration required. Please call/email to book your spot!
URL:https://estateofhealth.ca/event/aqua-aerobics-tues/2027-03-02/
LOCATION:Estate of Health\, 101 Mill Street West\, Kingsville\, Ontario\, N9Y 1W4\, Canada
ATTACH;FMTTYPE=image/png:https://estateofhealth.ca/wp-content/uploads/2026/04/Aqua-Aerobics-2025.png
END:VEVENT
BEGIN:VEVENT
DTSTART;TZID=America/Halifax:20270303T173000
DTEND;TZID=America/Halifax:20270303T183000
DTSTAMP:20260425T082103
CREATED:20260424T034657Z
LAST-MODIFIED:20260424T034657Z
UID:10010519-1804095000-1804098600@estateofhealth.ca
SUMMARY:Nature Flow
DESCRIPTION:Enjoy the beautiful surroundings of nature as you connect with the body & breath outside with Steph. Inspired by nature and the grounded peace that being outdoors can bring\, this practice will calm the busy mind and ease the tension in the body. Please bring your own mat for this outdoor practice. Registration is required.
URL:https://estateofhealth.ca/event/nature-flow/2027-03-03/
LOCATION:Estate of Health\, 101 Mill Street West\, Kingsville\, Ontario\, N9Y 1W4\, Canada
ATTACH;FMTTYPE=image/png:https://estateofhealth.ca/wp-content/uploads/2026/04/All-Levels-Yoga-substitute-1.png
END:VEVENT
BEGIN:VEVENT
DTSTART;TZID=America/Halifax:20270303T190000
DTEND;TZID=America/Halifax:20270303T201500
DTSTAMP:20260425T082103
CREATED:20260127T223940Z
LAST-MODIFIED:20260310T145903Z
UID:10009962-1804100400-1804104900@estateofhealth.ca
SUMMARY:Yin & Yang Yoga
DESCRIPTION:In this 75-minute\, all-levels class\, we explore the principles of Yin and Yang through meditation\, breathwork and movement. Participants can expect to work on strength\, stability and physical/mental spaciousness\, along with the stillness and focus of Yin Yoga\, applying the principles of TCM Meridian Theory and working with the body’s fascial system.
URL:https://estateofhealth.ca/event/yin-yang-yoga/2027-03-03/
LOCATION:Estate of Health\, 101 Mill Street West\, Kingsville\, Ontario\, N9Y 1W4\, Canada
CATEGORIES:Yoga Class
ATTACH;FMTTYPE=image/png:https://estateofhealth.ca/wp-content/uploads/2026/01/Chair-Yoga-1.png
END:VEVENT
BEGIN:VEVENT
DTSTART;TZID=America/Halifax:20270304T090000
DTEND;TZID=America/Halifax:20270304T100000
DTSTAMP:20260425T082103
CREATED:20260127T222600Z
LAST-MODIFIED:20260310T150028Z
UID:10009893-1804150800-1804154400@estateofhealth.ca
SUMMARY:Chair Yoga with Katera
DESCRIPTION:This class is for anyone who wants to try Yoga but is limited getting up and down from the floor. We use a chair to support the body both sitting and standing. Inspired by Yoga\, Pilates and functional movement practices\, this is the perfect class to help maintain (or even build) flexibility; gain confidence in standing balance; maintain muscle mass; support bone health; and\, have fun and connect with other community members! This class is accessible to all!
URL:https://estateofhealth.ca/event/chair-yoga-with-katera/2027-03-04/
LOCATION:Estate of Health\, 101 Mill Street West\, Kingsville\, Ontario\, N9Y 1W4\, Canada
CATEGORIES:Yoga Class
ATTACH;FMTTYPE=image/png:https://estateofhealth.ca/wp-content/uploads/2026/01/Chair-Yoga.png
END:VEVENT
BEGIN:VEVENT
DTSTART;TZID=America/Halifax:20270309T173000
DTEND;TZID=America/Halifax:20270309T181500
DTSTAMP:20260425T082103
CREATED:20260416T221810Z
LAST-MODIFIED:20260416T222953Z
UID:10010240-1804613400-1804616100@estateofhealth.ca
SUMMARY:Aqua Aerobics (Tues)
DESCRIPTION:Join Marilyn for some fun\, low-impact exercise in the salt water pool! Aqua aerobics is a great way to get in shape\, using the resistance of water to both support you in balance and challenge you in strength! This is a 45-minute  all-levels class. Pre-registration required. Please call/email to book your spot!
URL:https://estateofhealth.ca/event/aqua-aerobics-tues/2027-03-09/
LOCATION:Estate of Health\, 101 Mill Street West\, Kingsville\, Ontario\, N9Y 1W4\, Canada
ATTACH;FMTTYPE=image/png:https://estateofhealth.ca/wp-content/uploads/2026/04/Aqua-Aerobics-2025.png
END:VEVENT
BEGIN:VEVENT
DTSTART;TZID=America/Halifax:20270310T173000
DTEND;TZID=America/Halifax:20270310T183000
DTSTAMP:20260425T082103
CREATED:20260424T034657Z
LAST-MODIFIED:20260424T034657Z
UID:10010520-1804699800-1804703400@estateofhealth.ca
SUMMARY:Nature Flow
DESCRIPTION:Enjoy the beautiful surroundings of nature as you connect with the body & breath outside with Steph. Inspired by nature and the grounded peace that being outdoors can bring\, this practice will calm the busy mind and ease the tension in the body. Please bring your own mat for this outdoor practice. Registration is required.
URL:https://estateofhealth.ca/event/nature-flow/2027-03-10/
LOCATION:Estate of Health\, 101 Mill Street West\, Kingsville\, Ontario\, N9Y 1W4\, Canada
ATTACH;FMTTYPE=image/png:https://estateofhealth.ca/wp-content/uploads/2026/04/All-Levels-Yoga-substitute-1.png
END:VEVENT
BEGIN:VEVENT
DTSTART;TZID=America/Halifax:20270310T190000
DTEND;TZID=America/Halifax:20270310T201500
DTSTAMP:20260425T082103
CREATED:20260127T223940Z
LAST-MODIFIED:20260310T145903Z
UID:10009963-1804705200-1804709700@estateofhealth.ca
SUMMARY:Yin & Yang Yoga
DESCRIPTION:In this 75-minute\, all-levels class\, we explore the principles of Yin and Yang through meditation\, breathwork and movement. Participants can expect to work on strength\, stability and physical/mental spaciousness\, along with the stillness and focus of Yin Yoga\, applying the principles of TCM Meridian Theory and working with the body’s fascial system.
URL:https://estateofhealth.ca/event/yin-yang-yoga/2027-03-10/
LOCATION:Estate of Health\, 101 Mill Street West\, Kingsville\, Ontario\, N9Y 1W4\, Canada
CATEGORIES:Yoga Class
ATTACH;FMTTYPE=image/png:https://estateofhealth.ca/wp-content/uploads/2026/01/Chair-Yoga-1.png
END:VEVENT
BEGIN:VEVENT
DTSTART;TZID=America/Halifax:20270311T090000
DTEND;TZID=America/Halifax:20270311T100000
DTSTAMP:20260425T082103
CREATED:20260127T222600Z
LAST-MODIFIED:20260310T150028Z
UID:10009894-1804755600-1804759200@estateofhealth.ca
SUMMARY:Chair Yoga with Katera
DESCRIPTION:This class is for anyone who wants to try Yoga but is limited getting up and down from the floor. We use a chair to support the body both sitting and standing. Inspired by Yoga\, Pilates and functional movement practices\, this is the perfect class to help maintain (or even build) flexibility; gain confidence in standing balance; maintain muscle mass; support bone health; and\, have fun and connect with other community members! This class is accessible to all!
URL:https://estateofhealth.ca/event/chair-yoga-with-katera/2027-03-11/
LOCATION:Estate of Health\, 101 Mill Street West\, Kingsville\, Ontario\, N9Y 1W4\, Canada
CATEGORIES:Yoga Class
ATTACH;FMTTYPE=image/png:https://estateofhealth.ca/wp-content/uploads/2026/01/Chair-Yoga.png
END:VEVENT
BEGIN:VEVENT
DTSTART;TZID=America/Halifax:20270316T173000
DTEND;TZID=America/Halifax:20270316T181500
DTSTAMP:20260425T082103
CREATED:20260416T221810Z
LAST-MODIFIED:20260416T222953Z
UID:10010241-1805218200-1805220900@estateofhealth.ca
SUMMARY:Aqua Aerobics (Tues)
DESCRIPTION:Join Marilyn for some fun\, low-impact exercise in the salt water pool! Aqua aerobics is a great way to get in shape\, using the resistance of water to both support you in balance and challenge you in strength! This is a 45-minute  all-levels class. Pre-registration required. Please call/email to book your spot!
URL:https://estateofhealth.ca/event/aqua-aerobics-tues/2027-03-16/
LOCATION:Estate of Health\, 101 Mill Street West\, Kingsville\, Ontario\, N9Y 1W4\, Canada
ATTACH;FMTTYPE=image/png:https://estateofhealth.ca/wp-content/uploads/2026/04/Aqua-Aerobics-2025.png
END:VEVENT
BEGIN:VEVENT
DTSTART;TZID=America/Halifax:20270317T173000
DTEND;TZID=America/Halifax:20270317T183000
DTSTAMP:20260425T082103
CREATED:20260424T034657Z
LAST-MODIFIED:20260424T034657Z
UID:10010521-1805304600-1805308200@estateofhealth.ca
SUMMARY:Nature Flow
DESCRIPTION:Enjoy the beautiful surroundings of nature as you connect with the body & breath outside with Steph. Inspired by nature and the grounded peace that being outdoors can bring\, this practice will calm the busy mind and ease the tension in the body. Please bring your own mat for this outdoor practice. Registration is required.
URL:https://estateofhealth.ca/event/nature-flow/2027-03-17/
LOCATION:Estate of Health\, 101 Mill Street West\, Kingsville\, Ontario\, N9Y 1W4\, Canada
ATTACH;FMTTYPE=image/png:https://estateofhealth.ca/wp-content/uploads/2026/04/All-Levels-Yoga-substitute-1.png
END:VEVENT
BEGIN:VEVENT
DTSTART;TZID=America/Halifax:20270317T190000
DTEND;TZID=America/Halifax:20270317T201500
DTSTAMP:20260425T082103
CREATED:20260127T223940Z
LAST-MODIFIED:20260310T145903Z
UID:10009964-1805310000-1805314500@estateofhealth.ca
SUMMARY:Yin & Yang Yoga
DESCRIPTION:In this 75-minute\, all-levels class\, we explore the principles of Yin and Yang through meditation\, breathwork and movement. Participants can expect to work on strength\, stability and physical/mental spaciousness\, along with the stillness and focus of Yin Yoga\, applying the principles of TCM Meridian Theory and working with the body’s fascial system.
URL:https://estateofhealth.ca/event/yin-yang-yoga/2027-03-17/
LOCATION:Estate of Health\, 101 Mill Street West\, Kingsville\, Ontario\, N9Y 1W4\, Canada
CATEGORIES:Yoga Class
ATTACH;FMTTYPE=image/png:https://estateofhealth.ca/wp-content/uploads/2026/01/Chair-Yoga-1.png
END:VEVENT
BEGIN:VEVENT
DTSTART;TZID=America/Halifax:20270318T090000
DTEND;TZID=America/Halifax:20270318T100000
DTSTAMP:20260425T082103
CREATED:20260127T222600Z
LAST-MODIFIED:20260310T150028Z
UID:10009895-1805360400-1805364000@estateofhealth.ca
SUMMARY:Chair Yoga with Katera
DESCRIPTION:This class is for anyone who wants to try Yoga but is limited getting up and down from the floor. We use a chair to support the body both sitting and standing. Inspired by Yoga\, Pilates and functional movement practices\, this is the perfect class to help maintain (or even build) flexibility; gain confidence in standing balance; maintain muscle mass; support bone health; and\, have fun and connect with other community members! This class is accessible to all!
URL:https://estateofhealth.ca/event/chair-yoga-with-katera/2027-03-18/
LOCATION:Estate of Health\, 101 Mill Street West\, Kingsville\, Ontario\, N9Y 1W4\, Canada
CATEGORIES:Yoga Class
ATTACH;FMTTYPE=image/png:https://estateofhealth.ca/wp-content/uploads/2026/01/Chair-Yoga.png
END:VEVENT
BEGIN:VEVENT
DTSTART;TZID=America/Halifax:20270323T173000
DTEND;TZID=America/Halifax:20270323T181500
DTSTAMP:20260425T082103
CREATED:20260416T221810Z
LAST-MODIFIED:20260416T222953Z
UID:10010242-1805823000-1805825700@estateofhealth.ca
SUMMARY:Aqua Aerobics (Tues)
DESCRIPTION:Join Marilyn for some fun\, low-impact exercise in the salt water pool! Aqua aerobics is a great way to get in shape\, using the resistance of water to both support you in balance and challenge you in strength! This is a 45-minute  all-levels class. Pre-registration required. Please call/email to book your spot!
URL:https://estateofhealth.ca/event/aqua-aerobics-tues/2027-03-23/
LOCATION:Estate of Health\, 101 Mill Street West\, Kingsville\, Ontario\, N9Y 1W4\, Canada
ATTACH;FMTTYPE=image/png:https://estateofhealth.ca/wp-content/uploads/2026/04/Aqua-Aerobics-2025.png
END:VEVENT
BEGIN:VEVENT
DTSTART;TZID=America/Halifax:20270324T173000
DTEND;TZID=America/Halifax:20270324T183000
DTSTAMP:20260425T082103
CREATED:20260424T034657Z
LAST-MODIFIED:20260424T034657Z
UID:10010522-1805909400-1805913000@estateofhealth.ca
SUMMARY:Nature Flow
DESCRIPTION:Enjoy the beautiful surroundings of nature as you connect with the body & breath outside with Steph. Inspired by nature and the grounded peace that being outdoors can bring\, this practice will calm the busy mind and ease the tension in the body. Please bring your own mat for this outdoor practice. Registration is required.
URL:https://estateofhealth.ca/event/nature-flow/2027-03-24/
LOCATION:Estate of Health\, 101 Mill Street West\, Kingsville\, Ontario\, N9Y 1W4\, Canada
ATTACH;FMTTYPE=image/png:https://estateofhealth.ca/wp-content/uploads/2026/04/All-Levels-Yoga-substitute-1.png
END:VEVENT
BEGIN:VEVENT
DTSTART;TZID=America/Halifax:20270324T190000
DTEND;TZID=America/Halifax:20270324T201500
DTSTAMP:20260425T082103
CREATED:20260127T223940Z
LAST-MODIFIED:20260310T145903Z
UID:10009965-1805914800-1805919300@estateofhealth.ca
SUMMARY:Yin & Yang Yoga
DESCRIPTION:In this 75-minute\, all-levels class\, we explore the principles of Yin and Yang through meditation\, breathwork and movement. Participants can expect to work on strength\, stability and physical/mental spaciousness\, along with the stillness and focus of Yin Yoga\, applying the principles of TCM Meridian Theory and working with the body’s fascial system.
URL:https://estateofhealth.ca/event/yin-yang-yoga/2027-03-24/
LOCATION:Estate of Health\, 101 Mill Street West\, Kingsville\, Ontario\, N9Y 1W4\, Canada
CATEGORIES:Yoga Class
ATTACH;FMTTYPE=image/png:https://estateofhealth.ca/wp-content/uploads/2026/01/Chair-Yoga-1.png
END:VEVENT
BEGIN:VEVENT
DTSTART;TZID=America/Halifax:20270325T090000
DTEND;TZID=America/Halifax:20270325T100000
DTSTAMP:20260425T082103
CREATED:20260127T222600Z
LAST-MODIFIED:20260310T150028Z
UID:10009896-1805965200-1805968800@estateofhealth.ca
SUMMARY:Chair Yoga with Katera
DESCRIPTION:This class is for anyone who wants to try Yoga but is limited getting up and down from the floor. We use a chair to support the body both sitting and standing. Inspired by Yoga\, Pilates and functional movement practices\, this is the perfect class to help maintain (or even build) flexibility; gain confidence in standing balance; maintain muscle mass; support bone health; and\, have fun and connect with other community members! This class is accessible to all!
URL:https://estateofhealth.ca/event/chair-yoga-with-katera/2027-03-25/
LOCATION:Estate of Health\, 101 Mill Street West\, Kingsville\, Ontario\, N9Y 1W4\, Canada
CATEGORIES:Yoga Class
ATTACH;FMTTYPE=image/png:https://estateofhealth.ca/wp-content/uploads/2026/01/Chair-Yoga.png
END:VEVENT
BEGIN:VEVENT
DTSTART;TZID=America/Halifax:20270330T173000
DTEND;TZID=America/Halifax:20270330T181500
DTSTAMP:20260425T082103
CREATED:20260416T221810Z
LAST-MODIFIED:20260416T222953Z
UID:10010243-1806427800-1806430500@estateofhealth.ca
SUMMARY:Aqua Aerobics (Tues)
DESCRIPTION:Join Marilyn for some fun\, low-impact exercise in the salt water pool! Aqua aerobics is a great way to get in shape\, using the resistance of water to both support you in balance and challenge you in strength! This is a 45-minute  all-levels class. Pre-registration required. Please call/email to book your spot!
URL:https://estateofhealth.ca/event/aqua-aerobics-tues/2027-03-30/
LOCATION:Estate of Health\, 101 Mill Street West\, Kingsville\, Ontario\, N9Y 1W4\, Canada
ATTACH;FMTTYPE=image/png:https://estateofhealth.ca/wp-content/uploads/2026/04/Aqua-Aerobics-2025.png
END:VEVENT
BEGIN:VEVENT
DTSTART;TZID=America/Halifax:20270331T173000
DTEND;TZID=America/Halifax:20270331T183000
DTSTAMP:20260425T082103
CREATED:20260424T034657Z
LAST-MODIFIED:20260424T034657Z
UID:10010523-1806514200-1806517800@estateofhealth.ca
SUMMARY:Nature Flow
DESCRIPTION:Enjoy the beautiful surroundings of nature as you connect with the body & breath outside with Steph. Inspired by nature and the grounded peace that being outdoors can bring\, this practice will calm the busy mind and ease the tension in the body. Please bring your own mat for this outdoor practice. Registration is required.
URL:https://estateofhealth.ca/event/nature-flow/2027-03-31/
LOCATION:Estate of Health\, 101 Mill Street West\, Kingsville\, Ontario\, N9Y 1W4\, Canada
ATTACH;FMTTYPE=image/png:https://estateofhealth.ca/wp-content/uploads/2026/04/All-Levels-Yoga-substitute-1.png
END:VEVENT
BEGIN:VEVENT
DTSTART;TZID=America/Halifax:20270331T190000
DTEND;TZID=America/Halifax:20270331T201500
DTSTAMP:20260425T082103
CREATED:20260127T223940Z
LAST-MODIFIED:20260310T145903Z
UID:10009966-1806519600-1806524100@estateofhealth.ca
SUMMARY:Yin & Yang Yoga
DESCRIPTION:In this 75-minute\, all-levels class\, we explore the principles of Yin and Yang through meditation\, breathwork and movement. Participants can expect to work on strength\, stability and physical/mental spaciousness\, along with the stillness and focus of Yin Yoga\, applying the principles of TCM Meridian Theory and working with the body’s fascial system.
URL:https://estateofhealth.ca/event/yin-yang-yoga/2027-03-31/
LOCATION:Estate of Health\, 101 Mill Street West\, Kingsville\, Ontario\, N9Y 1W4\, Canada
CATEGORIES:Yoga Class
ATTACH;FMTTYPE=image/png:https://estateofhealth.ca/wp-content/uploads/2026/01/Chair-Yoga-1.png
END:VEVENT
BEGIN:VEVENT
DTSTART;TZID=America/Halifax:20270401T090000
DTEND;TZID=America/Halifax:20270401T100000
DTSTAMP:20260425T082103
CREATED:20260127T222600Z
LAST-MODIFIED:20260310T150028Z
UID:10009897-1806570000-1806573600@estateofhealth.ca
SUMMARY:Chair Yoga with Katera
DESCRIPTION:This class is for anyone who wants to try Yoga but is limited getting up and down from the floor. We use a chair to support the body both sitting and standing. Inspired by Yoga\, Pilates and functional movement practices\, this is the perfect class to help maintain (or even build) flexibility; gain confidence in standing balance; maintain muscle mass; support bone health; and\, have fun and connect with other community members! This class is accessible to all!
URL:https://estateofhealth.ca/event/chair-yoga-with-katera/2027-04-01/
LOCATION:Estate of Health\, 101 Mill Street West\, Kingsville\, Ontario\, N9Y 1W4\, Canada
CATEGORIES:Yoga Class
ATTACH;FMTTYPE=image/png:https://estateofhealth.ca/wp-content/uploads/2026/01/Chair-Yoga.png
END:VEVENT
BEGIN:VEVENT
DTSTART;TZID=America/Halifax:20270406T173000
DTEND;TZID=America/Halifax:20270406T181500
DTSTAMP:20260425T082103
CREATED:20260416T221810Z
LAST-MODIFIED:20260416T222953Z
UID:10010244-1807032600-1807035300@estateofhealth.ca
SUMMARY:Aqua Aerobics (Tues)
DESCRIPTION:Join Marilyn for some fun\, low-impact exercise in the salt water pool! Aqua aerobics is a great way to get in shape\, using the resistance of water to both support you in balance and challenge you in strength! This is a 45-minute  all-levels class. Pre-registration required. Please call/email to book your spot!
URL:https://estateofhealth.ca/event/aqua-aerobics-tues/2027-04-06/
LOCATION:Estate of Health\, 101 Mill Street West\, Kingsville\, Ontario\, N9Y 1W4\, Canada
ATTACH;FMTTYPE=image/png:https://estateofhealth.ca/wp-content/uploads/2026/04/Aqua-Aerobics-2025.png
END:VEVENT
BEGIN:VEVENT
DTSTART;TZID=America/Halifax:20270407T173000
DTEND;TZID=America/Halifax:20270407T183000
DTSTAMP:20260425T082103
CREATED:20260424T034657Z
LAST-MODIFIED:20260424T034657Z
UID:10010524-1807119000-1807122600@estateofhealth.ca
SUMMARY:Nature Flow
DESCRIPTION:Enjoy the beautiful surroundings of nature as you connect with the body & breath outside with Steph. Inspired by nature and the grounded peace that being outdoors can bring\, this practice will calm the busy mind and ease the tension in the body. Please bring your own mat for this outdoor practice. Registration is required.
URL:https://estateofhealth.ca/event/nature-flow/2027-04-07/
LOCATION:Estate of Health\, 101 Mill Street West\, Kingsville\, Ontario\, N9Y 1W4\, Canada
ATTACH;FMTTYPE=image/png:https://estateofhealth.ca/wp-content/uploads/2026/04/All-Levels-Yoga-substitute-1.png
END:VEVENT
BEGIN:VEVENT
DTSTART;TZID=America/Halifax:20270407T190000
DTEND;TZID=America/Halifax:20270407T201500
DTSTAMP:20260425T082103
CREATED:20260127T223940Z
LAST-MODIFIED:20260310T145903Z
UID:10009967-1807124400-1807128900@estateofhealth.ca
SUMMARY:Yin & Yang Yoga
DESCRIPTION:In this 75-minute\, all-levels class\, we explore the principles of Yin and Yang through meditation\, breathwork and movement. Participants can expect to work on strength\, stability and physical/mental spaciousness\, along with the stillness and focus of Yin Yoga\, applying the principles of TCM Meridian Theory and working with the body’s fascial system.
URL:https://estateofhealth.ca/event/yin-yang-yoga/2027-04-07/
LOCATION:Estate of Health\, 101 Mill Street West\, Kingsville\, Ontario\, N9Y 1W4\, Canada
CATEGORIES:Yoga Class
ATTACH;FMTTYPE=image/png:https://estateofhealth.ca/wp-content/uploads/2026/01/Chair-Yoga-1.png
END:VEVENT
END:VCALENDAR