BEGIN:VCALENDAR
VERSION:2.0
PRODID:-//Estate of Health - ECPv6.15.18//NONSGML v1.0//EN
CALSCALE:GREGORIAN
METHOD:PUBLISH
X-WR-CALNAME:Estate of Health
X-ORIGINAL-URL:https://estateofhealth.ca
X-WR-CALDESC:Events for Estate of Health
REFRESH-INTERVAL;VALUE=DURATION:PT1H
X-Robots-Tag:noindex
X-PUBLISHED-TTL:PT1H
BEGIN:VTIMEZONE
TZID:America/Halifax
BEGIN:DAYLIGHT
TZOFFSETFROM:-0400
TZOFFSETTO:-0300
TZNAME:ADT
DTSTART:20280312T060000
END:DAYLIGHT
BEGIN:STANDARD
TZOFFSETFROM:-0300
TZOFFSETTO:-0400
TZNAME:AST
DTSTART:20281105T050000
END:STANDARD
BEGIN:DAYLIGHT
TZOFFSETFROM:-0400
TZOFFSETTO:-0300
TZNAME:ADT
DTSTART:20290311T060000
END:DAYLIGHT
BEGIN:STANDARD
TZOFFSETFROM:-0300
TZOFFSETTO:-0400
TZNAME:AST
DTSTART:20291104T050000
END:STANDARD
BEGIN:DAYLIGHT
TZOFFSETFROM:-0400
TZOFFSETTO:-0300
TZNAME:ADT
DTSTART:20300310T060000
END:DAYLIGHT
BEGIN:STANDARD
TZOFFSETFROM:-0300
TZOFFSETTO:-0400
TZNAME:AST
DTSTART:20301103T050000
END:STANDARD
END:VTIMEZONE
BEGIN:VEVENT
DTSTART;TZID=America/Halifax:20290213T173000
DTEND;TZID=America/Halifax:20290213T181500
DTSTAMP:20260425T081654
CREATED:20260416T221810Z
LAST-MODIFIED:20260416T222953Z
UID:10010341-1865698200-1865700900@estateofhealth.ca
SUMMARY:Aqua Aerobics (Tues)
DESCRIPTION:Join Marilyn for some fun\, low-impact exercise in the salt water pool! Aqua aerobics is a great way to get in shape\, using the resistance of water to both support you in balance and challenge you in strength! This is a 45-minute  all-levels class. Pre-registration required. Please call/email to book your spot!
URL:https://estateofhealth.ca/event/aqua-aerobics-tues/2029-02-13/
LOCATION:Estate of Health\, 101 Mill Street West\, Kingsville\, Ontario\, N9Y 1W4\, Canada
ATTACH;FMTTYPE=image/png:https://estateofhealth.ca/wp-content/uploads/2026/04/Aqua-Aerobics-2025.png
END:VEVENT
BEGIN:VEVENT
DTSTART;TZID=America/Halifax:20290220T173000
DTEND;TZID=America/Halifax:20290220T181500
DTSTAMP:20260425T081654
CREATED:20260416T221810Z
LAST-MODIFIED:20260416T222953Z
UID:10010342-1866303000-1866305700@estateofhealth.ca
SUMMARY:Aqua Aerobics (Tues)
DESCRIPTION:Join Marilyn for some fun\, low-impact exercise in the salt water pool! Aqua aerobics is a great way to get in shape\, using the resistance of water to both support you in balance and challenge you in strength! This is a 45-minute  all-levels class. Pre-registration required. Please call/email to book your spot!
URL:https://estateofhealth.ca/event/aqua-aerobics-tues/2029-02-20/
LOCATION:Estate of Health\, 101 Mill Street West\, Kingsville\, Ontario\, N9Y 1W4\, Canada
ATTACH;FMTTYPE=image/png:https://estateofhealth.ca/wp-content/uploads/2026/04/Aqua-Aerobics-2025.png
END:VEVENT
BEGIN:VEVENT
DTSTART;TZID=America/Halifax:20290227T173000
DTEND;TZID=America/Halifax:20290227T181500
DTSTAMP:20260425T081654
CREATED:20260416T221810Z
LAST-MODIFIED:20260416T222953Z
UID:10010343-1866907800-1866910500@estateofhealth.ca
SUMMARY:Aqua Aerobics (Tues)
DESCRIPTION:Join Marilyn for some fun\, low-impact exercise in the salt water pool! Aqua aerobics is a great way to get in shape\, using the resistance of water to both support you in balance and challenge you in strength! This is a 45-minute  all-levels class. Pre-registration required. Please call/email to book your spot!
URL:https://estateofhealth.ca/event/aqua-aerobics-tues/2029-02-27/
LOCATION:Estate of Health\, 101 Mill Street West\, Kingsville\, Ontario\, N9Y 1W4\, Canada
ATTACH;FMTTYPE=image/png:https://estateofhealth.ca/wp-content/uploads/2026/04/Aqua-Aerobics-2025.png
END:VEVENT
BEGIN:VEVENT
DTSTART;TZID=America/Halifax:20290306T173000
DTEND;TZID=America/Halifax:20290306T181500
DTSTAMP:20260425T081654
CREATED:20260416T221810Z
LAST-MODIFIED:20260416T222953Z
UID:10010344-1867512600-1867515300@estateofhealth.ca
SUMMARY:Aqua Aerobics (Tues)
DESCRIPTION:Join Marilyn for some fun\, low-impact exercise in the salt water pool! Aqua aerobics is a great way to get in shape\, using the resistance of water to both support you in balance and challenge you in strength! This is a 45-minute  all-levels class. Pre-registration required. Please call/email to book your spot!
URL:https://estateofhealth.ca/event/aqua-aerobics-tues/2029-03-06/
LOCATION:Estate of Health\, 101 Mill Street West\, Kingsville\, Ontario\, N9Y 1W4\, Canada
ATTACH;FMTTYPE=image/png:https://estateofhealth.ca/wp-content/uploads/2026/04/Aqua-Aerobics-2025.png
END:VEVENT
BEGIN:VEVENT
DTSTART;TZID=America/Halifax:20290313T173000
DTEND;TZID=America/Halifax:20290313T181500
DTSTAMP:20260425T081654
CREATED:20260416T221810Z
LAST-MODIFIED:20260416T222953Z
UID:10010345-1868117400-1868120100@estateofhealth.ca
SUMMARY:Aqua Aerobics (Tues)
DESCRIPTION:Join Marilyn for some fun\, low-impact exercise in the salt water pool! Aqua aerobics is a great way to get in shape\, using the resistance of water to both support you in balance and challenge you in strength! This is a 45-minute  all-levels class. Pre-registration required. Please call/email to book your spot!
URL:https://estateofhealth.ca/event/aqua-aerobics-tues/2029-03-13/
LOCATION:Estate of Health\, 101 Mill Street West\, Kingsville\, Ontario\, N9Y 1W4\, Canada
ATTACH;FMTTYPE=image/png:https://estateofhealth.ca/wp-content/uploads/2026/04/Aqua-Aerobics-2025.png
END:VEVENT
BEGIN:VEVENT
DTSTART;TZID=America/Halifax:20290320T173000
DTEND;TZID=America/Halifax:20290320T181500
DTSTAMP:20260425T081654
CREATED:20260416T221810Z
LAST-MODIFIED:20260416T222953Z
UID:10010346-1868722200-1868724900@estateofhealth.ca
SUMMARY:Aqua Aerobics (Tues)
DESCRIPTION:Join Marilyn for some fun\, low-impact exercise in the salt water pool! Aqua aerobics is a great way to get in shape\, using the resistance of water to both support you in balance and challenge you in strength! This is a 45-minute  all-levels class. Pre-registration required. Please call/email to book your spot!
URL:https://estateofhealth.ca/event/aqua-aerobics-tues/2029-03-20/
LOCATION:Estate of Health\, 101 Mill Street West\, Kingsville\, Ontario\, N9Y 1W4\, Canada
ATTACH;FMTTYPE=image/png:https://estateofhealth.ca/wp-content/uploads/2026/04/Aqua-Aerobics-2025.png
END:VEVENT
BEGIN:VEVENT
DTSTART;TZID=America/Halifax:20290327T173000
DTEND;TZID=America/Halifax:20290327T181500
DTSTAMP:20260425T081654
CREATED:20260416T221810Z
LAST-MODIFIED:20260416T222953Z
UID:10010347-1869327000-1869329700@estateofhealth.ca
SUMMARY:Aqua Aerobics (Tues)
DESCRIPTION:Join Marilyn for some fun\, low-impact exercise in the salt water pool! Aqua aerobics is a great way to get in shape\, using the resistance of water to both support you in balance and challenge you in strength! This is a 45-minute  all-levels class. Pre-registration required. Please call/email to book your spot!
URL:https://estateofhealth.ca/event/aqua-aerobics-tues/2029-03-27/
LOCATION:Estate of Health\, 101 Mill Street West\, Kingsville\, Ontario\, N9Y 1W4\, Canada
ATTACH;FMTTYPE=image/png:https://estateofhealth.ca/wp-content/uploads/2026/04/Aqua-Aerobics-2025.png
END:VEVENT
BEGIN:VEVENT
DTSTART;TZID=America/Halifax:20290403T173000
DTEND;TZID=America/Halifax:20290403T181500
DTSTAMP:20260425T081654
CREATED:20260416T221810Z
LAST-MODIFIED:20260416T222953Z
UID:10010348-1869931800-1869934500@estateofhealth.ca
SUMMARY:Aqua Aerobics (Tues)
DESCRIPTION:Join Marilyn for some fun\, low-impact exercise in the salt water pool! Aqua aerobics is a great way to get in shape\, using the resistance of water to both support you in balance and challenge you in strength! This is a 45-minute  all-levels class. Pre-registration required. Please call/email to book your spot!
URL:https://estateofhealth.ca/event/aqua-aerobics-tues/2029-04-03/
LOCATION:Estate of Health\, 101 Mill Street West\, Kingsville\, Ontario\, N9Y 1W4\, Canada
ATTACH;FMTTYPE=image/png:https://estateofhealth.ca/wp-content/uploads/2026/04/Aqua-Aerobics-2025.png
END:VEVENT
BEGIN:VEVENT
DTSTART;TZID=America/Halifax:20290410T173000
DTEND;TZID=America/Halifax:20290410T181500
DTSTAMP:20260425T081654
CREATED:20260416T221810Z
LAST-MODIFIED:20260416T222953Z
UID:10010349-1870536600-1870539300@estateofhealth.ca
SUMMARY:Aqua Aerobics (Tues)
DESCRIPTION:Join Marilyn for some fun\, low-impact exercise in the salt water pool! Aqua aerobics is a great way to get in shape\, using the resistance of water to both support you in balance and challenge you in strength! This is a 45-minute  all-levels class. Pre-registration required. Please call/email to book your spot!
URL:https://estateofhealth.ca/event/aqua-aerobics-tues/2029-04-10/
LOCATION:Estate of Health\, 101 Mill Street West\, Kingsville\, Ontario\, N9Y 1W4\, Canada
ATTACH;FMTTYPE=image/png:https://estateofhealth.ca/wp-content/uploads/2026/04/Aqua-Aerobics-2025.png
END:VEVENT
BEGIN:VEVENT
DTSTART;TZID=America/Halifax:20290417T173000
DTEND;TZID=America/Halifax:20290417T181500
DTSTAMP:20260425T081654
CREATED:20260416T221810Z
LAST-MODIFIED:20260416T222953Z
UID:10010350-1871141400-1871144100@estateofhealth.ca
SUMMARY:Aqua Aerobics (Tues)
DESCRIPTION:Join Marilyn for some fun\, low-impact exercise in the salt water pool! Aqua aerobics is a great way to get in shape\, using the resistance of water to both support you in balance and challenge you in strength! This is a 45-minute  all-levels class. Pre-registration required. Please call/email to book your spot!
URL:https://estateofhealth.ca/event/aqua-aerobics-tues/2029-04-17/
LOCATION:Estate of Health\, 101 Mill Street West\, Kingsville\, Ontario\, N9Y 1W4\, Canada
ATTACH;FMTTYPE=image/png:https://estateofhealth.ca/wp-content/uploads/2026/04/Aqua-Aerobics-2025.png
END:VEVENT
BEGIN:VEVENT
DTSTART;TZID=America/Halifax:20290424T173000
DTEND;TZID=America/Halifax:20290424T181500
DTSTAMP:20260425T081654
CREATED:20260416T221810Z
LAST-MODIFIED:20260416T222953Z
UID:10010351-1871746200-1871748900@estateofhealth.ca
SUMMARY:Aqua Aerobics (Tues)
DESCRIPTION:Join Marilyn for some fun\, low-impact exercise in the salt water pool! Aqua aerobics is a great way to get in shape\, using the resistance of water to both support you in balance and challenge you in strength! This is a 45-minute  all-levels class. Pre-registration required. Please call/email to book your spot!
URL:https://estateofhealth.ca/event/aqua-aerobics-tues/2029-04-24/
LOCATION:Estate of Health\, 101 Mill Street West\, Kingsville\, Ontario\, N9Y 1W4\, Canada
ATTACH;FMTTYPE=image/png:https://estateofhealth.ca/wp-content/uploads/2026/04/Aqua-Aerobics-2025.png
END:VEVENT
BEGIN:VEVENT
DTSTART;TZID=America/Halifax:20290501T173000
DTEND;TZID=America/Halifax:20290501T181500
DTSTAMP:20260425T081654
CREATED:20260416T221810Z
LAST-MODIFIED:20260416T222953Z
UID:10010352-1872351000-1872353700@estateofhealth.ca
SUMMARY:Aqua Aerobics (Tues)
DESCRIPTION:Join Marilyn for some fun\, low-impact exercise in the salt water pool! Aqua aerobics is a great way to get in shape\, using the resistance of water to both support you in balance and challenge you in strength! This is a 45-minute  all-levels class. Pre-registration required. Please call/email to book your spot!
URL:https://estateofhealth.ca/event/aqua-aerobics-tues/2029-05-01/
LOCATION:Estate of Health\, 101 Mill Street West\, Kingsville\, Ontario\, N9Y 1W4\, Canada
ATTACH;FMTTYPE=image/png:https://estateofhealth.ca/wp-content/uploads/2026/04/Aqua-Aerobics-2025.png
END:VEVENT
BEGIN:VEVENT
DTSTART;TZID=America/Halifax:20290508T173000
DTEND;TZID=America/Halifax:20290508T181500
DTSTAMP:20260425T081654
CREATED:20260416T221810Z
LAST-MODIFIED:20260416T222953Z
UID:10010353-1872955800-1872958500@estateofhealth.ca
SUMMARY:Aqua Aerobics (Tues)
DESCRIPTION:Join Marilyn for some fun\, low-impact exercise in the salt water pool! Aqua aerobics is a great way to get in shape\, using the resistance of water to both support you in balance and challenge you in strength! This is a 45-minute  all-levels class. Pre-registration required. Please call/email to book your spot!
URL:https://estateofhealth.ca/event/aqua-aerobics-tues/2029-05-08/
LOCATION:Estate of Health\, 101 Mill Street West\, Kingsville\, Ontario\, N9Y 1W4\, Canada
ATTACH;FMTTYPE=image/png:https://estateofhealth.ca/wp-content/uploads/2026/04/Aqua-Aerobics-2025.png
END:VEVENT
BEGIN:VEVENT
DTSTART;TZID=America/Halifax:20290515T173000
DTEND;TZID=America/Halifax:20290515T181500
DTSTAMP:20260425T081654
CREATED:20260416T221810Z
LAST-MODIFIED:20260416T222953Z
UID:10010354-1873560600-1873563300@estateofhealth.ca
SUMMARY:Aqua Aerobics (Tues)
DESCRIPTION:Join Marilyn for some fun\, low-impact exercise in the salt water pool! Aqua aerobics is a great way to get in shape\, using the resistance of water to both support you in balance and challenge you in strength! This is a 45-minute  all-levels class. Pre-registration required. Please call/email to book your spot!
URL:https://estateofhealth.ca/event/aqua-aerobics-tues/2029-05-15/
LOCATION:Estate of Health\, 101 Mill Street West\, Kingsville\, Ontario\, N9Y 1W4\, Canada
ATTACH;FMTTYPE=image/png:https://estateofhealth.ca/wp-content/uploads/2026/04/Aqua-Aerobics-2025.png
END:VEVENT
BEGIN:VEVENT
DTSTART;TZID=America/Halifax:20290522T173000
DTEND;TZID=America/Halifax:20290522T181500
DTSTAMP:20260425T081654
CREATED:20260416T221810Z
LAST-MODIFIED:20260416T222953Z
UID:10010355-1874165400-1874168100@estateofhealth.ca
SUMMARY:Aqua Aerobics (Tues)
DESCRIPTION:Join Marilyn for some fun\, low-impact exercise in the salt water pool! Aqua aerobics is a great way to get in shape\, using the resistance of water to both support you in balance and challenge you in strength! This is a 45-minute  all-levels class. Pre-registration required. Please call/email to book your spot!
URL:https://estateofhealth.ca/event/aqua-aerobics-tues/2029-05-22/
LOCATION:Estate of Health\, 101 Mill Street West\, Kingsville\, Ontario\, N9Y 1W4\, Canada
ATTACH;FMTTYPE=image/png:https://estateofhealth.ca/wp-content/uploads/2026/04/Aqua-Aerobics-2025.png
END:VEVENT
BEGIN:VEVENT
DTSTART;TZID=America/Halifax:20290529T173000
DTEND;TZID=America/Halifax:20290529T181500
DTSTAMP:20260425T081654
CREATED:20260416T221810Z
LAST-MODIFIED:20260416T222953Z
UID:10010356-1874770200-1874772900@estateofhealth.ca
SUMMARY:Aqua Aerobics (Tues)
DESCRIPTION:Join Marilyn for some fun\, low-impact exercise in the salt water pool! Aqua aerobics is a great way to get in shape\, using the resistance of water to both support you in balance and challenge you in strength! This is a 45-minute  all-levels class. Pre-registration required. Please call/email to book your spot!
URL:https://estateofhealth.ca/event/aqua-aerobics-tues/2029-05-29/
LOCATION:Estate of Health\, 101 Mill Street West\, Kingsville\, Ontario\, N9Y 1W4\, Canada
ATTACH;FMTTYPE=image/png:https://estateofhealth.ca/wp-content/uploads/2026/04/Aqua-Aerobics-2025.png
END:VEVENT
BEGIN:VEVENT
DTSTART;TZID=America/Halifax:20290605T173000
DTEND;TZID=America/Halifax:20290605T181500
DTSTAMP:20260425T081654
CREATED:20260416T221810Z
LAST-MODIFIED:20260416T222953Z
UID:10010357-1875375000-1875377700@estateofhealth.ca
SUMMARY:Aqua Aerobics (Tues)
DESCRIPTION:Join Marilyn for some fun\, low-impact exercise in the salt water pool! Aqua aerobics is a great way to get in shape\, using the resistance of water to both support you in balance and challenge you in strength! This is a 45-minute  all-levels class. Pre-registration required. Please call/email to book your spot!
URL:https://estateofhealth.ca/event/aqua-aerobics-tues/2029-06-05/
LOCATION:Estate of Health\, 101 Mill Street West\, Kingsville\, Ontario\, N9Y 1W4\, Canada
ATTACH;FMTTYPE=image/png:https://estateofhealth.ca/wp-content/uploads/2026/04/Aqua-Aerobics-2025.png
END:VEVENT
BEGIN:VEVENT
DTSTART;TZID=America/Halifax:20290612T173000
DTEND;TZID=America/Halifax:20290612T181500
DTSTAMP:20260425T081654
CREATED:20260416T221810Z
LAST-MODIFIED:20260416T222953Z
UID:10010358-1875979800-1875982500@estateofhealth.ca
SUMMARY:Aqua Aerobics (Tues)
DESCRIPTION:Join Marilyn for some fun\, low-impact exercise in the salt water pool! Aqua aerobics is a great way to get in shape\, using the resistance of water to both support you in balance and challenge you in strength! This is a 45-minute  all-levels class. Pre-registration required. Please call/email to book your spot!
URL:https://estateofhealth.ca/event/aqua-aerobics-tues/2029-06-12/
LOCATION:Estate of Health\, 101 Mill Street West\, Kingsville\, Ontario\, N9Y 1W4\, Canada
ATTACH;FMTTYPE=image/png:https://estateofhealth.ca/wp-content/uploads/2026/04/Aqua-Aerobics-2025.png
END:VEVENT
BEGIN:VEVENT
DTSTART;TZID=America/Halifax:20290619T173000
DTEND;TZID=America/Halifax:20290619T181500
DTSTAMP:20260425T081654
CREATED:20260416T221810Z
LAST-MODIFIED:20260416T222953Z
UID:10010359-1876584600-1876587300@estateofhealth.ca
SUMMARY:Aqua Aerobics (Tues)
DESCRIPTION:Join Marilyn for some fun\, low-impact exercise in the salt water pool! Aqua aerobics is a great way to get in shape\, using the resistance of water to both support you in balance and challenge you in strength! This is a 45-minute  all-levels class. Pre-registration required. Please call/email to book your spot!
URL:https://estateofhealth.ca/event/aqua-aerobics-tues/2029-06-19/
LOCATION:Estate of Health\, 101 Mill Street West\, Kingsville\, Ontario\, N9Y 1W4\, Canada
ATTACH;FMTTYPE=image/png:https://estateofhealth.ca/wp-content/uploads/2026/04/Aqua-Aerobics-2025.png
END:VEVENT
BEGIN:VEVENT
DTSTART;TZID=America/Halifax:20290626T173000
DTEND;TZID=America/Halifax:20290626T181500
DTSTAMP:20260425T081654
CREATED:20260416T221810Z
LAST-MODIFIED:20260416T222953Z
UID:10010360-1877189400-1877192100@estateofhealth.ca
SUMMARY:Aqua Aerobics (Tues)
DESCRIPTION:Join Marilyn for some fun\, low-impact exercise in the salt water pool! Aqua aerobics is a great way to get in shape\, using the resistance of water to both support you in balance and challenge you in strength! This is a 45-minute  all-levels class. Pre-registration required. Please call/email to book your spot!
URL:https://estateofhealth.ca/event/aqua-aerobics-tues/2029-06-26/
LOCATION:Estate of Health\, 101 Mill Street West\, Kingsville\, Ontario\, N9Y 1W4\, Canada
ATTACH;FMTTYPE=image/png:https://estateofhealth.ca/wp-content/uploads/2026/04/Aqua-Aerobics-2025.png
END:VEVENT
BEGIN:VEVENT
DTSTART;TZID=America/Halifax:20290703T173000
DTEND;TZID=America/Halifax:20290703T181500
DTSTAMP:20260425T081654
CREATED:20260416T221810Z
LAST-MODIFIED:20260416T222953Z
UID:10010361-1877794200-1877796900@estateofhealth.ca
SUMMARY:Aqua Aerobics (Tues)
DESCRIPTION:Join Marilyn for some fun\, low-impact exercise in the salt water pool! Aqua aerobics is a great way to get in shape\, using the resistance of water to both support you in balance and challenge you in strength! This is a 45-minute  all-levels class. Pre-registration required. Please call/email to book your spot!
URL:https://estateofhealth.ca/event/aqua-aerobics-tues/2029-07-03/
LOCATION:Estate of Health\, 101 Mill Street West\, Kingsville\, Ontario\, N9Y 1W4\, Canada
ATTACH;FMTTYPE=image/png:https://estateofhealth.ca/wp-content/uploads/2026/04/Aqua-Aerobics-2025.png
END:VEVENT
BEGIN:VEVENT
DTSTART;TZID=America/Halifax:20290710T173000
DTEND;TZID=America/Halifax:20290710T181500
DTSTAMP:20260425T081654
CREATED:20260416T221810Z
LAST-MODIFIED:20260416T222953Z
UID:10010362-1878399000-1878401700@estateofhealth.ca
SUMMARY:Aqua Aerobics (Tues)
DESCRIPTION:Join Marilyn for some fun\, low-impact exercise in the salt water pool! Aqua aerobics is a great way to get in shape\, using the resistance of water to both support you in balance and challenge you in strength! This is a 45-minute  all-levels class. Pre-registration required. Please call/email to book your spot!
URL:https://estateofhealth.ca/event/aqua-aerobics-tues/2029-07-10/
LOCATION:Estate of Health\, 101 Mill Street West\, Kingsville\, Ontario\, N9Y 1W4\, Canada
ATTACH;FMTTYPE=image/png:https://estateofhealth.ca/wp-content/uploads/2026/04/Aqua-Aerobics-2025.png
END:VEVENT
BEGIN:VEVENT
DTSTART;TZID=America/Halifax:20290717T173000
DTEND;TZID=America/Halifax:20290717T181500
DTSTAMP:20260425T081654
CREATED:20260416T221810Z
LAST-MODIFIED:20260416T222953Z
UID:10010363-1879003800-1879006500@estateofhealth.ca
SUMMARY:Aqua Aerobics (Tues)
DESCRIPTION:Join Marilyn for some fun\, low-impact exercise in the salt water pool! Aqua aerobics is a great way to get in shape\, using the resistance of water to both support you in balance and challenge you in strength! This is a 45-minute  all-levels class. Pre-registration required. Please call/email to book your spot!
URL:https://estateofhealth.ca/event/aqua-aerobics-tues/2029-07-17/
LOCATION:Estate of Health\, 101 Mill Street West\, Kingsville\, Ontario\, N9Y 1W4\, Canada
ATTACH;FMTTYPE=image/png:https://estateofhealth.ca/wp-content/uploads/2026/04/Aqua-Aerobics-2025.png
END:VEVENT
BEGIN:VEVENT
DTSTART;TZID=America/Halifax:20290724T173000
DTEND;TZID=America/Halifax:20290724T181500
DTSTAMP:20260425T081654
CREATED:20260416T221810Z
LAST-MODIFIED:20260416T222953Z
UID:10010364-1879608600-1879611300@estateofhealth.ca
SUMMARY:Aqua Aerobics (Tues)
DESCRIPTION:Join Marilyn for some fun\, low-impact exercise in the salt water pool! Aqua aerobics is a great way to get in shape\, using the resistance of water to both support you in balance and challenge you in strength! This is a 45-minute  all-levels class. Pre-registration required. Please call/email to book your spot!
URL:https://estateofhealth.ca/event/aqua-aerobics-tues/2029-07-24/
LOCATION:Estate of Health\, 101 Mill Street West\, Kingsville\, Ontario\, N9Y 1W4\, Canada
ATTACH;FMTTYPE=image/png:https://estateofhealth.ca/wp-content/uploads/2026/04/Aqua-Aerobics-2025.png
END:VEVENT
BEGIN:VEVENT
DTSTART;TZID=America/Halifax:20290731T173000
DTEND;TZID=America/Halifax:20290731T181500
DTSTAMP:20260425T081654
CREATED:20260416T221810Z
LAST-MODIFIED:20260416T222953Z
UID:10010365-1880213400-1880216100@estateofhealth.ca
SUMMARY:Aqua Aerobics (Tues)
DESCRIPTION:Join Marilyn for some fun\, low-impact exercise in the salt water pool! Aqua aerobics is a great way to get in shape\, using the resistance of water to both support you in balance and challenge you in strength! This is a 45-minute  all-levels class. Pre-registration required. Please call/email to book your spot!
URL:https://estateofhealth.ca/event/aqua-aerobics-tues/2029-07-31/
LOCATION:Estate of Health\, 101 Mill Street West\, Kingsville\, Ontario\, N9Y 1W4\, Canada
ATTACH;FMTTYPE=image/png:https://estateofhealth.ca/wp-content/uploads/2026/04/Aqua-Aerobics-2025.png
END:VEVENT
BEGIN:VEVENT
DTSTART;TZID=America/Halifax:20290807T173000
DTEND;TZID=America/Halifax:20290807T181500
DTSTAMP:20260425T081654
CREATED:20260416T221810Z
LAST-MODIFIED:20260416T222953Z
UID:10010366-1880818200-1880820900@estateofhealth.ca
SUMMARY:Aqua Aerobics (Tues)
DESCRIPTION:Join Marilyn for some fun\, low-impact exercise in the salt water pool! Aqua aerobics is a great way to get in shape\, using the resistance of water to both support you in balance and challenge you in strength! This is a 45-minute  all-levels class. Pre-registration required. Please call/email to book your spot!
URL:https://estateofhealth.ca/event/aqua-aerobics-tues/2029-08-07/
LOCATION:Estate of Health\, 101 Mill Street West\, Kingsville\, Ontario\, N9Y 1W4\, Canada
ATTACH;FMTTYPE=image/png:https://estateofhealth.ca/wp-content/uploads/2026/04/Aqua-Aerobics-2025.png
END:VEVENT
BEGIN:VEVENT
DTSTART;TZID=America/Halifax:20290814T173000
DTEND;TZID=America/Halifax:20290814T181500
DTSTAMP:20260425T081654
CREATED:20260416T221810Z
LAST-MODIFIED:20260416T222953Z
UID:10010367-1881423000-1881425700@estateofhealth.ca
SUMMARY:Aqua Aerobics (Tues)
DESCRIPTION:Join Marilyn for some fun\, low-impact exercise in the salt water pool! Aqua aerobics is a great way to get in shape\, using the resistance of water to both support you in balance and challenge you in strength! This is a 45-minute  all-levels class. Pre-registration required. Please call/email to book your spot!
URL:https://estateofhealth.ca/event/aqua-aerobics-tues/2029-08-14/
LOCATION:Estate of Health\, 101 Mill Street West\, Kingsville\, Ontario\, N9Y 1W4\, Canada
ATTACH;FMTTYPE=image/png:https://estateofhealth.ca/wp-content/uploads/2026/04/Aqua-Aerobics-2025.png
END:VEVENT
BEGIN:VEVENT
DTSTART;TZID=America/Halifax:20290821T173000
DTEND;TZID=America/Halifax:20290821T181500
DTSTAMP:20260425T081654
CREATED:20260416T221810Z
LAST-MODIFIED:20260416T222953Z
UID:10010368-1882027800-1882030500@estateofhealth.ca
SUMMARY:Aqua Aerobics (Tues)
DESCRIPTION:Join Marilyn for some fun\, low-impact exercise in the salt water pool! Aqua aerobics is a great way to get in shape\, using the resistance of water to both support you in balance and challenge you in strength! This is a 45-minute  all-levels class. Pre-registration required. Please call/email to book your spot!
URL:https://estateofhealth.ca/event/aqua-aerobics-tues/2029-08-21/
LOCATION:Estate of Health\, 101 Mill Street West\, Kingsville\, Ontario\, N9Y 1W4\, Canada
ATTACH;FMTTYPE=image/png:https://estateofhealth.ca/wp-content/uploads/2026/04/Aqua-Aerobics-2025.png
END:VEVENT
BEGIN:VEVENT
DTSTART;TZID=America/Halifax:20290828T173000
DTEND;TZID=America/Halifax:20290828T181500
DTSTAMP:20260425T081654
CREATED:20260416T221810Z
LAST-MODIFIED:20260416T222953Z
UID:10010369-1882632600-1882635300@estateofhealth.ca
SUMMARY:Aqua Aerobics (Tues)
DESCRIPTION:Join Marilyn for some fun\, low-impact exercise in the salt water pool! Aqua aerobics is a great way to get in shape\, using the resistance of water to both support you in balance and challenge you in strength! This is a 45-minute  all-levels class. Pre-registration required. Please call/email to book your spot!
URL:https://estateofhealth.ca/event/aqua-aerobics-tues/2029-08-28/
LOCATION:Estate of Health\, 101 Mill Street West\, Kingsville\, Ontario\, N9Y 1W4\, Canada
ATTACH;FMTTYPE=image/png:https://estateofhealth.ca/wp-content/uploads/2026/04/Aqua-Aerobics-2025.png
END:VEVENT
BEGIN:VEVENT
DTSTART;TZID=America/Halifax:20290904T173000
DTEND;TZID=America/Halifax:20290904T181500
DTSTAMP:20260425T081654
CREATED:20260416T221810Z
LAST-MODIFIED:20260416T222953Z
UID:10010370-1883237400-1883240100@estateofhealth.ca
SUMMARY:Aqua Aerobics (Tues)
DESCRIPTION:Join Marilyn for some fun\, low-impact exercise in the salt water pool! Aqua aerobics is a great way to get in shape\, using the resistance of water to both support you in balance and challenge you in strength! This is a 45-minute  all-levels class. Pre-registration required. Please call/email to book your spot!
URL:https://estateofhealth.ca/event/aqua-aerobics-tues/2029-09-04/
LOCATION:Estate of Health\, 101 Mill Street West\, Kingsville\, Ontario\, N9Y 1W4\, Canada
ATTACH;FMTTYPE=image/png:https://estateofhealth.ca/wp-content/uploads/2026/04/Aqua-Aerobics-2025.png
END:VEVENT
END:VCALENDAR