BEGIN:VCALENDAR
VERSION:2.0
PRODID:-//Estate of Health - ECPv6.15.18//NONSGML v1.0//EN
CALSCALE:GREGORIAN
METHOD:PUBLISH
X-ORIGINAL-URL:https://estateofhealth.ca
X-WR-CALDESC:Events for Estate of Health
REFRESH-INTERVAL;VALUE=DURATION:PT1H
X-Robots-Tag:noindex
X-PUBLISHED-TTL:PT1H
BEGIN:VTIMEZONE
TZID:America/Halifax
BEGIN:DAYLIGHT
TZOFFSETFROM:-0400
TZOFFSETTO:-0300
TZNAME:ADT
DTSTART:20280312T060000
END:DAYLIGHT
BEGIN:STANDARD
TZOFFSETFROM:-0300
TZOFFSETTO:-0400
TZNAME:AST
DTSTART:20281105T050000
END:STANDARD
BEGIN:DAYLIGHT
TZOFFSETFROM:-0400
TZOFFSETTO:-0300
TZNAME:ADT
DTSTART:20290311T060000
END:DAYLIGHT
BEGIN:STANDARD
TZOFFSETFROM:-0300
TZOFFSETTO:-0400
TZNAME:AST
DTSTART:20291104T050000
END:STANDARD
BEGIN:DAYLIGHT
TZOFFSETFROM:-0400
TZOFFSETTO:-0300
TZNAME:ADT
DTSTART:20300310T060000
END:DAYLIGHT
BEGIN:STANDARD
TZOFFSETFROM:-0300
TZOFFSETTO:-0400
TZNAME:AST
DTSTART:20301103T050000
END:STANDARD
BEGIN:DAYLIGHT
TZOFFSETFROM:-0400
TZOFFSETTO:-0300
TZNAME:ADT
DTSTART:20310309T060000
END:DAYLIGHT
BEGIN:STANDARD
TZOFFSETFROM:-0300
TZOFFSETTO:-0400
TZNAME:AST
DTSTART:20311102T050000
END:STANDARD
END:VTIMEZONE
BEGIN:VEVENT
DTSTART;TZID=America/Halifax:20290703T173000
DTEND;TZID=America/Halifax:20290703T181500
DTSTAMP:20260425T124353
CREATED:20260416T221810Z
LAST-MODIFIED:20260416T222953Z
UID:10010361-1877794200-1877796900@estateofhealth.ca
SUMMARY:Aqua Aerobics (Tues)
DESCRIPTION:Join Marilyn for some fun\, low-impact exercise in the salt water pool! Aqua aerobics is a great way to get in shape\, using the resistance of water to both support you in balance and challenge you in strength! This is a 45-minute  all-levels class. Pre-registration required. Please call/email to book your spot!
URL:https://estateofhealth.ca/event/aqua-aerobics-tues/2029-07-03/
LOCATION:Estate of Health\, 101 Mill Street West\, Kingsville\, Ontario\, N9Y 1W4\, Canada
ATTACH;FMTTYPE=image/png:https://estateofhealth.ca/wp-content/uploads/2026/04/Aqua-Aerobics-2025.png
END:VEVENT
BEGIN:VEVENT
DTSTART;TZID=America/Halifax:20290710T173000
DTEND;TZID=America/Halifax:20290710T181500
DTSTAMP:20260425T124353
CREATED:20260416T221810Z
LAST-MODIFIED:20260416T222953Z
UID:10010362-1878399000-1878401700@estateofhealth.ca
SUMMARY:Aqua Aerobics (Tues)
DESCRIPTION:Join Marilyn for some fun\, low-impact exercise in the salt water pool! Aqua aerobics is a great way to get in shape\, using the resistance of water to both support you in balance and challenge you in strength! This is a 45-minute  all-levels class. Pre-registration required. Please call/email to book your spot!
URL:https://estateofhealth.ca/event/aqua-aerobics-tues/2029-07-10/
LOCATION:Estate of Health\, 101 Mill Street West\, Kingsville\, Ontario\, N9Y 1W4\, Canada
ATTACH;FMTTYPE=image/png:https://estateofhealth.ca/wp-content/uploads/2026/04/Aqua-Aerobics-2025.png
END:VEVENT
BEGIN:VEVENT
DTSTART;TZID=America/Halifax:20290717T173000
DTEND;TZID=America/Halifax:20290717T181500
DTSTAMP:20260425T124353
CREATED:20260416T221810Z
LAST-MODIFIED:20260416T222953Z
UID:10010363-1879003800-1879006500@estateofhealth.ca
SUMMARY:Aqua Aerobics (Tues)
DESCRIPTION:Join Marilyn for some fun\, low-impact exercise in the salt water pool! Aqua aerobics is a great way to get in shape\, using the resistance of water to both support you in balance and challenge you in strength! This is a 45-minute  all-levels class. Pre-registration required. Please call/email to book your spot!
URL:https://estateofhealth.ca/event/aqua-aerobics-tues/2029-07-17/
LOCATION:Estate of Health\, 101 Mill Street West\, Kingsville\, Ontario\, N9Y 1W4\, Canada
ATTACH;FMTTYPE=image/png:https://estateofhealth.ca/wp-content/uploads/2026/04/Aqua-Aerobics-2025.png
END:VEVENT
BEGIN:VEVENT
DTSTART;TZID=America/Halifax:20290724T173000
DTEND;TZID=America/Halifax:20290724T181500
DTSTAMP:20260425T124353
CREATED:20260416T221810Z
LAST-MODIFIED:20260416T222953Z
UID:10010364-1879608600-1879611300@estateofhealth.ca
SUMMARY:Aqua Aerobics (Tues)
DESCRIPTION:Join Marilyn for some fun\, low-impact exercise in the salt water pool! Aqua aerobics is a great way to get in shape\, using the resistance of water to both support you in balance and challenge you in strength! This is a 45-minute  all-levels class. Pre-registration required. Please call/email to book your spot!
URL:https://estateofhealth.ca/event/aqua-aerobics-tues/2029-07-24/
LOCATION:Estate of Health\, 101 Mill Street West\, Kingsville\, Ontario\, N9Y 1W4\, Canada
ATTACH;FMTTYPE=image/png:https://estateofhealth.ca/wp-content/uploads/2026/04/Aqua-Aerobics-2025.png
END:VEVENT
BEGIN:VEVENT
DTSTART;TZID=America/Halifax:20290731T173000
DTEND;TZID=America/Halifax:20290731T181500
DTSTAMP:20260425T124353
CREATED:20260416T221810Z
LAST-MODIFIED:20260416T222953Z
UID:10010365-1880213400-1880216100@estateofhealth.ca
SUMMARY:Aqua Aerobics (Tues)
DESCRIPTION:Join Marilyn for some fun\, low-impact exercise in the salt water pool! Aqua aerobics is a great way to get in shape\, using the resistance of water to both support you in balance and challenge you in strength! This is a 45-minute  all-levels class. Pre-registration required. Please call/email to book your spot!
URL:https://estateofhealth.ca/event/aqua-aerobics-tues/2029-07-31/
LOCATION:Estate of Health\, 101 Mill Street West\, Kingsville\, Ontario\, N9Y 1W4\, Canada
ATTACH;FMTTYPE=image/png:https://estateofhealth.ca/wp-content/uploads/2026/04/Aqua-Aerobics-2025.png
END:VEVENT
BEGIN:VEVENT
DTSTART;TZID=America/Halifax:20290807T173000
DTEND;TZID=America/Halifax:20290807T181500
DTSTAMP:20260425T124353
CREATED:20260416T221810Z
LAST-MODIFIED:20260416T222953Z
UID:10010366-1880818200-1880820900@estateofhealth.ca
SUMMARY:Aqua Aerobics (Tues)
DESCRIPTION:Join Marilyn for some fun\, low-impact exercise in the salt water pool! Aqua aerobics is a great way to get in shape\, using the resistance of water to both support you in balance and challenge you in strength! This is a 45-minute  all-levels class. Pre-registration required. Please call/email to book your spot!
URL:https://estateofhealth.ca/event/aqua-aerobics-tues/2029-08-07/
LOCATION:Estate of Health\, 101 Mill Street West\, Kingsville\, Ontario\, N9Y 1W4\, Canada
ATTACH;FMTTYPE=image/png:https://estateofhealth.ca/wp-content/uploads/2026/04/Aqua-Aerobics-2025.png
END:VEVENT
BEGIN:VEVENT
DTSTART;TZID=America/Halifax:20290814T173000
DTEND;TZID=America/Halifax:20290814T181500
DTSTAMP:20260425T124353
CREATED:20260416T221810Z
LAST-MODIFIED:20260416T222953Z
UID:10010367-1881423000-1881425700@estateofhealth.ca
SUMMARY:Aqua Aerobics (Tues)
DESCRIPTION:Join Marilyn for some fun\, low-impact exercise in the salt water pool! Aqua aerobics is a great way to get in shape\, using the resistance of water to both support you in balance and challenge you in strength! This is a 45-minute  all-levels class. Pre-registration required. Please call/email to book your spot!
URL:https://estateofhealth.ca/event/aqua-aerobics-tues/2029-08-14/
LOCATION:Estate of Health\, 101 Mill Street West\, Kingsville\, Ontario\, N9Y 1W4\, Canada
ATTACH;FMTTYPE=image/png:https://estateofhealth.ca/wp-content/uploads/2026/04/Aqua-Aerobics-2025.png
END:VEVENT
BEGIN:VEVENT
DTSTART;TZID=America/Halifax:20290821T173000
DTEND;TZID=America/Halifax:20290821T181500
DTSTAMP:20260425T124353
CREATED:20260416T221810Z
LAST-MODIFIED:20260416T222953Z
UID:10010368-1882027800-1882030500@estateofhealth.ca
SUMMARY:Aqua Aerobics (Tues)
DESCRIPTION:Join Marilyn for some fun\, low-impact exercise in the salt water pool! Aqua aerobics is a great way to get in shape\, using the resistance of water to both support you in balance and challenge you in strength! This is a 45-minute  all-levels class. Pre-registration required. Please call/email to book your spot!
URL:https://estateofhealth.ca/event/aqua-aerobics-tues/2029-08-21/
LOCATION:Estate of Health\, 101 Mill Street West\, Kingsville\, Ontario\, N9Y 1W4\, Canada
ATTACH;FMTTYPE=image/png:https://estateofhealth.ca/wp-content/uploads/2026/04/Aqua-Aerobics-2025.png
END:VEVENT
BEGIN:VEVENT
DTSTART;TZID=America/Halifax:20290828T173000
DTEND;TZID=America/Halifax:20290828T181500
DTSTAMP:20260425T124353
CREATED:20260416T221810Z
LAST-MODIFIED:20260416T222953Z
UID:10010369-1882632600-1882635300@estateofhealth.ca
SUMMARY:Aqua Aerobics (Tues)
DESCRIPTION:Join Marilyn for some fun\, low-impact exercise in the salt water pool! Aqua aerobics is a great way to get in shape\, using the resistance of water to both support you in balance and challenge you in strength! This is a 45-minute  all-levels class. Pre-registration required. Please call/email to book your spot!
URL:https://estateofhealth.ca/event/aqua-aerobics-tues/2029-08-28/
LOCATION:Estate of Health\, 101 Mill Street West\, Kingsville\, Ontario\, N9Y 1W4\, Canada
ATTACH;FMTTYPE=image/png:https://estateofhealth.ca/wp-content/uploads/2026/04/Aqua-Aerobics-2025.png
END:VEVENT
BEGIN:VEVENT
DTSTART;TZID=America/Halifax:20290904T173000
DTEND;TZID=America/Halifax:20290904T181500
DTSTAMP:20260425T124353
CREATED:20260416T221810Z
LAST-MODIFIED:20260416T222953Z
UID:10010370-1883237400-1883240100@estateofhealth.ca
SUMMARY:Aqua Aerobics (Tues)
DESCRIPTION:Join Marilyn for some fun\, low-impact exercise in the salt water pool! Aqua aerobics is a great way to get in shape\, using the resistance of water to both support you in balance and challenge you in strength! This is a 45-minute  all-levels class. Pre-registration required. Please call/email to book your spot!
URL:https://estateofhealth.ca/event/aqua-aerobics-tues/2029-09-04/
LOCATION:Estate of Health\, 101 Mill Street West\, Kingsville\, Ontario\, N9Y 1W4\, Canada
ATTACH;FMTTYPE=image/png:https://estateofhealth.ca/wp-content/uploads/2026/04/Aqua-Aerobics-2025.png
END:VEVENT
BEGIN:VEVENT
DTSTART;TZID=America/Halifax:20290911T173000
DTEND;TZID=America/Halifax:20290911T181500
DTSTAMP:20260425T124353
CREATED:20260416T221810Z
LAST-MODIFIED:20260416T222953Z
UID:10010371-1883842200-1883844900@estateofhealth.ca
SUMMARY:Aqua Aerobics (Tues)
DESCRIPTION:Join Marilyn for some fun\, low-impact exercise in the salt water pool! Aqua aerobics is a great way to get in shape\, using the resistance of water to both support you in balance and challenge you in strength! This is a 45-minute  all-levels class. Pre-registration required. Please call/email to book your spot!
URL:https://estateofhealth.ca/event/aqua-aerobics-tues/2029-09-11/
LOCATION:Estate of Health\, 101 Mill Street West\, Kingsville\, Ontario\, N9Y 1W4\, Canada
ATTACH;FMTTYPE=image/png:https://estateofhealth.ca/wp-content/uploads/2026/04/Aqua-Aerobics-2025.png
END:VEVENT
BEGIN:VEVENT
DTSTART;TZID=America/Halifax:20290918T173000
DTEND;TZID=America/Halifax:20290918T181500
DTSTAMP:20260425T124353
CREATED:20260416T221810Z
LAST-MODIFIED:20260416T222953Z
UID:10010372-1884447000-1884449700@estateofhealth.ca
SUMMARY:Aqua Aerobics (Tues)
DESCRIPTION:Join Marilyn for some fun\, low-impact exercise in the salt water pool! Aqua aerobics is a great way to get in shape\, using the resistance of water to both support you in balance and challenge you in strength! This is a 45-minute  all-levels class. Pre-registration required. Please call/email to book your spot!
URL:https://estateofhealth.ca/event/aqua-aerobics-tues/2029-09-18/
LOCATION:Estate of Health\, 101 Mill Street West\, Kingsville\, Ontario\, N9Y 1W4\, Canada
ATTACH;FMTTYPE=image/png:https://estateofhealth.ca/wp-content/uploads/2026/04/Aqua-Aerobics-2025.png
END:VEVENT
BEGIN:VEVENT
DTSTART;TZID=America/Halifax:20290925T173000
DTEND;TZID=America/Halifax:20290925T181500
DTSTAMP:20260425T124353
CREATED:20260416T221810Z
LAST-MODIFIED:20260416T222953Z
UID:10010373-1885051800-1885054500@estateofhealth.ca
SUMMARY:Aqua Aerobics (Tues)
DESCRIPTION:Join Marilyn for some fun\, low-impact exercise in the salt water pool! Aqua aerobics is a great way to get in shape\, using the resistance of water to both support you in balance and challenge you in strength! This is a 45-minute  all-levels class. Pre-registration required. Please call/email to book your spot!
URL:https://estateofhealth.ca/event/aqua-aerobics-tues/2029-09-25/
LOCATION:Estate of Health\, 101 Mill Street West\, Kingsville\, Ontario\, N9Y 1W4\, Canada
ATTACH;FMTTYPE=image/png:https://estateofhealth.ca/wp-content/uploads/2026/04/Aqua-Aerobics-2025.png
END:VEVENT
BEGIN:VEVENT
DTSTART;TZID=America/Halifax:20291002T173000
DTEND;TZID=America/Halifax:20291002T181500
DTSTAMP:20260425T124353
CREATED:20260416T221810Z
LAST-MODIFIED:20260416T222953Z
UID:10010374-1885656600-1885659300@estateofhealth.ca
SUMMARY:Aqua Aerobics (Tues)
DESCRIPTION:Join Marilyn for some fun\, low-impact exercise in the salt water pool! Aqua aerobics is a great way to get in shape\, using the resistance of water to both support you in balance and challenge you in strength! This is a 45-minute  all-levels class. Pre-registration required. Please call/email to book your spot!
URL:https://estateofhealth.ca/event/aqua-aerobics-tues/2029-10-02/
LOCATION:Estate of Health\, 101 Mill Street West\, Kingsville\, Ontario\, N9Y 1W4\, Canada
ATTACH;FMTTYPE=image/png:https://estateofhealth.ca/wp-content/uploads/2026/04/Aqua-Aerobics-2025.png
END:VEVENT
BEGIN:VEVENT
DTSTART;TZID=America/Halifax:20291009T173000
DTEND;TZID=America/Halifax:20291009T181500
DTSTAMP:20260425T124353
CREATED:20260416T221810Z
LAST-MODIFIED:20260416T222953Z
UID:10010375-1886261400-1886264100@estateofhealth.ca
SUMMARY:Aqua Aerobics (Tues)
DESCRIPTION:Join Marilyn for some fun\, low-impact exercise in the salt water pool! Aqua aerobics is a great way to get in shape\, using the resistance of water to both support you in balance and challenge you in strength! This is a 45-minute  all-levels class. Pre-registration required. Please call/email to book your spot!
URL:https://estateofhealth.ca/event/aqua-aerobics-tues/2029-10-09/
LOCATION:Estate of Health\, 101 Mill Street West\, Kingsville\, Ontario\, N9Y 1W4\, Canada
ATTACH;FMTTYPE=image/png:https://estateofhealth.ca/wp-content/uploads/2026/04/Aqua-Aerobics-2025.png
END:VEVENT
BEGIN:VEVENT
DTSTART;TZID=America/Halifax:20291016T173000
DTEND;TZID=America/Halifax:20291016T181500
DTSTAMP:20260425T124353
CREATED:20260416T221810Z
LAST-MODIFIED:20260416T222953Z
UID:10010376-1886866200-1886868900@estateofhealth.ca
SUMMARY:Aqua Aerobics (Tues)
DESCRIPTION:Join Marilyn for some fun\, low-impact exercise in the salt water pool! Aqua aerobics is a great way to get in shape\, using the resistance of water to both support you in balance and challenge you in strength! This is a 45-minute  all-levels class. Pre-registration required. Please call/email to book your spot!
URL:https://estateofhealth.ca/event/aqua-aerobics-tues/2029-10-16/
LOCATION:Estate of Health\, 101 Mill Street West\, Kingsville\, Ontario\, N9Y 1W4\, Canada
ATTACH;FMTTYPE=image/png:https://estateofhealth.ca/wp-content/uploads/2026/04/Aqua-Aerobics-2025.png
END:VEVENT
BEGIN:VEVENT
DTSTART;TZID=America/Halifax:20291023T173000
DTEND;TZID=America/Halifax:20291023T181500
DTSTAMP:20260425T124353
CREATED:20260416T221810Z
LAST-MODIFIED:20260416T222953Z
UID:10010377-1887471000-1887473700@estateofhealth.ca
SUMMARY:Aqua Aerobics (Tues)
DESCRIPTION:Join Marilyn for some fun\, low-impact exercise in the salt water pool! Aqua aerobics is a great way to get in shape\, using the resistance of water to both support you in balance and challenge you in strength! This is a 45-minute  all-levels class. Pre-registration required. Please call/email to book your spot!
URL:https://estateofhealth.ca/event/aqua-aerobics-tues/2029-10-23/
LOCATION:Estate of Health\, 101 Mill Street West\, Kingsville\, Ontario\, N9Y 1W4\, Canada
ATTACH;FMTTYPE=image/png:https://estateofhealth.ca/wp-content/uploads/2026/04/Aqua-Aerobics-2025.png
END:VEVENT
BEGIN:VEVENT
DTSTART;TZID=America/Halifax:20291030T173000
DTEND;TZID=America/Halifax:20291030T181500
DTSTAMP:20260425T124353
CREATED:20260416T221810Z
LAST-MODIFIED:20260416T222953Z
UID:10010378-1888075800-1888078500@estateofhealth.ca
SUMMARY:Aqua Aerobics (Tues)
DESCRIPTION:Join Marilyn for some fun\, low-impact exercise in the salt water pool! Aqua aerobics is a great way to get in shape\, using the resistance of water to both support you in balance and challenge you in strength! This is a 45-minute  all-levels class. Pre-registration required. Please call/email to book your spot!
URL:https://estateofhealth.ca/event/aqua-aerobics-tues/2029-10-30/
LOCATION:Estate of Health\, 101 Mill Street West\, Kingsville\, Ontario\, N9Y 1W4\, Canada
ATTACH;FMTTYPE=image/png:https://estateofhealth.ca/wp-content/uploads/2026/04/Aqua-Aerobics-2025.png
END:VEVENT
BEGIN:VEVENT
DTSTART;TZID=America/Halifax:20291106T173000
DTEND;TZID=America/Halifax:20291106T181500
DTSTAMP:20260425T124353
CREATED:20260416T221810Z
LAST-MODIFIED:20260416T222953Z
UID:10010379-1888680600-1888683300@estateofhealth.ca
SUMMARY:Aqua Aerobics (Tues)
DESCRIPTION:Join Marilyn for some fun\, low-impact exercise in the salt water pool! Aqua aerobics is a great way to get in shape\, using the resistance of water to both support you in balance and challenge you in strength! This is a 45-minute  all-levels class. Pre-registration required. Please call/email to book your spot!
URL:https://estateofhealth.ca/event/aqua-aerobics-tues/2029-11-06/
LOCATION:Estate of Health\, 101 Mill Street West\, Kingsville\, Ontario\, N9Y 1W4\, Canada
ATTACH;FMTTYPE=image/png:https://estateofhealth.ca/wp-content/uploads/2026/04/Aqua-Aerobics-2025.png
END:VEVENT
BEGIN:VEVENT
DTSTART;TZID=America/Halifax:20291113T173000
DTEND;TZID=America/Halifax:20291113T181500
DTSTAMP:20260425T124353
CREATED:20260416T221810Z
LAST-MODIFIED:20260416T222953Z
UID:10010380-1889285400-1889288100@estateofhealth.ca
SUMMARY:Aqua Aerobics (Tues)
DESCRIPTION:Join Marilyn for some fun\, low-impact exercise in the salt water pool! Aqua aerobics is a great way to get in shape\, using the resistance of water to both support you in balance and challenge you in strength! This is a 45-minute  all-levels class. Pre-registration required. Please call/email to book your spot!
URL:https://estateofhealth.ca/event/aqua-aerobics-tues/2029-11-13/
LOCATION:Estate of Health\, 101 Mill Street West\, Kingsville\, Ontario\, N9Y 1W4\, Canada
ATTACH;FMTTYPE=image/png:https://estateofhealth.ca/wp-content/uploads/2026/04/Aqua-Aerobics-2025.png
END:VEVENT
BEGIN:VEVENT
DTSTART;TZID=America/Halifax:20291120T173000
DTEND;TZID=America/Halifax:20291120T181500
DTSTAMP:20260425T124353
CREATED:20260416T221810Z
LAST-MODIFIED:20260416T222953Z
UID:10010381-1889890200-1889892900@estateofhealth.ca
SUMMARY:Aqua Aerobics (Tues)
DESCRIPTION:Join Marilyn for some fun\, low-impact exercise in the salt water pool! Aqua aerobics is a great way to get in shape\, using the resistance of water to both support you in balance and challenge you in strength! This is a 45-minute  all-levels class. Pre-registration required. Please call/email to book your spot!
URL:https://estateofhealth.ca/event/aqua-aerobics-tues/2029-11-20/
LOCATION:Estate of Health\, 101 Mill Street West\, Kingsville\, Ontario\, N9Y 1W4\, Canada
ATTACH;FMTTYPE=image/png:https://estateofhealth.ca/wp-content/uploads/2026/04/Aqua-Aerobics-2025.png
END:VEVENT
BEGIN:VEVENT
DTSTART;TZID=America/Halifax:20291127T173000
DTEND;TZID=America/Halifax:20291127T181500
DTSTAMP:20260425T124353
CREATED:20260416T221810Z
LAST-MODIFIED:20260416T222953Z
UID:10010382-1890495000-1890497700@estateofhealth.ca
SUMMARY:Aqua Aerobics (Tues)
DESCRIPTION:Join Marilyn for some fun\, low-impact exercise in the salt water pool! Aqua aerobics is a great way to get in shape\, using the resistance of water to both support you in balance and challenge you in strength! This is a 45-minute  all-levels class. Pre-registration required. Please call/email to book your spot!
URL:https://estateofhealth.ca/event/aqua-aerobics-tues/2029-11-27/
LOCATION:Estate of Health\, 101 Mill Street West\, Kingsville\, Ontario\, N9Y 1W4\, Canada
ATTACH;FMTTYPE=image/png:https://estateofhealth.ca/wp-content/uploads/2026/04/Aqua-Aerobics-2025.png
END:VEVENT
BEGIN:VEVENT
DTSTART;TZID=America/Halifax:20291204T173000
DTEND;TZID=America/Halifax:20291204T181500
DTSTAMP:20260425T124353
CREATED:20260416T221810Z
LAST-MODIFIED:20260416T222953Z
UID:10010383-1891099800-1891102500@estateofhealth.ca
SUMMARY:Aqua Aerobics (Tues)
DESCRIPTION:Join Marilyn for some fun\, low-impact exercise in the salt water pool! Aqua aerobics is a great way to get in shape\, using the resistance of water to both support you in balance and challenge you in strength! This is a 45-minute  all-levels class. Pre-registration required. Please call/email to book your spot!
URL:https://estateofhealth.ca/event/aqua-aerobics-tues/2029-12-04/
LOCATION:Estate of Health\, 101 Mill Street West\, Kingsville\, Ontario\, N9Y 1W4\, Canada
ATTACH;FMTTYPE=image/png:https://estateofhealth.ca/wp-content/uploads/2026/04/Aqua-Aerobics-2025.png
END:VEVENT
BEGIN:VEVENT
DTSTART;TZID=America/Halifax:20291211T173000
DTEND;TZID=America/Halifax:20291211T181500
DTSTAMP:20260425T124353
CREATED:20260416T221810Z
LAST-MODIFIED:20260416T222953Z
UID:10010384-1891704600-1891707300@estateofhealth.ca
SUMMARY:Aqua Aerobics (Tues)
DESCRIPTION:Join Marilyn for some fun\, low-impact exercise in the salt water pool! Aqua aerobics is a great way to get in shape\, using the resistance of water to both support you in balance and challenge you in strength! This is a 45-minute  all-levels class. Pre-registration required. Please call/email to book your spot!
URL:https://estateofhealth.ca/event/aqua-aerobics-tues/2029-12-11/
LOCATION:Estate of Health\, 101 Mill Street West\, Kingsville\, Ontario\, N9Y 1W4\, Canada
ATTACH;FMTTYPE=image/png:https://estateofhealth.ca/wp-content/uploads/2026/04/Aqua-Aerobics-2025.png
END:VEVENT
BEGIN:VEVENT
DTSTART;TZID=America/Halifax:20291218T173000
DTEND;TZID=America/Halifax:20291218T181500
DTSTAMP:20260425T124353
CREATED:20260416T221810Z
LAST-MODIFIED:20260416T222953Z
UID:10010385-1892309400-1892312100@estateofhealth.ca
SUMMARY:Aqua Aerobics (Tues)
DESCRIPTION:Join Marilyn for some fun\, low-impact exercise in the salt water pool! Aqua aerobics is a great way to get in shape\, using the resistance of water to both support you in balance and challenge you in strength! This is a 45-minute  all-levels class. Pre-registration required. Please call/email to book your spot!
URL:https://estateofhealth.ca/event/aqua-aerobics-tues/2029-12-18/
LOCATION:Estate of Health\, 101 Mill Street West\, Kingsville\, Ontario\, N9Y 1W4\, Canada
ATTACH;FMTTYPE=image/png:https://estateofhealth.ca/wp-content/uploads/2026/04/Aqua-Aerobics-2025.png
END:VEVENT
BEGIN:VEVENT
DTSTART;TZID=America/Halifax:20291225T173000
DTEND;TZID=America/Halifax:20291225T181500
DTSTAMP:20260425T124353
CREATED:20260416T221810Z
LAST-MODIFIED:20260416T222953Z
UID:10010386-1892914200-1892916900@estateofhealth.ca
SUMMARY:Aqua Aerobics (Tues)
DESCRIPTION:Join Marilyn for some fun\, low-impact exercise in the salt water pool! Aqua aerobics is a great way to get in shape\, using the resistance of water to both support you in balance and challenge you in strength! This is a 45-minute  all-levels class. Pre-registration required. Please call/email to book your spot!
URL:https://estateofhealth.ca/event/aqua-aerobics-tues/2029-12-25/
LOCATION:Estate of Health\, 101 Mill Street West\, Kingsville\, Ontario\, N9Y 1W4\, Canada
ATTACH;FMTTYPE=image/png:https://estateofhealth.ca/wp-content/uploads/2026/04/Aqua-Aerobics-2025.png
END:VEVENT
BEGIN:VEVENT
DTSTART;TZID=America/Halifax:20300101T173000
DTEND;TZID=America/Halifax:20300101T181500
DTSTAMP:20260425T124353
CREATED:20260416T221810Z
LAST-MODIFIED:20260416T222953Z
UID:10010387-1893519000-1893521700@estateofhealth.ca
SUMMARY:Aqua Aerobics (Tues)
DESCRIPTION:Join Marilyn for some fun\, low-impact exercise in the salt water pool! Aqua aerobics is a great way to get in shape\, using the resistance of water to both support you in balance and challenge you in strength! This is a 45-minute  all-levels class. Pre-registration required. Please call/email to book your spot!
URL:https://estateofhealth.ca/event/aqua-aerobics-tues/2030-01-01/
LOCATION:Estate of Health\, 101 Mill Street West\, Kingsville\, Ontario\, N9Y 1W4\, Canada
ATTACH;FMTTYPE=image/png:https://estateofhealth.ca/wp-content/uploads/2026/04/Aqua-Aerobics-2025.png
END:VEVENT
BEGIN:VEVENT
DTSTART;TZID=America/Halifax:20300108T173000
DTEND;TZID=America/Halifax:20300108T181500
DTSTAMP:20260425T124353
CREATED:20260416T221810Z
LAST-MODIFIED:20260416T222953Z
UID:10010388-1894123800-1894126500@estateofhealth.ca
SUMMARY:Aqua Aerobics (Tues)
DESCRIPTION:Join Marilyn for some fun\, low-impact exercise in the salt water pool! Aqua aerobics is a great way to get in shape\, using the resistance of water to both support you in balance and challenge you in strength! This is a 45-minute  all-levels class. Pre-registration required. Please call/email to book your spot!
URL:https://estateofhealth.ca/event/aqua-aerobics-tues/2030-01-08/
LOCATION:Estate of Health\, 101 Mill Street West\, Kingsville\, Ontario\, N9Y 1W4\, Canada
ATTACH;FMTTYPE=image/png:https://estateofhealth.ca/wp-content/uploads/2026/04/Aqua-Aerobics-2025.png
END:VEVENT
BEGIN:VEVENT
DTSTART;TZID=America/Halifax:20300115T173000
DTEND;TZID=America/Halifax:20300115T181500
DTSTAMP:20260425T124353
CREATED:20260416T221810Z
LAST-MODIFIED:20260416T222953Z
UID:10010389-1894728600-1894731300@estateofhealth.ca
SUMMARY:Aqua Aerobics (Tues)
DESCRIPTION:Join Marilyn for some fun\, low-impact exercise in the salt water pool! Aqua aerobics is a great way to get in shape\, using the resistance of water to both support you in balance and challenge you in strength! This is a 45-minute  all-levels class. Pre-registration required. Please call/email to book your spot!
URL:https://estateofhealth.ca/event/aqua-aerobics-tues/2030-01-15/
LOCATION:Estate of Health\, 101 Mill Street West\, Kingsville\, Ontario\, N9Y 1W4\, Canada
ATTACH;FMTTYPE=image/png:https://estateofhealth.ca/wp-content/uploads/2026/04/Aqua-Aerobics-2025.png
END:VEVENT
BEGIN:VEVENT
DTSTART;TZID=America/Halifax:20300122T173000
DTEND;TZID=America/Halifax:20300122T181500
DTSTAMP:20260425T124353
CREATED:20260416T221810Z
LAST-MODIFIED:20260416T222953Z
UID:10010390-1895333400-1895336100@estateofhealth.ca
SUMMARY:Aqua Aerobics (Tues)
DESCRIPTION:Join Marilyn for some fun\, low-impact exercise in the salt water pool! Aqua aerobics is a great way to get in shape\, using the resistance of water to both support you in balance and challenge you in strength! This is a 45-minute  all-levels class. Pre-registration required. Please call/email to book your spot!
URL:https://estateofhealth.ca/event/aqua-aerobics-tues/2030-01-22/
LOCATION:Estate of Health\, 101 Mill Street West\, Kingsville\, Ontario\, N9Y 1W4\, Canada
ATTACH;FMTTYPE=image/png:https://estateofhealth.ca/wp-content/uploads/2026/04/Aqua-Aerobics-2025.png
END:VEVENT
END:VCALENDAR