BEGIN:VCALENDAR
VERSION:2.0
PRODID:-//Estate of Health - ECPv6.15.18//NONSGML v1.0//EN
CALSCALE:GREGORIAN
METHOD:PUBLISH
X-ORIGINAL-URL:https://estateofhealth.ca
X-WR-CALDESC:Events for Estate of Health
REFRESH-INTERVAL;VALUE=DURATION:PT1H
X-Robots-Tag:noindex
X-PUBLISHED-TTL:PT1H
BEGIN:VTIMEZONE
TZID:America/Halifax
BEGIN:DAYLIGHT
TZOFFSETFROM:-0400
TZOFFSETTO:-0300
TZNAME:ADT
DTSTART:20290311T060000
END:DAYLIGHT
BEGIN:STANDARD
TZOFFSETFROM:-0300
TZOFFSETTO:-0400
TZNAME:AST
DTSTART:20291104T050000
END:STANDARD
BEGIN:DAYLIGHT
TZOFFSETFROM:-0400
TZOFFSETTO:-0300
TZNAME:ADT
DTSTART:20300310T060000
END:DAYLIGHT
BEGIN:STANDARD
TZOFFSETFROM:-0300
TZOFFSETTO:-0400
TZNAME:AST
DTSTART:20301103T050000
END:STANDARD
BEGIN:DAYLIGHT
TZOFFSETFROM:-0400
TZOFFSETTO:-0300
TZNAME:ADT
DTSTART:20310309T060000
END:DAYLIGHT
BEGIN:STANDARD
TZOFFSETFROM:-0300
TZOFFSETTO:-0400
TZNAME:AST
DTSTART:20311102T050000
END:STANDARD
END:VTIMEZONE
BEGIN:VEVENT
DTSTART;TZID=America/Halifax:20300416T173000
DTEND;TZID=America/Halifax:20300416T181500
DTSTAMP:20260425T171629
CREATED:20260416T221810Z
LAST-MODIFIED:20260416T222953Z
UID:10010402-1902591000-1902593700@estateofhealth.ca
SUMMARY:Aqua Aerobics (Tues)
DESCRIPTION:Join Marilyn for some fun\, low-impact exercise in the salt water pool! Aqua aerobics is a great way to get in shape\, using the resistance of water to both support you in balance and challenge you in strength! This is a 45-minute  all-levels class. Pre-registration required. Please call/email to book your spot!
URL:https://estateofhealth.ca/event/aqua-aerobics-tues/2030-04-16/
LOCATION:Estate of Health\, 101 Mill Street West\, Kingsville\, Ontario\, N9Y 1W4\, Canada
ATTACH;FMTTYPE=image/png:https://estateofhealth.ca/wp-content/uploads/2026/04/Aqua-Aerobics-2025.png
END:VEVENT
BEGIN:VEVENT
DTSTART;TZID=America/Halifax:20300423T173000
DTEND;TZID=America/Halifax:20300423T181500
DTSTAMP:20260425T171629
CREATED:20260416T221810Z
LAST-MODIFIED:20260416T222953Z
UID:10010403-1903195800-1903198500@estateofhealth.ca
SUMMARY:Aqua Aerobics (Tues)
DESCRIPTION:Join Marilyn for some fun\, low-impact exercise in the salt water pool! Aqua aerobics is a great way to get in shape\, using the resistance of water to both support you in balance and challenge you in strength! This is a 45-minute  all-levels class. Pre-registration required. Please call/email to book your spot!
URL:https://estateofhealth.ca/event/aqua-aerobics-tues/2030-04-23/
LOCATION:Estate of Health\, 101 Mill Street West\, Kingsville\, Ontario\, N9Y 1W4\, Canada
ATTACH;FMTTYPE=image/png:https://estateofhealth.ca/wp-content/uploads/2026/04/Aqua-Aerobics-2025.png
END:VEVENT
BEGIN:VEVENT
DTSTART;TZID=America/Halifax:20300430T173000
DTEND;TZID=America/Halifax:20300430T181500
DTSTAMP:20260425T171629
CREATED:20260416T221810Z
LAST-MODIFIED:20260416T222953Z
UID:10010404-1903800600-1903803300@estateofhealth.ca
SUMMARY:Aqua Aerobics (Tues)
DESCRIPTION:Join Marilyn for some fun\, low-impact exercise in the salt water pool! Aqua aerobics is a great way to get in shape\, using the resistance of water to both support you in balance and challenge you in strength! This is a 45-minute  all-levels class. Pre-registration required. Please call/email to book your spot!
URL:https://estateofhealth.ca/event/aqua-aerobics-tues/2030-04-30/
LOCATION:Estate of Health\, 101 Mill Street West\, Kingsville\, Ontario\, N9Y 1W4\, Canada
ATTACH;FMTTYPE=image/png:https://estateofhealth.ca/wp-content/uploads/2026/04/Aqua-Aerobics-2025.png
END:VEVENT
BEGIN:VEVENT
DTSTART;TZID=America/Halifax:20300507T173000
DTEND;TZID=America/Halifax:20300507T181500
DTSTAMP:20260425T171629
CREATED:20260416T221810Z
LAST-MODIFIED:20260416T222953Z
UID:10010405-1904405400-1904408100@estateofhealth.ca
SUMMARY:Aqua Aerobics (Tues)
DESCRIPTION:Join Marilyn for some fun\, low-impact exercise in the salt water pool! Aqua aerobics is a great way to get in shape\, using the resistance of water to both support you in balance and challenge you in strength! This is a 45-minute  all-levels class. Pre-registration required. Please call/email to book your spot!
URL:https://estateofhealth.ca/event/aqua-aerobics-tues/2030-05-07/
LOCATION:Estate of Health\, 101 Mill Street West\, Kingsville\, Ontario\, N9Y 1W4\, Canada
ATTACH;FMTTYPE=image/png:https://estateofhealth.ca/wp-content/uploads/2026/04/Aqua-Aerobics-2025.png
END:VEVENT
BEGIN:VEVENT
DTSTART;TZID=America/Halifax:20300514T173000
DTEND;TZID=America/Halifax:20300514T181500
DTSTAMP:20260425T171629
CREATED:20260416T221810Z
LAST-MODIFIED:20260416T222953Z
UID:10010406-1905010200-1905012900@estateofhealth.ca
SUMMARY:Aqua Aerobics (Tues)
DESCRIPTION:Join Marilyn for some fun\, low-impact exercise in the salt water pool! Aqua aerobics is a great way to get in shape\, using the resistance of water to both support you in balance and challenge you in strength! This is a 45-minute  all-levels class. Pre-registration required. Please call/email to book your spot!
URL:https://estateofhealth.ca/event/aqua-aerobics-tues/2030-05-14/
LOCATION:Estate of Health\, 101 Mill Street West\, Kingsville\, Ontario\, N9Y 1W4\, Canada
ATTACH;FMTTYPE=image/png:https://estateofhealth.ca/wp-content/uploads/2026/04/Aqua-Aerobics-2025.png
END:VEVENT
BEGIN:VEVENT
DTSTART;TZID=America/Halifax:20300521T173000
DTEND;TZID=America/Halifax:20300521T181500
DTSTAMP:20260425T171629
CREATED:20260416T221810Z
LAST-MODIFIED:20260416T222953Z
UID:10010407-1905615000-1905617700@estateofhealth.ca
SUMMARY:Aqua Aerobics (Tues)
DESCRIPTION:Join Marilyn for some fun\, low-impact exercise in the salt water pool! Aqua aerobics is a great way to get in shape\, using the resistance of water to both support you in balance and challenge you in strength! This is a 45-minute  all-levels class. Pre-registration required. Please call/email to book your spot!
URL:https://estateofhealth.ca/event/aqua-aerobics-tues/2030-05-21/
LOCATION:Estate of Health\, 101 Mill Street West\, Kingsville\, Ontario\, N9Y 1W4\, Canada
ATTACH;FMTTYPE=image/png:https://estateofhealth.ca/wp-content/uploads/2026/04/Aqua-Aerobics-2025.png
END:VEVENT
BEGIN:VEVENT
DTSTART;TZID=America/Halifax:20300528T173000
DTEND;TZID=America/Halifax:20300528T181500
DTSTAMP:20260425T171629
CREATED:20260416T221810Z
LAST-MODIFIED:20260416T222953Z
UID:10010408-1906219800-1906222500@estateofhealth.ca
SUMMARY:Aqua Aerobics (Tues)
DESCRIPTION:Join Marilyn for some fun\, low-impact exercise in the salt water pool! Aqua aerobics is a great way to get in shape\, using the resistance of water to both support you in balance and challenge you in strength! This is a 45-minute  all-levels class. Pre-registration required. Please call/email to book your spot!
URL:https://estateofhealth.ca/event/aqua-aerobics-tues/2030-05-28/
LOCATION:Estate of Health\, 101 Mill Street West\, Kingsville\, Ontario\, N9Y 1W4\, Canada
ATTACH;FMTTYPE=image/png:https://estateofhealth.ca/wp-content/uploads/2026/04/Aqua-Aerobics-2025.png
END:VEVENT
BEGIN:VEVENT
DTSTART;TZID=America/Halifax:20300604T173000
DTEND;TZID=America/Halifax:20300604T181500
DTSTAMP:20260425T171629
CREATED:20260416T221810Z
LAST-MODIFIED:20260416T222953Z
UID:10010409-1906824600-1906827300@estateofhealth.ca
SUMMARY:Aqua Aerobics (Tues)
DESCRIPTION:Join Marilyn for some fun\, low-impact exercise in the salt water pool! Aqua aerobics is a great way to get in shape\, using the resistance of water to both support you in balance and challenge you in strength! This is a 45-minute  all-levels class. Pre-registration required. Please call/email to book your spot!
URL:https://estateofhealth.ca/event/aqua-aerobics-tues/2030-06-04/
LOCATION:Estate of Health\, 101 Mill Street West\, Kingsville\, Ontario\, N9Y 1W4\, Canada
ATTACH;FMTTYPE=image/png:https://estateofhealth.ca/wp-content/uploads/2026/04/Aqua-Aerobics-2025.png
END:VEVENT
BEGIN:VEVENT
DTSTART;TZID=America/Halifax:20300611T173000
DTEND;TZID=America/Halifax:20300611T181500
DTSTAMP:20260425T171629
CREATED:20260416T221810Z
LAST-MODIFIED:20260416T222953Z
UID:10010410-1907429400-1907432100@estateofhealth.ca
SUMMARY:Aqua Aerobics (Tues)
DESCRIPTION:Join Marilyn for some fun\, low-impact exercise in the salt water pool! Aqua aerobics is a great way to get in shape\, using the resistance of water to both support you in balance and challenge you in strength! This is a 45-minute  all-levels class. Pre-registration required. Please call/email to book your spot!
URL:https://estateofhealth.ca/event/aqua-aerobics-tues/2030-06-11/
LOCATION:Estate of Health\, 101 Mill Street West\, Kingsville\, Ontario\, N9Y 1W4\, Canada
ATTACH;FMTTYPE=image/png:https://estateofhealth.ca/wp-content/uploads/2026/04/Aqua-Aerobics-2025.png
END:VEVENT
BEGIN:VEVENT
DTSTART;TZID=America/Halifax:20300618T173000
DTEND;TZID=America/Halifax:20300618T181500
DTSTAMP:20260425T171629
CREATED:20260416T221810Z
LAST-MODIFIED:20260416T222953Z
UID:10010411-1908034200-1908036900@estateofhealth.ca
SUMMARY:Aqua Aerobics (Tues)
DESCRIPTION:Join Marilyn for some fun\, low-impact exercise in the salt water pool! Aqua aerobics is a great way to get in shape\, using the resistance of water to both support you in balance and challenge you in strength! This is a 45-minute  all-levels class. Pre-registration required. Please call/email to book your spot!
URL:https://estateofhealth.ca/event/aqua-aerobics-tues/2030-06-18/
LOCATION:Estate of Health\, 101 Mill Street West\, Kingsville\, Ontario\, N9Y 1W4\, Canada
ATTACH;FMTTYPE=image/png:https://estateofhealth.ca/wp-content/uploads/2026/04/Aqua-Aerobics-2025.png
END:VEVENT
BEGIN:VEVENT
DTSTART;TZID=America/Halifax:20300625T173000
DTEND;TZID=America/Halifax:20300625T181500
DTSTAMP:20260425T171629
CREATED:20260416T221810Z
LAST-MODIFIED:20260416T222953Z
UID:10010412-1908639000-1908641700@estateofhealth.ca
SUMMARY:Aqua Aerobics (Tues)
DESCRIPTION:Join Marilyn for some fun\, low-impact exercise in the salt water pool! Aqua aerobics is a great way to get in shape\, using the resistance of water to both support you in balance and challenge you in strength! This is a 45-minute  all-levels class. Pre-registration required. Please call/email to book your spot!
URL:https://estateofhealth.ca/event/aqua-aerobics-tues/2030-06-25/
LOCATION:Estate of Health\, 101 Mill Street West\, Kingsville\, Ontario\, N9Y 1W4\, Canada
ATTACH;FMTTYPE=image/png:https://estateofhealth.ca/wp-content/uploads/2026/04/Aqua-Aerobics-2025.png
END:VEVENT
BEGIN:VEVENT
DTSTART;TZID=America/Halifax:20300702T173000
DTEND;TZID=America/Halifax:20300702T181500
DTSTAMP:20260425T171629
CREATED:20260416T221810Z
LAST-MODIFIED:20260416T222953Z
UID:10010413-1909243800-1909246500@estateofhealth.ca
SUMMARY:Aqua Aerobics (Tues)
DESCRIPTION:Join Marilyn for some fun\, low-impact exercise in the salt water pool! Aqua aerobics is a great way to get in shape\, using the resistance of water to both support you in balance and challenge you in strength! This is a 45-minute  all-levels class. Pre-registration required. Please call/email to book your spot!
URL:https://estateofhealth.ca/event/aqua-aerobics-tues/2030-07-02/
LOCATION:Estate of Health\, 101 Mill Street West\, Kingsville\, Ontario\, N9Y 1W4\, Canada
ATTACH;FMTTYPE=image/png:https://estateofhealth.ca/wp-content/uploads/2026/04/Aqua-Aerobics-2025.png
END:VEVENT
BEGIN:VEVENT
DTSTART;TZID=America/Halifax:20300709T173000
DTEND;TZID=America/Halifax:20300709T181500
DTSTAMP:20260425T171629
CREATED:20260416T221810Z
LAST-MODIFIED:20260416T222953Z
UID:10010414-1909848600-1909851300@estateofhealth.ca
SUMMARY:Aqua Aerobics (Tues)
DESCRIPTION:Join Marilyn for some fun\, low-impact exercise in the salt water pool! Aqua aerobics is a great way to get in shape\, using the resistance of water to both support you in balance and challenge you in strength! This is a 45-minute  all-levels class. Pre-registration required. Please call/email to book your spot!
URL:https://estateofhealth.ca/event/aqua-aerobics-tues/2030-07-09/
LOCATION:Estate of Health\, 101 Mill Street West\, Kingsville\, Ontario\, N9Y 1W4\, Canada
ATTACH;FMTTYPE=image/png:https://estateofhealth.ca/wp-content/uploads/2026/04/Aqua-Aerobics-2025.png
END:VEVENT
BEGIN:VEVENT
DTSTART;TZID=America/Halifax:20300716T173000
DTEND;TZID=America/Halifax:20300716T181500
DTSTAMP:20260425T171629
CREATED:20260416T221810Z
LAST-MODIFIED:20260416T222953Z
UID:10010415-1910453400-1910456100@estateofhealth.ca
SUMMARY:Aqua Aerobics (Tues)
DESCRIPTION:Join Marilyn for some fun\, low-impact exercise in the salt water pool! Aqua aerobics is a great way to get in shape\, using the resistance of water to both support you in balance and challenge you in strength! This is a 45-minute  all-levels class. Pre-registration required. Please call/email to book your spot!
URL:https://estateofhealth.ca/event/aqua-aerobics-tues/2030-07-16/
LOCATION:Estate of Health\, 101 Mill Street West\, Kingsville\, Ontario\, N9Y 1W4\, Canada
ATTACH;FMTTYPE=image/png:https://estateofhealth.ca/wp-content/uploads/2026/04/Aqua-Aerobics-2025.png
END:VEVENT
BEGIN:VEVENT
DTSTART;TZID=America/Halifax:20300723T173000
DTEND;TZID=America/Halifax:20300723T181500
DTSTAMP:20260425T171629
CREATED:20260416T221810Z
LAST-MODIFIED:20260416T222953Z
UID:10010416-1911058200-1911060900@estateofhealth.ca
SUMMARY:Aqua Aerobics (Tues)
DESCRIPTION:Join Marilyn for some fun\, low-impact exercise in the salt water pool! Aqua aerobics is a great way to get in shape\, using the resistance of water to both support you in balance and challenge you in strength! This is a 45-minute  all-levels class. Pre-registration required. Please call/email to book your spot!
URL:https://estateofhealth.ca/event/aqua-aerobics-tues/2030-07-23/
LOCATION:Estate of Health\, 101 Mill Street West\, Kingsville\, Ontario\, N9Y 1W4\, Canada
ATTACH;FMTTYPE=image/png:https://estateofhealth.ca/wp-content/uploads/2026/04/Aqua-Aerobics-2025.png
END:VEVENT
BEGIN:VEVENT
DTSTART;TZID=America/Halifax:20300730T173000
DTEND;TZID=America/Halifax:20300730T181500
DTSTAMP:20260425T171629
CREATED:20260416T221810Z
LAST-MODIFIED:20260416T222953Z
UID:10010417-1911663000-1911665700@estateofhealth.ca
SUMMARY:Aqua Aerobics (Tues)
DESCRIPTION:Join Marilyn for some fun\, low-impact exercise in the salt water pool! Aqua aerobics is a great way to get in shape\, using the resistance of water to both support you in balance and challenge you in strength! This is a 45-minute  all-levels class. Pre-registration required. Please call/email to book your spot!
URL:https://estateofhealth.ca/event/aqua-aerobics-tues/2030-07-30/
LOCATION:Estate of Health\, 101 Mill Street West\, Kingsville\, Ontario\, N9Y 1W4\, Canada
ATTACH;FMTTYPE=image/png:https://estateofhealth.ca/wp-content/uploads/2026/04/Aqua-Aerobics-2025.png
END:VEVENT
BEGIN:VEVENT
DTSTART;TZID=America/Halifax:20300806T173000
DTEND;TZID=America/Halifax:20300806T181500
DTSTAMP:20260425T171629
CREATED:20260416T221810Z
LAST-MODIFIED:20260416T222953Z
UID:10010418-1912267800-1912270500@estateofhealth.ca
SUMMARY:Aqua Aerobics (Tues)
DESCRIPTION:Join Marilyn for some fun\, low-impact exercise in the salt water pool! Aqua aerobics is a great way to get in shape\, using the resistance of water to both support you in balance and challenge you in strength! This is a 45-minute  all-levels class. Pre-registration required. Please call/email to book your spot!
URL:https://estateofhealth.ca/event/aqua-aerobics-tues/2030-08-06/
LOCATION:Estate of Health\, 101 Mill Street West\, Kingsville\, Ontario\, N9Y 1W4\, Canada
ATTACH;FMTTYPE=image/png:https://estateofhealth.ca/wp-content/uploads/2026/04/Aqua-Aerobics-2025.png
END:VEVENT
BEGIN:VEVENT
DTSTART;TZID=America/Halifax:20300813T173000
DTEND;TZID=America/Halifax:20300813T181500
DTSTAMP:20260425T171629
CREATED:20260416T221810Z
LAST-MODIFIED:20260416T222953Z
UID:10010419-1912872600-1912875300@estateofhealth.ca
SUMMARY:Aqua Aerobics (Tues)
DESCRIPTION:Join Marilyn for some fun\, low-impact exercise in the salt water pool! Aqua aerobics is a great way to get in shape\, using the resistance of water to both support you in balance and challenge you in strength! This is a 45-minute  all-levels class. Pre-registration required. Please call/email to book your spot!
URL:https://estateofhealth.ca/event/aqua-aerobics-tues/2030-08-13/
LOCATION:Estate of Health\, 101 Mill Street West\, Kingsville\, Ontario\, N9Y 1W4\, Canada
ATTACH;FMTTYPE=image/png:https://estateofhealth.ca/wp-content/uploads/2026/04/Aqua-Aerobics-2025.png
END:VEVENT
BEGIN:VEVENT
DTSTART;TZID=America/Halifax:20300820T173000
DTEND;TZID=America/Halifax:20300820T181500
DTSTAMP:20260425T171629
CREATED:20260416T221810Z
LAST-MODIFIED:20260416T222953Z
UID:10010420-1913477400-1913480100@estateofhealth.ca
SUMMARY:Aqua Aerobics (Tues)
DESCRIPTION:Join Marilyn for some fun\, low-impact exercise in the salt water pool! Aqua aerobics is a great way to get in shape\, using the resistance of water to both support you in balance and challenge you in strength! This is a 45-minute  all-levels class. Pre-registration required. Please call/email to book your spot!
URL:https://estateofhealth.ca/event/aqua-aerobics-tues/2030-08-20/
LOCATION:Estate of Health\, 101 Mill Street West\, Kingsville\, Ontario\, N9Y 1W4\, Canada
ATTACH;FMTTYPE=image/png:https://estateofhealth.ca/wp-content/uploads/2026/04/Aqua-Aerobics-2025.png
END:VEVENT
BEGIN:VEVENT
DTSTART;TZID=America/Halifax:20300827T173000
DTEND;TZID=America/Halifax:20300827T181500
DTSTAMP:20260425T171629
CREATED:20260416T221810Z
LAST-MODIFIED:20260416T222953Z
UID:10010421-1914082200-1914084900@estateofhealth.ca
SUMMARY:Aqua Aerobics (Tues)
DESCRIPTION:Join Marilyn for some fun\, low-impact exercise in the salt water pool! Aqua aerobics is a great way to get in shape\, using the resistance of water to both support you in balance and challenge you in strength! This is a 45-minute  all-levels class. Pre-registration required. Please call/email to book your spot!
URL:https://estateofhealth.ca/event/aqua-aerobics-tues/2030-08-27/
LOCATION:Estate of Health\, 101 Mill Street West\, Kingsville\, Ontario\, N9Y 1W4\, Canada
ATTACH;FMTTYPE=image/png:https://estateofhealth.ca/wp-content/uploads/2026/04/Aqua-Aerobics-2025.png
END:VEVENT
BEGIN:VEVENT
DTSTART;TZID=America/Halifax:20300903T173000
DTEND;TZID=America/Halifax:20300903T181500
DTSTAMP:20260425T171629
CREATED:20260416T221810Z
LAST-MODIFIED:20260416T222953Z
UID:10010422-1914687000-1914689700@estateofhealth.ca
SUMMARY:Aqua Aerobics (Tues)
DESCRIPTION:Join Marilyn for some fun\, low-impact exercise in the salt water pool! Aqua aerobics is a great way to get in shape\, using the resistance of water to both support you in balance and challenge you in strength! This is a 45-minute  all-levels class. Pre-registration required. Please call/email to book your spot!
URL:https://estateofhealth.ca/event/aqua-aerobics-tues/2030-09-03/
LOCATION:Estate of Health\, 101 Mill Street West\, Kingsville\, Ontario\, N9Y 1W4\, Canada
ATTACH;FMTTYPE=image/png:https://estateofhealth.ca/wp-content/uploads/2026/04/Aqua-Aerobics-2025.png
END:VEVENT
BEGIN:VEVENT
DTSTART;TZID=America/Halifax:20300910T173000
DTEND;TZID=America/Halifax:20300910T181500
DTSTAMP:20260425T171629
CREATED:20260416T221810Z
LAST-MODIFIED:20260416T222953Z
UID:10010423-1915291800-1915294500@estateofhealth.ca
SUMMARY:Aqua Aerobics (Tues)
DESCRIPTION:Join Marilyn for some fun\, low-impact exercise in the salt water pool! Aqua aerobics is a great way to get in shape\, using the resistance of water to both support you in balance and challenge you in strength! This is a 45-minute  all-levels class. Pre-registration required. Please call/email to book your spot!
URL:https://estateofhealth.ca/event/aqua-aerobics-tues/2030-09-10/
LOCATION:Estate of Health\, 101 Mill Street West\, Kingsville\, Ontario\, N9Y 1W4\, Canada
ATTACH;FMTTYPE=image/png:https://estateofhealth.ca/wp-content/uploads/2026/04/Aqua-Aerobics-2025.png
END:VEVENT
BEGIN:VEVENT
DTSTART;TZID=America/Halifax:20300917T173000
DTEND;TZID=America/Halifax:20300917T181500
DTSTAMP:20260425T171629
CREATED:20260416T221810Z
LAST-MODIFIED:20260416T222953Z
UID:10010424-1915896600-1915899300@estateofhealth.ca
SUMMARY:Aqua Aerobics (Tues)
DESCRIPTION:Join Marilyn for some fun\, low-impact exercise in the salt water pool! Aqua aerobics is a great way to get in shape\, using the resistance of water to both support you in balance and challenge you in strength! This is a 45-minute  all-levels class. Pre-registration required. Please call/email to book your spot!
URL:https://estateofhealth.ca/event/aqua-aerobics-tues/2030-09-17/
LOCATION:Estate of Health\, 101 Mill Street West\, Kingsville\, Ontario\, N9Y 1W4\, Canada
ATTACH;FMTTYPE=image/png:https://estateofhealth.ca/wp-content/uploads/2026/04/Aqua-Aerobics-2025.png
END:VEVENT
BEGIN:VEVENT
DTSTART;TZID=America/Halifax:20300924T173000
DTEND;TZID=America/Halifax:20300924T181500
DTSTAMP:20260425T171629
CREATED:20260416T221810Z
LAST-MODIFIED:20260416T222953Z
UID:10010425-1916501400-1916504100@estateofhealth.ca
SUMMARY:Aqua Aerobics (Tues)
DESCRIPTION:Join Marilyn for some fun\, low-impact exercise in the salt water pool! Aqua aerobics is a great way to get in shape\, using the resistance of water to both support you in balance and challenge you in strength! This is a 45-minute  all-levels class. Pre-registration required. Please call/email to book your spot!
URL:https://estateofhealth.ca/event/aqua-aerobics-tues/2030-09-24/
LOCATION:Estate of Health\, 101 Mill Street West\, Kingsville\, Ontario\, N9Y 1W4\, Canada
ATTACH;FMTTYPE=image/png:https://estateofhealth.ca/wp-content/uploads/2026/04/Aqua-Aerobics-2025.png
END:VEVENT
BEGIN:VEVENT
DTSTART;TZID=America/Halifax:20301001T173000
DTEND;TZID=America/Halifax:20301001T181500
DTSTAMP:20260425T171629
CREATED:20260416T221810Z
LAST-MODIFIED:20260416T222953Z
UID:10010426-1917106200-1917108900@estateofhealth.ca
SUMMARY:Aqua Aerobics (Tues)
DESCRIPTION:Join Marilyn for some fun\, low-impact exercise in the salt water pool! Aqua aerobics is a great way to get in shape\, using the resistance of water to both support you in balance and challenge you in strength! This is a 45-minute  all-levels class. Pre-registration required. Please call/email to book your spot!
URL:https://estateofhealth.ca/event/aqua-aerobics-tues/2030-10-01/
LOCATION:Estate of Health\, 101 Mill Street West\, Kingsville\, Ontario\, N9Y 1W4\, Canada
ATTACH;FMTTYPE=image/png:https://estateofhealth.ca/wp-content/uploads/2026/04/Aqua-Aerobics-2025.png
END:VEVENT
BEGIN:VEVENT
DTSTART;TZID=America/Halifax:20301008T173000
DTEND;TZID=America/Halifax:20301008T181500
DTSTAMP:20260425T171629
CREATED:20260416T221810Z
LAST-MODIFIED:20260416T222953Z
UID:10010427-1917711000-1917713700@estateofhealth.ca
SUMMARY:Aqua Aerobics (Tues)
DESCRIPTION:Join Marilyn for some fun\, low-impact exercise in the salt water pool! Aqua aerobics is a great way to get in shape\, using the resistance of water to both support you in balance and challenge you in strength! This is a 45-minute  all-levels class. Pre-registration required. Please call/email to book your spot!
URL:https://estateofhealth.ca/event/aqua-aerobics-tues/2030-10-08/
LOCATION:Estate of Health\, 101 Mill Street West\, Kingsville\, Ontario\, N9Y 1W4\, Canada
ATTACH;FMTTYPE=image/png:https://estateofhealth.ca/wp-content/uploads/2026/04/Aqua-Aerobics-2025.png
END:VEVENT
BEGIN:VEVENT
DTSTART;TZID=America/Halifax:20301015T173000
DTEND;TZID=America/Halifax:20301015T181500
DTSTAMP:20260425T171629
CREATED:20260416T221810Z
LAST-MODIFIED:20260416T222953Z
UID:10010428-1918315800-1918318500@estateofhealth.ca
SUMMARY:Aqua Aerobics (Tues)
DESCRIPTION:Join Marilyn for some fun\, low-impact exercise in the salt water pool! Aqua aerobics is a great way to get in shape\, using the resistance of water to both support you in balance and challenge you in strength! This is a 45-minute  all-levels class. Pre-registration required. Please call/email to book your spot!
URL:https://estateofhealth.ca/event/aqua-aerobics-tues/2030-10-15/
LOCATION:Estate of Health\, 101 Mill Street West\, Kingsville\, Ontario\, N9Y 1W4\, Canada
ATTACH;FMTTYPE=image/png:https://estateofhealth.ca/wp-content/uploads/2026/04/Aqua-Aerobics-2025.png
END:VEVENT
BEGIN:VEVENT
DTSTART;TZID=America/Halifax:20301022T173000
DTEND;TZID=America/Halifax:20301022T181500
DTSTAMP:20260425T171629
CREATED:20260416T221810Z
LAST-MODIFIED:20260416T222953Z
UID:10010429-1918920600-1918923300@estateofhealth.ca
SUMMARY:Aqua Aerobics (Tues)
DESCRIPTION:Join Marilyn for some fun\, low-impact exercise in the salt water pool! Aqua aerobics is a great way to get in shape\, using the resistance of water to both support you in balance and challenge you in strength! This is a 45-minute  all-levels class. Pre-registration required. Please call/email to book your spot!
URL:https://estateofhealth.ca/event/aqua-aerobics-tues/2030-10-22/
LOCATION:Estate of Health\, 101 Mill Street West\, Kingsville\, Ontario\, N9Y 1W4\, Canada
ATTACH;FMTTYPE=image/png:https://estateofhealth.ca/wp-content/uploads/2026/04/Aqua-Aerobics-2025.png
END:VEVENT
BEGIN:VEVENT
DTSTART;TZID=America/Halifax:20301029T173000
DTEND;TZID=America/Halifax:20301029T181500
DTSTAMP:20260425T171629
CREATED:20260416T221810Z
LAST-MODIFIED:20260416T222953Z
UID:10010430-1919525400-1919528100@estateofhealth.ca
SUMMARY:Aqua Aerobics (Tues)
DESCRIPTION:Join Marilyn for some fun\, low-impact exercise in the salt water pool! Aqua aerobics is a great way to get in shape\, using the resistance of water to both support you in balance and challenge you in strength! This is a 45-minute  all-levels class. Pre-registration required. Please call/email to book your spot!
URL:https://estateofhealth.ca/event/aqua-aerobics-tues/2030-10-29/
LOCATION:Estate of Health\, 101 Mill Street West\, Kingsville\, Ontario\, N9Y 1W4\, Canada
ATTACH;FMTTYPE=image/png:https://estateofhealth.ca/wp-content/uploads/2026/04/Aqua-Aerobics-2025.png
END:VEVENT
BEGIN:VEVENT
DTSTART;TZID=America/Halifax:20301105T173000
DTEND;TZID=America/Halifax:20301105T181500
DTSTAMP:20260425T171629
CREATED:20260416T221810Z
LAST-MODIFIED:20260416T222953Z
UID:10010431-1920130200-1920132900@estateofhealth.ca
SUMMARY:Aqua Aerobics (Tues)
DESCRIPTION:Join Marilyn for some fun\, low-impact exercise in the salt water pool! Aqua aerobics is a great way to get in shape\, using the resistance of water to both support you in balance and challenge you in strength! This is a 45-minute  all-levels class. Pre-registration required. Please call/email to book your spot!
URL:https://estateofhealth.ca/event/aqua-aerobics-tues/2030-11-05/
LOCATION:Estate of Health\, 101 Mill Street West\, Kingsville\, Ontario\, N9Y 1W4\, Canada
ATTACH;FMTTYPE=image/png:https://estateofhealth.ca/wp-content/uploads/2026/04/Aqua-Aerobics-2025.png
END:VEVENT
END:VCALENDAR