BEGIN:VCALENDAR
VERSION:2.0
PRODID:-//Estate of Health - ECPv6.15.18//NONSGML v1.0//EN
CALSCALE:GREGORIAN
METHOD:PUBLISH
X-WR-CALNAME:Estate of Health
X-ORIGINAL-URL:https://estateofhealth.ca
X-WR-CALDESC:Events for Estate of Health
REFRESH-INTERVAL;VALUE=DURATION:PT1H
X-Robots-Tag:noindex
X-PUBLISHED-TTL:PT1H
BEGIN:VTIMEZONE
TZID:America/Halifax
BEGIN:DAYLIGHT
TZOFFSETFROM:-0400
TZOFFSETTO:-0300
TZNAME:ADT
DTSTART:20250309T060000
END:DAYLIGHT
BEGIN:STANDARD
TZOFFSETFROM:-0300
TZOFFSETTO:-0400
TZNAME:AST
DTSTART:20251102T050000
END:STANDARD
BEGIN:DAYLIGHT
TZOFFSETFROM:-0400
TZOFFSETTO:-0300
TZNAME:ADT
DTSTART:20260308T060000
END:DAYLIGHT
BEGIN:STANDARD
TZOFFSETFROM:-0300
TZOFFSETTO:-0400
TZNAME:AST
DTSTART:20261101T050000
END:STANDARD
BEGIN:DAYLIGHT
TZOFFSETFROM:-0400
TZOFFSETTO:-0300
TZNAME:ADT
DTSTART:20270314T060000
END:DAYLIGHT
BEGIN:STANDARD
TZOFFSETFROM:-0300
TZOFFSETTO:-0400
TZNAME:AST
DTSTART:20271107T050000
END:STANDARD
END:VTIMEZONE
BEGIN:VEVENT
DTSTART;TZID=America/Halifax:20260429T190000
DTEND;TZID=America/Halifax:20260429T201500
DTSTAMP:20260424T111939
CREATED:20260127T223940Z
LAST-MODIFIED:20260310T145903Z
UID:10009918-1777489200-1777493700@estateofhealth.ca
SUMMARY:Yin & Yang Yoga
DESCRIPTION:In this 75-minute\, all-levels class\, we explore the principles of Yin and Yang through meditation\, breathwork and movement. Participants can expect to work on strength\, stability and physical/mental spaciousness\, along with the stillness and focus of Yin Yoga\, applying the principles of TCM Meridian Theory and working with the body’s fascial system.
URL:https://estateofhealth.ca/event/yin-yang-yoga/2026-04-29/
LOCATION:Estate of Health\, 101 Mill Street West\, Kingsville\, Ontario\, N9Y 1W4\, Canada
CATEGORIES:Yoga Class
ATTACH;FMTTYPE=image/png:https://estateofhealth.ca/wp-content/uploads/2026/01/Chair-Yoga-1.png
END:VEVENT
BEGIN:VEVENT
DTSTART;TZID=America/Halifax:20260506T190000
DTEND;TZID=America/Halifax:20260506T201500
DTSTAMP:20260424T111939
CREATED:20260127T223940Z
LAST-MODIFIED:20260310T145903Z
UID:10009919-1778094000-1778098500@estateofhealth.ca
SUMMARY:Yin & Yang Yoga
DESCRIPTION:In this 75-minute\, all-levels class\, we explore the principles of Yin and Yang through meditation\, breathwork and movement. Participants can expect to work on strength\, stability and physical/mental spaciousness\, along with the stillness and focus of Yin Yoga\, applying the principles of TCM Meridian Theory and working with the body’s fascial system.
URL:https://estateofhealth.ca/event/yin-yang-yoga/2026-05-06/
LOCATION:Estate of Health\, 101 Mill Street West\, Kingsville\, Ontario\, N9Y 1W4\, Canada
CATEGORIES:Yoga Class
ATTACH;FMTTYPE=image/png:https://estateofhealth.ca/wp-content/uploads/2026/01/Chair-Yoga-1.png
END:VEVENT
BEGIN:VEVENT
DTSTART;TZID=America/Halifax:20260513T190000
DTEND;TZID=America/Halifax:20260513T201500
DTSTAMP:20260424T111939
CREATED:20260127T223940Z
LAST-MODIFIED:20260310T145903Z
UID:10009920-1778698800-1778703300@estateofhealth.ca
SUMMARY:Yin & Yang Yoga
DESCRIPTION:In this 75-minute\, all-levels class\, we explore the principles of Yin and Yang through meditation\, breathwork and movement. Participants can expect to work on strength\, stability and physical/mental spaciousness\, along with the stillness and focus of Yin Yoga\, applying the principles of TCM Meridian Theory and working with the body’s fascial system.
URL:https://estateofhealth.ca/event/yin-yang-yoga/2026-05-13/
LOCATION:Estate of Health\, 101 Mill Street West\, Kingsville\, Ontario\, N9Y 1W4\, Canada
CATEGORIES:Yoga Class
ATTACH;FMTTYPE=image/png:https://estateofhealth.ca/wp-content/uploads/2026/01/Chair-Yoga-1.png
END:VEVENT
BEGIN:VEVENT
DTSTART;TZID=America/Halifax:20260520T190000
DTEND;TZID=America/Halifax:20260520T201500
DTSTAMP:20260424T111939
CREATED:20260127T223940Z
LAST-MODIFIED:20260310T145903Z
UID:10009921-1779303600-1779308100@estateofhealth.ca
SUMMARY:Yin & Yang Yoga
DESCRIPTION:In this 75-minute\, all-levels class\, we explore the principles of Yin and Yang through meditation\, breathwork and movement. Participants can expect to work on strength\, stability and physical/mental spaciousness\, along with the stillness and focus of Yin Yoga\, applying the principles of TCM Meridian Theory and working with the body’s fascial system.
URL:https://estateofhealth.ca/event/yin-yang-yoga/2026-05-20/
LOCATION:Estate of Health\, 101 Mill Street West\, Kingsville\, Ontario\, N9Y 1W4\, Canada
CATEGORIES:Yoga Class
ATTACH;FMTTYPE=image/png:https://estateofhealth.ca/wp-content/uploads/2026/01/Chair-Yoga-1.png
END:VEVENT
BEGIN:VEVENT
DTSTART;TZID=America/Halifax:20260527T190000
DTEND;TZID=America/Halifax:20260527T201500
DTSTAMP:20260424T111939
CREATED:20260127T223940Z
LAST-MODIFIED:20260310T145903Z
UID:10009922-1779908400-1779912900@estateofhealth.ca
SUMMARY:Yin & Yang Yoga
DESCRIPTION:In this 75-minute\, all-levels class\, we explore the principles of Yin and Yang through meditation\, breathwork and movement. Participants can expect to work on strength\, stability and physical/mental spaciousness\, along with the stillness and focus of Yin Yoga\, applying the principles of TCM Meridian Theory and working with the body’s fascial system.
URL:https://estateofhealth.ca/event/yin-yang-yoga/2026-05-27/
LOCATION:Estate of Health\, 101 Mill Street West\, Kingsville\, Ontario\, N9Y 1W4\, Canada
CATEGORIES:Yoga Class
ATTACH;FMTTYPE=image/png:https://estateofhealth.ca/wp-content/uploads/2026/01/Chair-Yoga-1.png
END:VEVENT
BEGIN:VEVENT
DTSTART;TZID=America/Halifax:20260603T190000
DTEND;TZID=America/Halifax:20260603T201500
DTSTAMP:20260424T111939
CREATED:20260127T223940Z
LAST-MODIFIED:20260310T145903Z
UID:10009923-1780513200-1780517700@estateofhealth.ca
SUMMARY:Yin & Yang Yoga
DESCRIPTION:In this 75-minute\, all-levels class\, we explore the principles of Yin and Yang through meditation\, breathwork and movement. Participants can expect to work on strength\, stability and physical/mental spaciousness\, along with the stillness and focus of Yin Yoga\, applying the principles of TCM Meridian Theory and working with the body’s fascial system.
URL:https://estateofhealth.ca/event/yin-yang-yoga/2026-06-03/
LOCATION:Estate of Health\, 101 Mill Street West\, Kingsville\, Ontario\, N9Y 1W4\, Canada
CATEGORIES:Yoga Class
ATTACH;FMTTYPE=image/png:https://estateofhealth.ca/wp-content/uploads/2026/01/Chair-Yoga-1.png
END:VEVENT
BEGIN:VEVENT
DTSTART;TZID=America/Halifax:20260610T190000
DTEND;TZID=America/Halifax:20260610T201500
DTSTAMP:20260424T111939
CREATED:20260127T223940Z
LAST-MODIFIED:20260310T145903Z
UID:10009924-1781118000-1781122500@estateofhealth.ca
SUMMARY:Yin & Yang Yoga
DESCRIPTION:In this 75-minute\, all-levels class\, we explore the principles of Yin and Yang through meditation\, breathwork and movement. Participants can expect to work on strength\, stability and physical/mental spaciousness\, along with the stillness and focus of Yin Yoga\, applying the principles of TCM Meridian Theory and working with the body’s fascial system.
URL:https://estateofhealth.ca/event/yin-yang-yoga/2026-06-10/
LOCATION:Estate of Health\, 101 Mill Street West\, Kingsville\, Ontario\, N9Y 1W4\, Canada
CATEGORIES:Yoga Class
ATTACH;FMTTYPE=image/png:https://estateofhealth.ca/wp-content/uploads/2026/01/Chair-Yoga-1.png
END:VEVENT
BEGIN:VEVENT
DTSTART;TZID=America/Halifax:20260617T190000
DTEND;TZID=America/Halifax:20260617T201500
DTSTAMP:20260424T111939
CREATED:20260127T223940Z
LAST-MODIFIED:20260310T145903Z
UID:10009925-1781722800-1781727300@estateofhealth.ca
SUMMARY:Yin & Yang Yoga
DESCRIPTION:In this 75-minute\, all-levels class\, we explore the principles of Yin and Yang through meditation\, breathwork and movement. Participants can expect to work on strength\, stability and physical/mental spaciousness\, along with the stillness and focus of Yin Yoga\, applying the principles of TCM Meridian Theory and working with the body’s fascial system.
URL:https://estateofhealth.ca/event/yin-yang-yoga/2026-06-17/
LOCATION:Estate of Health\, 101 Mill Street West\, Kingsville\, Ontario\, N9Y 1W4\, Canada
CATEGORIES:Yoga Class
ATTACH;FMTTYPE=image/png:https://estateofhealth.ca/wp-content/uploads/2026/01/Chair-Yoga-1.png
END:VEVENT
BEGIN:VEVENT
DTSTART;TZID=America/Halifax:20260624T190000
DTEND;TZID=America/Halifax:20260624T201500
DTSTAMP:20260424T111939
CREATED:20260127T223940Z
LAST-MODIFIED:20260310T145903Z
UID:10009926-1782327600-1782332100@estateofhealth.ca
SUMMARY:Yin & Yang Yoga
DESCRIPTION:In this 75-minute\, all-levels class\, we explore the principles of Yin and Yang through meditation\, breathwork and movement. Participants can expect to work on strength\, stability and physical/mental spaciousness\, along with the stillness and focus of Yin Yoga\, applying the principles of TCM Meridian Theory and working with the body’s fascial system.
URL:https://estateofhealth.ca/event/yin-yang-yoga/2026-06-24/
LOCATION:Estate of Health\, 101 Mill Street West\, Kingsville\, Ontario\, N9Y 1W4\, Canada
CATEGORIES:Yoga Class
ATTACH;FMTTYPE=image/png:https://estateofhealth.ca/wp-content/uploads/2026/01/Chair-Yoga-1.png
END:VEVENT
BEGIN:VEVENT
DTSTART;TZID=America/Halifax:20260701T190000
DTEND;TZID=America/Halifax:20260701T201500
DTSTAMP:20260424T111939
CREATED:20260127T223940Z
LAST-MODIFIED:20260310T145903Z
UID:10010129-1782932400-1782936900@estateofhealth.ca
SUMMARY:Yin & Yang Yoga
DESCRIPTION:In this 75-minute\, all-levels class\, we explore the principles of Yin and Yang through meditation\, breathwork and movement. Participants can expect to work on strength\, stability and physical/mental spaciousness\, along with the stillness and focus of Yin Yoga\, applying the principles of TCM Meridian Theory and working with the body’s fascial system.
URL:https://estateofhealth.ca/event/yin-yang-yoga/2026-07-01/
LOCATION:Estate of Health\, 101 Mill Street West\, Kingsville\, Ontario\, N9Y 1W4\, Canada
CATEGORIES:Yoga Class
ATTACH;FMTTYPE=image/png:https://estateofhealth.ca/wp-content/uploads/2026/01/Chair-Yoga-1.png
END:VEVENT
BEGIN:VEVENT
DTSTART;TZID=America/Halifax:20260708T190000
DTEND;TZID=America/Halifax:20260708T201500
DTSTAMP:20260424T111939
CREATED:20260127T223940Z
LAST-MODIFIED:20260310T145903Z
UID:10009928-1783537200-1783541700@estateofhealth.ca
SUMMARY:Yin & Yang Yoga
DESCRIPTION:In this 75-minute\, all-levels class\, we explore the principles of Yin and Yang through meditation\, breathwork and movement. Participants can expect to work on strength\, stability and physical/mental spaciousness\, along with the stillness and focus of Yin Yoga\, applying the principles of TCM Meridian Theory and working with the body’s fascial system.
URL:https://estateofhealth.ca/event/yin-yang-yoga/2026-07-08/
LOCATION:Estate of Health\, 101 Mill Street West\, Kingsville\, Ontario\, N9Y 1W4\, Canada
CATEGORIES:Yoga Class
ATTACH;FMTTYPE=image/png:https://estateofhealth.ca/wp-content/uploads/2026/01/Chair-Yoga-1.png
END:VEVENT
BEGIN:VEVENT
DTSTART;TZID=America/Halifax:20260715T190000
DTEND;TZID=America/Halifax:20260715T201500
DTSTAMP:20260424T111939
CREATED:20260127T223940Z
LAST-MODIFIED:20260310T145903Z
UID:10009929-1784142000-1784146500@estateofhealth.ca
SUMMARY:Yin & Yang Yoga
DESCRIPTION:In this 75-minute\, all-levels class\, we explore the principles of Yin and Yang through meditation\, breathwork and movement. Participants can expect to work on strength\, stability and physical/mental spaciousness\, along with the stillness and focus of Yin Yoga\, applying the principles of TCM Meridian Theory and working with the body’s fascial system.
URL:https://estateofhealth.ca/event/yin-yang-yoga/2026-07-15/
LOCATION:Estate of Health\, 101 Mill Street West\, Kingsville\, Ontario\, N9Y 1W4\, Canada
CATEGORIES:Yoga Class
ATTACH;FMTTYPE=image/png:https://estateofhealth.ca/wp-content/uploads/2026/01/Chair-Yoga-1.png
END:VEVENT
BEGIN:VEVENT
DTSTART;TZID=America/Halifax:20260722T190000
DTEND;TZID=America/Halifax:20260722T201500
DTSTAMP:20260424T111939
CREATED:20260127T223940Z
LAST-MODIFIED:20260310T145903Z
UID:10009930-1784746800-1784751300@estateofhealth.ca
SUMMARY:Yin & Yang Yoga
DESCRIPTION:In this 75-minute\, all-levels class\, we explore the principles of Yin and Yang through meditation\, breathwork and movement. Participants can expect to work on strength\, stability and physical/mental spaciousness\, along with the stillness and focus of Yin Yoga\, applying the principles of TCM Meridian Theory and working with the body’s fascial system.
URL:https://estateofhealth.ca/event/yin-yang-yoga/2026-07-22/
LOCATION:Estate of Health\, 101 Mill Street West\, Kingsville\, Ontario\, N9Y 1W4\, Canada
CATEGORIES:Yoga Class
ATTACH;FMTTYPE=image/png:https://estateofhealth.ca/wp-content/uploads/2026/01/Chair-Yoga-1.png
END:VEVENT
BEGIN:VEVENT
DTSTART;TZID=America/Halifax:20260729T190000
DTEND;TZID=America/Halifax:20260729T201500
DTSTAMP:20260424T111939
CREATED:20260127T223940Z
LAST-MODIFIED:20260310T145903Z
UID:10009931-1785351600-1785356100@estateofhealth.ca
SUMMARY:Yin & Yang Yoga
DESCRIPTION:In this 75-minute\, all-levels class\, we explore the principles of Yin and Yang through meditation\, breathwork and movement. Participants can expect to work on strength\, stability and physical/mental spaciousness\, along with the stillness and focus of Yin Yoga\, applying the principles of TCM Meridian Theory and working with the body’s fascial system.
URL:https://estateofhealth.ca/event/yin-yang-yoga/2026-07-29/
LOCATION:Estate of Health\, 101 Mill Street West\, Kingsville\, Ontario\, N9Y 1W4\, Canada
CATEGORIES:Yoga Class
ATTACH;FMTTYPE=image/png:https://estateofhealth.ca/wp-content/uploads/2026/01/Chair-Yoga-1.png
END:VEVENT
BEGIN:VEVENT
DTSTART;TZID=America/Halifax:20260805T190000
DTEND;TZID=America/Halifax:20260805T201500
DTSTAMP:20260424T111939
CREATED:20260127T223940Z
LAST-MODIFIED:20260310T145903Z
UID:10009932-1785956400-1785960900@estateofhealth.ca
SUMMARY:Yin & Yang Yoga
DESCRIPTION:In this 75-minute\, all-levels class\, we explore the principles of Yin and Yang through meditation\, breathwork and movement. Participants can expect to work on strength\, stability and physical/mental spaciousness\, along with the stillness and focus of Yin Yoga\, applying the principles of TCM Meridian Theory and working with the body’s fascial system.
URL:https://estateofhealth.ca/event/yin-yang-yoga/2026-08-05/
LOCATION:Estate of Health\, 101 Mill Street West\, Kingsville\, Ontario\, N9Y 1W4\, Canada
CATEGORIES:Yoga Class
ATTACH;FMTTYPE=image/png:https://estateofhealth.ca/wp-content/uploads/2026/01/Chair-Yoga-1.png
END:VEVENT
BEGIN:VEVENT
DTSTART;TZID=America/Halifax:20260812T190000
DTEND;TZID=America/Halifax:20260812T201500
DTSTAMP:20260424T111939
CREATED:20260127T223940Z
LAST-MODIFIED:20260310T145903Z
UID:10009933-1786561200-1786565700@estateofhealth.ca
SUMMARY:Yin & Yang Yoga
DESCRIPTION:In this 75-minute\, all-levels class\, we explore the principles of Yin and Yang through meditation\, breathwork and movement. Participants can expect to work on strength\, stability and physical/mental spaciousness\, along with the stillness and focus of Yin Yoga\, applying the principles of TCM Meridian Theory and working with the body’s fascial system.
URL:https://estateofhealth.ca/event/yin-yang-yoga/2026-08-12/
LOCATION:Estate of Health\, 101 Mill Street West\, Kingsville\, Ontario\, N9Y 1W4\, Canada
CATEGORIES:Yoga Class
ATTACH;FMTTYPE=image/png:https://estateofhealth.ca/wp-content/uploads/2026/01/Chair-Yoga-1.png
END:VEVENT
BEGIN:VEVENT
DTSTART;TZID=America/Halifax:20260819T190000
DTEND;TZID=America/Halifax:20260819T201500
DTSTAMP:20260424T111939
CREATED:20260127T223940Z
LAST-MODIFIED:20260310T145903Z
UID:10009934-1787166000-1787170500@estateofhealth.ca
SUMMARY:Yin & Yang Yoga
DESCRIPTION:In this 75-minute\, all-levels class\, we explore the principles of Yin and Yang through meditation\, breathwork and movement. Participants can expect to work on strength\, stability and physical/mental spaciousness\, along with the stillness and focus of Yin Yoga\, applying the principles of TCM Meridian Theory and working with the body’s fascial system.
URL:https://estateofhealth.ca/event/yin-yang-yoga/2026-08-19/
LOCATION:Estate of Health\, 101 Mill Street West\, Kingsville\, Ontario\, N9Y 1W4\, Canada
CATEGORIES:Yoga Class
ATTACH;FMTTYPE=image/png:https://estateofhealth.ca/wp-content/uploads/2026/01/Chair-Yoga-1.png
END:VEVENT
BEGIN:VEVENT
DTSTART;TZID=America/Halifax:20260826T190000
DTEND;TZID=America/Halifax:20260826T201500
DTSTAMP:20260424T111939
CREATED:20260127T223940Z
LAST-MODIFIED:20260310T145903Z
UID:10009935-1787770800-1787775300@estateofhealth.ca
SUMMARY:Yin & Yang Yoga
DESCRIPTION:In this 75-minute\, all-levels class\, we explore the principles of Yin and Yang through meditation\, breathwork and movement. Participants can expect to work on strength\, stability and physical/mental spaciousness\, along with the stillness and focus of Yin Yoga\, applying the principles of TCM Meridian Theory and working with the body’s fascial system.
URL:https://estateofhealth.ca/event/yin-yang-yoga/2026-08-26/
LOCATION:Estate of Health\, 101 Mill Street West\, Kingsville\, Ontario\, N9Y 1W4\, Canada
CATEGORIES:Yoga Class
ATTACH;FMTTYPE=image/png:https://estateofhealth.ca/wp-content/uploads/2026/01/Chair-Yoga-1.png
END:VEVENT
BEGIN:VEVENT
DTSTART;TZID=America/Halifax:20260902T190000
DTEND;TZID=America/Halifax:20260902T201500
DTSTAMP:20260424T111939
CREATED:20260127T223940Z
LAST-MODIFIED:20260310T145903Z
UID:10009936-1788375600-1788380100@estateofhealth.ca
SUMMARY:Yin & Yang Yoga
DESCRIPTION:In this 75-minute\, all-levels class\, we explore the principles of Yin and Yang through meditation\, breathwork and movement. Participants can expect to work on strength\, stability and physical/mental spaciousness\, along with the stillness and focus of Yin Yoga\, applying the principles of TCM Meridian Theory and working with the body’s fascial system.
URL:https://estateofhealth.ca/event/yin-yang-yoga/2026-09-02/
LOCATION:Estate of Health\, 101 Mill Street West\, Kingsville\, Ontario\, N9Y 1W4\, Canada
CATEGORIES:Yoga Class
ATTACH;FMTTYPE=image/png:https://estateofhealth.ca/wp-content/uploads/2026/01/Chair-Yoga-1.png
END:VEVENT
BEGIN:VEVENT
DTSTART;TZID=America/Halifax:20260909T190000
DTEND;TZID=America/Halifax:20260909T201500
DTSTAMP:20260424T111939
CREATED:20260127T223940Z
LAST-MODIFIED:20260310T145903Z
UID:10009937-1788980400-1788984900@estateofhealth.ca
SUMMARY:Yin & Yang Yoga
DESCRIPTION:In this 75-minute\, all-levels class\, we explore the principles of Yin and Yang through meditation\, breathwork and movement. Participants can expect to work on strength\, stability and physical/mental spaciousness\, along with the stillness and focus of Yin Yoga\, applying the principles of TCM Meridian Theory and working with the body’s fascial system.
URL:https://estateofhealth.ca/event/yin-yang-yoga/2026-09-09/
LOCATION:Estate of Health\, 101 Mill Street West\, Kingsville\, Ontario\, N9Y 1W4\, Canada
CATEGORIES:Yoga Class
ATTACH;FMTTYPE=image/png:https://estateofhealth.ca/wp-content/uploads/2026/01/Chair-Yoga-1.png
END:VEVENT
BEGIN:VEVENT
DTSTART;TZID=America/Halifax:20260916T190000
DTEND;TZID=America/Halifax:20260916T201500
DTSTAMP:20260424T111939
CREATED:20260127T223940Z
LAST-MODIFIED:20260310T145903Z
UID:10009938-1789585200-1789589700@estateofhealth.ca
SUMMARY:Yin & Yang Yoga
DESCRIPTION:In this 75-minute\, all-levels class\, we explore the principles of Yin and Yang through meditation\, breathwork and movement. Participants can expect to work on strength\, stability and physical/mental spaciousness\, along with the stillness and focus of Yin Yoga\, applying the principles of TCM Meridian Theory and working with the body’s fascial system.
URL:https://estateofhealth.ca/event/yin-yang-yoga/2026-09-16/
LOCATION:Estate of Health\, 101 Mill Street West\, Kingsville\, Ontario\, N9Y 1W4\, Canada
CATEGORIES:Yoga Class
ATTACH;FMTTYPE=image/png:https://estateofhealth.ca/wp-content/uploads/2026/01/Chair-Yoga-1.png
END:VEVENT
BEGIN:VEVENT
DTSTART;TZID=America/Halifax:20260923T190000
DTEND;TZID=America/Halifax:20260923T201500
DTSTAMP:20260424T111939
CREATED:20260127T223940Z
LAST-MODIFIED:20260310T145903Z
UID:10009939-1790190000-1790194500@estateofhealth.ca
SUMMARY:Yin & Yang Yoga
DESCRIPTION:In this 75-minute\, all-levels class\, we explore the principles of Yin and Yang through meditation\, breathwork and movement. Participants can expect to work on strength\, stability and physical/mental spaciousness\, along with the stillness and focus of Yin Yoga\, applying the principles of TCM Meridian Theory and working with the body’s fascial system.
URL:https://estateofhealth.ca/event/yin-yang-yoga/2026-09-23/
LOCATION:Estate of Health\, 101 Mill Street West\, Kingsville\, Ontario\, N9Y 1W4\, Canada
CATEGORIES:Yoga Class
ATTACH;FMTTYPE=image/png:https://estateofhealth.ca/wp-content/uploads/2026/01/Chair-Yoga-1.png
END:VEVENT
BEGIN:VEVENT
DTSTART;TZID=America/Halifax:20260930T190000
DTEND;TZID=America/Halifax:20260930T201500
DTSTAMP:20260424T111939
CREATED:20260127T223940Z
LAST-MODIFIED:20260310T145903Z
UID:10009940-1790794800-1790799300@estateofhealth.ca
SUMMARY:Yin & Yang Yoga
DESCRIPTION:In this 75-minute\, all-levels class\, we explore the principles of Yin and Yang through meditation\, breathwork and movement. Participants can expect to work on strength\, stability and physical/mental spaciousness\, along with the stillness and focus of Yin Yoga\, applying the principles of TCM Meridian Theory and working with the body’s fascial system.
URL:https://estateofhealth.ca/event/yin-yang-yoga/2026-09-30/
LOCATION:Estate of Health\, 101 Mill Street West\, Kingsville\, Ontario\, N9Y 1W4\, Canada
CATEGORIES:Yoga Class
ATTACH;FMTTYPE=image/png:https://estateofhealth.ca/wp-content/uploads/2026/01/Chair-Yoga-1.png
END:VEVENT
BEGIN:VEVENT
DTSTART;TZID=America/Halifax:20261007T190000
DTEND;TZID=America/Halifax:20261007T201500
DTSTAMP:20260424T111939
CREATED:20260127T223940Z
LAST-MODIFIED:20260310T145903Z
UID:10009941-1791399600-1791404100@estateofhealth.ca
SUMMARY:Yin & Yang Yoga
DESCRIPTION:In this 75-minute\, all-levels class\, we explore the principles of Yin and Yang through meditation\, breathwork and movement. Participants can expect to work on strength\, stability and physical/mental spaciousness\, along with the stillness and focus of Yin Yoga\, applying the principles of TCM Meridian Theory and working with the body’s fascial system.
URL:https://estateofhealth.ca/event/yin-yang-yoga/2026-10-07/
LOCATION:Estate of Health\, 101 Mill Street West\, Kingsville\, Ontario\, N9Y 1W4\, Canada
CATEGORIES:Yoga Class
ATTACH;FMTTYPE=image/png:https://estateofhealth.ca/wp-content/uploads/2026/01/Chair-Yoga-1.png
END:VEVENT
BEGIN:VEVENT
DTSTART;TZID=America/Halifax:20261014T190000
DTEND;TZID=America/Halifax:20261014T201500
DTSTAMP:20260424T111939
CREATED:20260127T223940Z
LAST-MODIFIED:20260310T145903Z
UID:10009942-1792004400-1792008900@estateofhealth.ca
SUMMARY:Yin & Yang Yoga
DESCRIPTION:In this 75-minute\, all-levels class\, we explore the principles of Yin and Yang through meditation\, breathwork and movement. Participants can expect to work on strength\, stability and physical/mental spaciousness\, along with the stillness and focus of Yin Yoga\, applying the principles of TCM Meridian Theory and working with the body’s fascial system.
URL:https://estateofhealth.ca/event/yin-yang-yoga/2026-10-14/
LOCATION:Estate of Health\, 101 Mill Street West\, Kingsville\, Ontario\, N9Y 1W4\, Canada
CATEGORIES:Yoga Class
ATTACH;FMTTYPE=image/png:https://estateofhealth.ca/wp-content/uploads/2026/01/Chair-Yoga-1.png
END:VEVENT
BEGIN:VEVENT
DTSTART;TZID=America/Halifax:20261021T190000
DTEND;TZID=America/Halifax:20261021T201500
DTSTAMP:20260424T111939
CREATED:20260127T223940Z
LAST-MODIFIED:20260310T145903Z
UID:10009943-1792609200-1792613700@estateofhealth.ca
SUMMARY:Yin & Yang Yoga
DESCRIPTION:In this 75-minute\, all-levels class\, we explore the principles of Yin and Yang through meditation\, breathwork and movement. Participants can expect to work on strength\, stability and physical/mental spaciousness\, along with the stillness and focus of Yin Yoga\, applying the principles of TCM Meridian Theory and working with the body’s fascial system.
URL:https://estateofhealth.ca/event/yin-yang-yoga/2026-10-21/
LOCATION:Estate of Health\, 101 Mill Street West\, Kingsville\, Ontario\, N9Y 1W4\, Canada
CATEGORIES:Yoga Class
ATTACH;FMTTYPE=image/png:https://estateofhealth.ca/wp-content/uploads/2026/01/Chair-Yoga-1.png
END:VEVENT
BEGIN:VEVENT
DTSTART;TZID=America/Halifax:20261028T190000
DTEND;TZID=America/Halifax:20261028T201500
DTSTAMP:20260424T111939
CREATED:20260127T223940Z
LAST-MODIFIED:20260310T145903Z
UID:10009944-1793214000-1793218500@estateofhealth.ca
SUMMARY:Yin & Yang Yoga
DESCRIPTION:In this 75-minute\, all-levels class\, we explore the principles of Yin and Yang through meditation\, breathwork and movement. Participants can expect to work on strength\, stability and physical/mental spaciousness\, along with the stillness and focus of Yin Yoga\, applying the principles of TCM Meridian Theory and working with the body’s fascial system.
URL:https://estateofhealth.ca/event/yin-yang-yoga/2026-10-28/
LOCATION:Estate of Health\, 101 Mill Street West\, Kingsville\, Ontario\, N9Y 1W4\, Canada
CATEGORIES:Yoga Class
ATTACH;FMTTYPE=image/png:https://estateofhealth.ca/wp-content/uploads/2026/01/Chair-Yoga-1.png
END:VEVENT
BEGIN:VEVENT
DTSTART;TZID=America/Halifax:20261104T190000
DTEND;TZID=America/Halifax:20261104T201500
DTSTAMP:20260424T111939
CREATED:20260127T223940Z
LAST-MODIFIED:20260310T145903Z
UID:10009945-1793818800-1793823300@estateofhealth.ca
SUMMARY:Yin & Yang Yoga
DESCRIPTION:In this 75-minute\, all-levels class\, we explore the principles of Yin and Yang through meditation\, breathwork and movement. Participants can expect to work on strength\, stability and physical/mental spaciousness\, along with the stillness and focus of Yin Yoga\, applying the principles of TCM Meridian Theory and working with the body’s fascial system.
URL:https://estateofhealth.ca/event/yin-yang-yoga/2026-11-04/
LOCATION:Estate of Health\, 101 Mill Street West\, Kingsville\, Ontario\, N9Y 1W4\, Canada
CATEGORIES:Yoga Class
ATTACH;FMTTYPE=image/png:https://estateofhealth.ca/wp-content/uploads/2026/01/Chair-Yoga-1.png
END:VEVENT
BEGIN:VEVENT
DTSTART;TZID=America/Halifax:20261111T190000
DTEND;TZID=America/Halifax:20261111T201500
DTSTAMP:20260424T111939
CREATED:20260127T223940Z
LAST-MODIFIED:20260310T145903Z
UID:10009946-1794423600-1794428100@estateofhealth.ca
SUMMARY:Yin & Yang Yoga
DESCRIPTION:In this 75-minute\, all-levels class\, we explore the principles of Yin and Yang through meditation\, breathwork and movement. Participants can expect to work on strength\, stability and physical/mental spaciousness\, along with the stillness and focus of Yin Yoga\, applying the principles of TCM Meridian Theory and working with the body’s fascial system.
URL:https://estateofhealth.ca/event/yin-yang-yoga/2026-11-11/
LOCATION:Estate of Health\, 101 Mill Street West\, Kingsville\, Ontario\, N9Y 1W4\, Canada
CATEGORIES:Yoga Class
ATTACH;FMTTYPE=image/png:https://estateofhealth.ca/wp-content/uploads/2026/01/Chair-Yoga-1.png
END:VEVENT
BEGIN:VEVENT
DTSTART;TZID=America/Halifax:20261118T190000
DTEND;TZID=America/Halifax:20261118T201500
DTSTAMP:20260424T111939
CREATED:20260127T223940Z
LAST-MODIFIED:20260310T145903Z
UID:10009947-1795028400-1795032900@estateofhealth.ca
SUMMARY:Yin & Yang Yoga
DESCRIPTION:In this 75-minute\, all-levels class\, we explore the principles of Yin and Yang through meditation\, breathwork and movement. Participants can expect to work on strength\, stability and physical/mental spaciousness\, along with the stillness and focus of Yin Yoga\, applying the principles of TCM Meridian Theory and working with the body’s fascial system.
URL:https://estateofhealth.ca/event/yin-yang-yoga/2026-11-18/
LOCATION:Estate of Health\, 101 Mill Street West\, Kingsville\, Ontario\, N9Y 1W4\, Canada
CATEGORIES:Yoga Class
ATTACH;FMTTYPE=image/png:https://estateofhealth.ca/wp-content/uploads/2026/01/Chair-Yoga-1.png
END:VEVENT
END:VCALENDAR