BEGIN:VCALENDAR
VERSION:2.0
PRODID:-//Estate of Health - ECPv6.15.18//NONSGML v1.0//EN
CALSCALE:GREGORIAN
METHOD:PUBLISH
X-WR-CALNAME:Estate of Health
X-ORIGINAL-URL:https://estateofhealth.ca
X-WR-CALDESC:Events for Estate of Health
REFRESH-INTERVAL;VALUE=DURATION:PT1H
X-Robots-Tag:noindex
X-PUBLISHED-TTL:PT1H
BEGIN:VTIMEZONE
TZID:America/Halifax
BEGIN:DAYLIGHT
TZOFFSETFROM:-0400
TZOFFSETTO:-0300
TZNAME:ADT
DTSTART:20250309T060000
END:DAYLIGHT
BEGIN:STANDARD
TZOFFSETFROM:-0300
TZOFFSETTO:-0400
TZNAME:AST
DTSTART:20251102T050000
END:STANDARD
BEGIN:DAYLIGHT
TZOFFSETFROM:-0400
TZOFFSETTO:-0300
TZNAME:ADT
DTSTART:20260308T060000
END:DAYLIGHT
BEGIN:STANDARD
TZOFFSETFROM:-0300
TZOFFSETTO:-0400
TZNAME:AST
DTSTART:20261101T050000
END:STANDARD
BEGIN:DAYLIGHT
TZOFFSETFROM:-0400
TZOFFSETTO:-0300
TZNAME:ADT
DTSTART:20270314T060000
END:DAYLIGHT
BEGIN:STANDARD
TZOFFSETFROM:-0300
TZOFFSETTO:-0400
TZNAME:AST
DTSTART:20271107T050000
END:STANDARD
END:VTIMEZONE
BEGIN:VEVENT
DTSTART;TZID=America/Halifax:20260429T093000
DTEND;TZID=America/Halifax:20260429T103000
DTSTAMP:20260423T161133
CREATED:20251210T135807Z
LAST-MODIFIED:20260421T153511Z
UID:10010018-1777455000-1777458600@estateofhealth.ca
SUMMARY:All Levels with Gloria
DESCRIPTION:The content of this class will vary from restorative to slow flow style practices with encouragement on nurturing one’s connection to body\, mind and breath. With continued practice we move towards the balance of effort and ease. This class will be guided in a way that is accessible to all levels of practitioners with modifications being offered. Beginners will gain foundational understanding that will boost their confidence to explore other classes. More experienced practitioners will be invited to dive deeper inward connecting to one’s inner teacher.
URL:https://estateofhealth.ca/event/all-levels-with-gloria-2/2026-04-29/
ATTACH;FMTTYPE=image/jpeg:https://estateofhealth.ca/wp-content/uploads/2024/09/The-Studio-11.jpg
END:VEVENT
BEGIN:VEVENT
DTSTART;TZID=America/Halifax:20260506T093000
DTEND;TZID=America/Halifax:20260506T103000
DTSTAMP:20260423T161133
CREATED:20251210T135807Z
LAST-MODIFIED:20260421T153511Z
UID:10010019-1778059800-1778063400@estateofhealth.ca
SUMMARY:All Levels with Gloria
DESCRIPTION:The content of this class will vary from restorative to slow flow style practices with encouragement on nurturing one’s connection to body\, mind and breath. With continued practice we move towards the balance of effort and ease. This class will be guided in a way that is accessible to all levels of practitioners with modifications being offered. Beginners will gain foundational understanding that will boost their confidence to explore other classes. More experienced practitioners will be invited to dive deeper inward connecting to one’s inner teacher.
URL:https://estateofhealth.ca/event/all-levels-with-gloria-2/2026-05-06/
ATTACH;FMTTYPE=image/jpeg:https://estateofhealth.ca/wp-content/uploads/2024/09/The-Studio-11.jpg
END:VEVENT
BEGIN:VEVENT
DTSTART;TZID=America/Halifax:20260513T093000
DTEND;TZID=America/Halifax:20260513T103000
DTSTAMP:20260423T161133
CREATED:20251210T135807Z
LAST-MODIFIED:20260421T153511Z
UID:10010020-1778664600-1778668200@estateofhealth.ca
SUMMARY:All Levels with Gloria
DESCRIPTION:The content of this class will vary from restorative to slow flow style practices with encouragement on nurturing one’s connection to body\, mind and breath. With continued practice we move towards the balance of effort and ease. This class will be guided in a way that is accessible to all levels of practitioners with modifications being offered. Beginners will gain foundational understanding that will boost their confidence to explore other classes. More experienced practitioners will be invited to dive deeper inward connecting to one’s inner teacher.
URL:https://estateofhealth.ca/event/all-levels-with-gloria-2/2026-05-13/
ATTACH;FMTTYPE=image/jpeg:https://estateofhealth.ca/wp-content/uploads/2024/09/The-Studio-11.jpg
END:VEVENT
BEGIN:VEVENT
DTSTART;TZID=America/Halifax:20260520T093000
DTEND;TZID=America/Halifax:20260520T103000
DTSTAMP:20260423T161133
CREATED:20251210T135807Z
LAST-MODIFIED:20260421T153511Z
UID:10010021-1779269400-1779273000@estateofhealth.ca
SUMMARY:All Levels with Gloria
DESCRIPTION:The content of this class will vary from restorative to slow flow style practices with encouragement on nurturing one’s connection to body\, mind and breath. With continued practice we move towards the balance of effort and ease. This class will be guided in a way that is accessible to all levels of practitioners with modifications being offered. Beginners will gain foundational understanding that will boost their confidence to explore other classes. More experienced practitioners will be invited to dive deeper inward connecting to one’s inner teacher.
URL:https://estateofhealth.ca/event/all-levels-with-gloria-2/2026-05-20/
ATTACH;FMTTYPE=image/jpeg:https://estateofhealth.ca/wp-content/uploads/2024/09/The-Studio-11.jpg
END:VEVENT
BEGIN:VEVENT
DTSTART;TZID=America/Halifax:20260527T093000
DTEND;TZID=America/Halifax:20260527T103000
DTSTAMP:20260423T161133
CREATED:20251210T135807Z
LAST-MODIFIED:20260421T153511Z
UID:10010022-1779874200-1779877800@estateofhealth.ca
SUMMARY:All Levels with Gloria
DESCRIPTION:The content of this class will vary from restorative to slow flow style practices with encouragement on nurturing one’s connection to body\, mind and breath. With continued practice we move towards the balance of effort and ease. This class will be guided in a way that is accessible to all levels of practitioners with modifications being offered. Beginners will gain foundational understanding that will boost their confidence to explore other classes. More experienced practitioners will be invited to dive deeper inward connecting to one’s inner teacher.
URL:https://estateofhealth.ca/event/all-levels-with-gloria-2/2026-05-27/
ATTACH;FMTTYPE=image/jpeg:https://estateofhealth.ca/wp-content/uploads/2024/09/The-Studio-11.jpg
END:VEVENT
END:VCALENDAR