BEGIN:VCALENDAR
VERSION:2.0
PRODID:-//Estate of Health - ECPv6.15.18//NONSGML v1.0//EN
CALSCALE:GREGORIAN
METHOD:PUBLISH
X-WR-CALNAME:Estate of Health
X-ORIGINAL-URL:https://estateofhealth.ca
X-WR-CALDESC:Events for Estate of Health
REFRESH-INTERVAL;VALUE=DURATION:PT1H
X-Robots-Tag:noindex
X-PUBLISHED-TTL:PT1H
BEGIN:VTIMEZONE
TZID:America/Halifax
BEGIN:DAYLIGHT
TZOFFSETFROM:-0400
TZOFFSETTO:-0300
TZNAME:ADT
DTSTART:20240310T060000
END:DAYLIGHT
BEGIN:STANDARD
TZOFFSETFROM:-0300
TZOFFSETTO:-0400
TZNAME:AST
DTSTART:20241103T050000
END:STANDARD
BEGIN:DAYLIGHT
TZOFFSETFROM:-0400
TZOFFSETTO:-0300
TZNAME:ADT
DTSTART:20250309T060000
END:DAYLIGHT
BEGIN:STANDARD
TZOFFSETFROM:-0300
TZOFFSETTO:-0400
TZNAME:AST
DTSTART:20251102T050000
END:STANDARD
BEGIN:DAYLIGHT
TZOFFSETFROM:-0400
TZOFFSETTO:-0300
TZNAME:ADT
DTSTART:20260308T060000
END:DAYLIGHT
BEGIN:STANDARD
TZOFFSETFROM:-0300
TZOFFSETTO:-0400
TZNAME:AST
DTSTART:20261101T050000
END:STANDARD
BEGIN:DAYLIGHT
TZOFFSETFROM:-0400
TZOFFSETTO:-0300
TZNAME:ADT
DTSTART:20270314T060000
END:DAYLIGHT
BEGIN:STANDARD
TZOFFSETFROM:-0300
TZOFFSETTO:-0400
TZNAME:AST
DTSTART:20271107T050000
END:STANDARD
END:VTIMEZONE
BEGIN:VEVENT
DTSTART;TZID=America/Halifax:20260328T180000
DTEND;TZID=America/Halifax:20260328T200000
DTSTAMP:20260423T190246
CREATED:20251111T164518Z
LAST-MODIFIED:20260314T201911Z
UID:10007970-1774720800-1774728000@estateofhealth.ca
SUMMARY:Energy Restoration with Janice & Patty
DESCRIPTION:Enjoy a deeply nourishing journey of healing and relaxation guided by two experienced holistic practitioners\, blending their gifts & knowledge of reiki and yoga therapy. Move into a relaxing presence in the whole body through yoga and allow the healing energy of the reiki to support the physical\, emotional\, mental\, and spiritual levels of your being.  \nSeating must be reserved ahead of time. Cost is $40.00 per person.
URL:https://estateofhealth.ca/event/energy-restoration-with-janice-patty-2/
LOCATION:Estate of Health\, 101 Mill Street West\, Kingsville\, Ontario\, N9Y 1W4\, Canada
CATEGORIES:Special Class,Yoga Class
ATTACH;FMTTYPE=image/png:https://estateofhealth.ca/wp-content/uploads/2025/01/Energy-Restoration.png
END:VEVENT
BEGIN:VEVENT
DTSTART;TZID=America/Halifax:20260322T190000
DTEND;TZID=America/Halifax:20260322T210000
DTSTAMP:20260423T190246
CREATED:20260120T181806Z
LAST-MODIFIED:20260120T181807Z
UID:10009834-1774206000-1774213200@estateofhealth.ca
SUMMARY:Reiki Share
DESCRIPTION:Come join us at Estate of Health for an energy exchange.\nThere is no cost for this event\, it is open to students and members of the\ncommunity who have been certified with Reiki level 1 and up to come\ntogether to work with healing energy as a group. Whether you need\nhealing\, practice\, feedback\, want to give and receive energy\, you are\nwelcome to join us. \nPlease call 519-712-8838 Estate of Health to let us know in advance that you\nplan to attend\, so we have a general idea of how many are attending.\n101 Mill St. W. Kingsville
URL:https://estateofhealth.ca/event/reiki-share-4-2/2026-03-22/
LOCATION:Estate of Health\, 101 Mill Street West\, Kingsville\, Ontario\, N9Y 1W4\, Canada
CATEGORIES:Community Events
ATTACH;FMTTYPE=image/png:https://estateofhealth.ca/wp-content/uploads/2025/10/Reiki-Share-Instagram-Post-45.png
END:VEVENT
BEGIN:VEVENT
DTSTART;TZID=America/Halifax:20260320T180000
DTEND;TZID=America/Halifax:20260320T193000
DTSTAMP:20260423T190246
CREATED:20260120T221511Z
LAST-MODIFIED:20260120T222635Z
UID:10009835-1774029600-1774035000@estateofhealth.ca
SUMMARY:Spring Equinox Drum & Journey Circle
DESCRIPTION:Gather in this communal celebration of the turning of seasons and the observance of the Spring Equinox. Spring is such a magical time of renewal\, growth and the transition of energy that rises up inside of all of us! In this celebration\, we reflect consciously on what this transition means for each of us\, and we learn how to move in harmony with the natural world around us. \nThis donation-based event involves drumming\, meditation\, reflection\, shamanic journeying\, offerings to our helping spirits and communal sharing. A portion of this event might be outside\, weather permitting\, so please dress in layers. Bring your own drum or rattle. Notebooks & pens are recommended. Tea and water\, yoga mats\, cushions and blankets will be available. \nAll proceeds of this event go to the tree planting efforts of ERCA in our southwestern region of Ontario.
URL:https://estateofhealth.ca/event/spring-equinox-drum-journey-circle/
LOCATION:Estate of Health\, 101 Mill Street West\, Kingsville\, Ontario\, N9Y 1W4\, Canada
CATEGORIES:Ceremony,Community Events,Drum Circle,Shamanic Journey Circle,Shamanism
ATTACH;FMTTYPE=image/png:https://estateofhealth.ca/wp-content/uploads/2026/01/Spring-Equinox-Drum-Journey-Circle.png
END:VEVENT
BEGIN:VEVENT
DTSTART;TZID=America/Halifax:20260131T100000
DTEND;TZID=America/Halifax:20260131T170000
DTSTAMP:20260423T190246
CREATED:20250205T001552Z
LAST-MODIFIED:20251210T145143Z
UID:10003958-1769853600-1769878800@estateofhealth.ca
SUMMARY:Reiki Level One Training
DESCRIPTION:Reiki Trainings at Estate of Health\n\n\n\n\n\n\n\n\n\n\nJoin us for a transformative journey through the healing art of Reiki\, guided by Master Teachers Janice Mullins & Jordan Scott. Each level of Reiki training offers a deepening connection to universal energy\, personal healing\, and the ability to support others on their path to well-being. \nReiki Level One – Begin your Reiki journey with this foundational training\, where you will learn the history\, principles\, and hand positions for self-healing and offering Reiki to others. Through attunements and practice\, you will awaken your ability to channel Reiki energy and cultivate a deeper sense of balance and harmony in your life.
URL:https://estateofhealth.ca/event/reiki-level-one-training/
CATEGORIES:Knowledge Series,Seminar,Special Class,Workshops
ATTACH;FMTTYPE=image/png:https://estateofhealth.ca/wp-content/uploads/2025/02/Instagram-Posts-9.png
END:VEVENT
BEGIN:VEVENT
DTSTART;TZID=America/Halifax:20260125T190000
DTEND;TZID=America/Halifax:20260125T210000
DTSTAMP:20260423T190246
CREATED:20260120T181806Z
LAST-MODIFIED:20260120T181807Z
UID:10009833-1769367600-1769374800@estateofhealth.ca
SUMMARY:Reiki Share
DESCRIPTION:Come join us at Estate of Health for an energy exchange.\nThere is no cost for this event\, it is open to students and members of the\ncommunity who have been certified with Reiki level 1 and up to come\ntogether to work with healing energy as a group. Whether you need\nhealing\, practice\, feedback\, want to give and receive energy\, you are\nwelcome to join us. \nPlease call 519-712-8838 Estate of Health to let us know in advance that you\nplan to attend\, so we have a general idea of how many are attending.\n101 Mill St. W. Kingsville
URL:https://estateofhealth.ca/event/reiki-share-4-2/2026-01-25/
LOCATION:Estate of Health\, 101 Mill Street West\, Kingsville\, Ontario\, N9Y 1W4\, Canada
CATEGORIES:Community Events
ATTACH;FMTTYPE=image/png:https://estateofhealth.ca/wp-content/uploads/2025/10/Reiki-Share-Instagram-Post-45.png
END:VEVENT
BEGIN:VEVENT
DTSTART;TZID=America/Halifax:20260124T150000
DTEND;TZID=America/Halifax:20260124T163000
DTSTAMP:20260423T190246
CREATED:20260102T184208Z
LAST-MODIFIED:20260106T140522Z
UID:10009701-1769266800-1769272200@estateofhealth.ca
SUMMARY:Resonance - Reiki Infused Sound Bath
DESCRIPTION:It’s time to shift the energy! Throughout this sound bath & reiki offering\, you may experience the release\, movement and restoration of energy as our gifted practitioners channel energy through sound and reiki to help you achieve a state of balance. Find yourself immersed in the resonance of healing energy as you drift into deep states of peace and calm. Reiki Masters Janice Mullins & Patty Soucie will offer each individual energy adjustments and reiki while holistic practitioner\, Jordan Scott envelops the room with a delicate balance of sound and silence through a sound bath incorporating many healing instruments. \nSpace for this offering is limited\, so reservations are required. \nThis special event features a sliding scale option\, or a “pay what you can.” Total value is $75 +HST per person. If you wish to participate in the “pay what you can” option\, please email us prior to the event at info@estateofhealth.ca.
URL:https://estateofhealth.ca/event/resonance-reiki-infused-sound-bath/
LOCATION:Estate of Health\, 101 Mill Street West\, Kingsville\, Ontario\, N9Y 1W4\, Canada
CATEGORIES:Workshops
ATTACH;FMTTYPE=image/png:https://estateofhealth.ca/wp-content/uploads/2026/01/Resonance-2.png
END:VEVENT
BEGIN:VEVENT
DTSTART;TZID=America/Halifax:20251221T100000
DTEND;TZID=America/Halifax:20251221T113000
DTSTAMP:20260423T190246
CREATED:20251128T135404Z
LAST-MODIFIED:20251211T171451Z
UID:10008620-1766311200-1766316600@estateofhealth.ca
SUMMARY:Winter Solstice Drumming Circle & Ceremony
DESCRIPTION:Join Jordan & Janice\, from 10:00am to 11:30am for a special gathering to celebrate the winter solstice. Together\, we will welcome the season with a drumming circle and ceremony. \nWe invite you to bring a blanket\, a drum or rattle\, a water bottle and anything that will support your own comfort and enjoyment. A brief portion of this event will be outdoors – please dress appropriately! \nThe circle opens and closes promptly on time\, so please arrive 10-15 minutes early to use the facilities. \nWe kindly ask you to turn your cell phones off for this event. \nRegistration is required for this event. Donations (monetary or non-perishable items) will be collected for the Kingsville Food Bank. \nWe cannot wait to raise our spirits with you!
URL:https://estateofhealth.ca/event/winter-solstice-drumming-circle-ceremony/
LOCATION:Estate of Health\, 101 Mill Street West\, Kingsville\, Ontario\, N9Y 1W4\, Canada
CATEGORIES:Ceremony,Community Events,Drum Circle,Feature Event on Home Page
ATTACH;FMTTYPE=image/png:https://estateofhealth.ca/wp-content/uploads/2025/11/Untitled-Instagram-Post-45.png
END:VEVENT
BEGIN:VEVENT
DTSTART;TZID=America/Halifax:20251207T190000
DTEND;TZID=America/Halifax:20251207T210000
DTSTAMP:20260423T190246
CREATED:20251125T185236Z
LAST-MODIFIED:20260120T174157Z
UID:10008619-1765134000-1765141200@estateofhealth.ca
SUMMARY:Reiki Share
DESCRIPTION:Come join us at Estate of Health for an energy exchange.\nThere is no cost for this event\, it is open to students and members of the\ncommunity who have been certified with Reiki level 1 and up to come\ntogether to work with healing energy as a group. Whether you need\nhealing\, practice\, feedback\, want to give and receive energy\, you are\nwelcome to join us. \nPlease call 519-712-8838 Estate of Health to let us know in advance that you\nplan to attend\, so we have a general idea of how many are attending.\n101 Mill St. W. Kingsville
URL:https://estateofhealth.ca/event/reiki-share-4/
LOCATION:Estate of Health\, 101 Mill Street West\, Kingsville\, Ontario\, N9Y 1W4\, Canada
CATEGORIES:Community Events
END:VEVENT
BEGIN:VEVENT
DTSTART;TZID=America/Halifax:20250922T180000
DTEND;TZID=America/Halifax:20250922T193000
DTSTAMP:20260423T190246
CREATED:20250808T203953Z
LAST-MODIFIED:20250808T203953Z
UID:10008017-1758564000-1758569400@estateofhealth.ca
SUMMARY:Autumn Equinox Drum Circle
DESCRIPTION:Join us in a celebration and ceremonial observation of this auspicious time of the year! When the heat of the summer fades and the slow days of autumn settle in\, it’s time for us to reflect on the fruits of the season of our lives and offer gratitude. Led by Janice & Jordan\, these special gatherings give us a chance to connect and share with community\, to open our hearts\, lift our spirits and practice mindful rituals. We drum & rattle\, sing & dance\, reflect and meditate. The event will be intuitively guided\, and all are encouraged to participate. \nBring a drum and/or rattle if you have one. Dress comfortably for being outside. Please bring a blanket and a folding chair for your comfort. \nThis event is being offered by donation. \n 
URL:https://estateofhealth.ca/event/autumn-equinox-drum-circle-2/
LOCATION:Estate of Health\, 101 Mill Street West\, Kingsville\, Ontario\, N9Y 1W4\, Canada
CATEGORIES:Community Events,Drum Circle
ATTACH;FMTTYPE=image/png:https://estateofhealth.ca/wp-content/uploads/2024/08/Autumn-Equinox.png
END:VEVENT
END:VCALENDAR