BEGIN:VCALENDAR
VERSION:2.0
PRODID:-//Estate of Health - ECPv6.15.18//NONSGML v1.0//EN
CALSCALE:GREGORIAN
METHOD:PUBLISH
X-WR-CALNAME:Estate of Health
X-ORIGINAL-URL:https://estateofhealth.ca
X-WR-CALDESC:Events for Estate of Health
REFRESH-INTERVAL;VALUE=DURATION:PT1H
X-Robots-Tag:noindex
X-PUBLISHED-TTL:PT1H
BEGIN:VTIMEZONE
TZID:America/Halifax
BEGIN:DAYLIGHT
TZOFFSETFROM:-0400
TZOFFSETTO:-0300
TZNAME:ADT
DTSTART:20240310T060000
END:DAYLIGHT
BEGIN:STANDARD
TZOFFSETFROM:-0300
TZOFFSETTO:-0400
TZNAME:AST
DTSTART:20241103T050000
END:STANDARD
BEGIN:DAYLIGHT
TZOFFSETFROM:-0400
TZOFFSETTO:-0300
TZNAME:ADT
DTSTART:20250309T060000
END:DAYLIGHT
BEGIN:STANDARD
TZOFFSETFROM:-0300
TZOFFSETTO:-0400
TZNAME:AST
DTSTART:20251102T050000
END:STANDARD
BEGIN:DAYLIGHT
TZOFFSETFROM:-0400
TZOFFSETTO:-0300
TZNAME:ADT
DTSTART:20260308T060000
END:DAYLIGHT
BEGIN:STANDARD
TZOFFSETFROM:-0300
TZOFFSETTO:-0400
TZNAME:AST
DTSTART:20261101T050000
END:STANDARD
END:VTIMEZONE
BEGIN:VEVENT
DTSTART;TZID=America/Halifax:20251218T193000
DTEND;TZID=America/Halifax:20251218T203000
DTSTAMP:20260423T234619
CREATED:20251209T174957Z
LAST-MODIFIED:20251211T161305Z
UID:10008621-1766086200-1766089800@estateofhealth.ca
SUMMARY:Silent Night Candlelit Meditation
DESCRIPTION:As the winter solstice draws near\, we invite you to an evening of rest and renewal with ‘Silent Night’\, a candlelit meditation led by Sarah Papps. This practice offers a peaceful pause to honor the season’s natural rhythm of slowing down\, inviting us to rest\, reflect\, and renew. Bathed in soft candlelight\, you’ll be welcomed into a space where you can release the year’s weight and prepare for the quiet beauty of winter’s arrival. Allow yourself to be fully present\, finding stillness and peace within as you align with nature’s gentle invitation to pause and replenish. \n\nAll experience levels are welcome.
URL:https://estateofhealth.ca/event/silent-night-candlelit-meditation/
LOCATION:Estate of Health\, 101 Mill Street West\, Kingsville\, Ontario\, N9Y 1W4\, Canada
CATEGORIES:Feature Event on Home Page,Meditation,Special Class
ATTACH;FMTTYPE=image/png:https://estateofhealth.ca/wp-content/uploads/2024/11/Candlelight-meditation-.png
END:VEVENT
BEGIN:VEVENT
DTSTART;TZID=America/Halifax:20250510T160000
DTEND;TZID=America/Halifax:20250510T173000
DTSTAMP:20260423T234619
CREATED:20250417T160256Z
LAST-MODIFIED:20250426T210130Z
UID:10004886-1746892800-1746898200@estateofhealth.ca
SUMMARY:Glow From Within: Facial Yoga & Self-Care Rituals with Eminence Organics hosted by Sarah Papps
DESCRIPTION:Join us for a rejuvenating afternoon designed to uplift your natural spirit and enhance your natural beauty through the power of mindfulness and facial wellness. This unique session will begin with a short meditation to center your mind and promote relaxation\, allowing you to release stress and embrace tranquility.  \nFollowing the meditation\, we will delve into the world of facial yoga focusing on techniques that target anti-aging and rejuvenation. Participants will learn gentle\, effective exercises that promote lymphatic drainage\, helping to enhance skin vitality.  \nAs a special treat\, each participant will receive a gift of Eminence facial oil\, a Gua Sha tool\, and a facial chart to guide your at home practice.  Whether you’re looking to refresh your appearance or simply taking a moment for self care\, this event offers a holistic approach to beauty that combines mental clarity with physical rejuvenation. Join us and discover the harmonious balance of body and mind! \nService Length: 1 hour 30 minutes \nPrice: $60  \nSession Times: \n2:00pm – 3:30pm \n4:00pm – 5:30pm \n11 guests per session 
URL:https://estateofhealth.ca/event/glow-from-within-facial-yoga-self-care-rituals-with-eminence-organics-hosted-by-sarah-papps/2025-05-10/2/
LOCATION:Estate of Health\, 101 Mill Street West\, Kingsville\, Ontario\, N9Y 1W4\, Canada
CATEGORIES:Special Class,Workshops
ATTACH;FMTTYPE=image/png:https://estateofhealth.ca/wp-content/uploads/2025/04/Staff-Photos-3.png
END:VEVENT
BEGIN:VEVENT
DTSTART;TZID=America/Halifax:20250510T140000
DTEND;TZID=America/Halifax:20250510T153000
DTSTAMP:20260423T234619
CREATED:20250417T160256Z
LAST-MODIFIED:20250426T210130Z
UID:10004885-1746885600-1746891000@estateofhealth.ca
SUMMARY:Glow From Within: Facial Yoga & Self-Care Rituals with Eminence Organics hosted by Sarah Papps
DESCRIPTION:Join us for a rejuvenating afternoon designed to uplift your natural spirit and enhance your natural beauty through the power of mindfulness and facial wellness. This unique session will begin with a short meditation to center your mind and promote relaxation\, allowing you to release stress and embrace tranquility.  \nFollowing the meditation\, we will delve into the world of facial yoga focusing on techniques that target anti-aging and rejuvenation. Participants will learn gentle\, effective exercises that promote lymphatic drainage\, helping to enhance skin vitality.  \nAs a special treat\, each participant will receive a gift of Eminence facial oil\, a Gua Sha tool\, and a facial chart to guide your at home practice.  Whether you’re looking to refresh your appearance or simply taking a moment for self care\, this event offers a holistic approach to beauty that combines mental clarity with physical rejuvenation. Join us and discover the harmonious balance of body and mind! \nService Length: 1 hour 30 minutes \nPrice: $60  \nSession Times: \n2:00pm – 3:30pm \n4:00pm – 5:30pm \n11 guests per session 
URL:https://estateofhealth.ca/event/glow-from-within-facial-yoga-self-care-rituals-with-eminence-organics-hosted-by-sarah-papps/2025-05-10/1/
LOCATION:Estate of Health\, 101 Mill Street West\, Kingsville\, Ontario\, N9Y 1W4\, Canada
CATEGORIES:Special Class,Workshops
ATTACH;FMTTYPE=image/png:https://estateofhealth.ca/wp-content/uploads/2025/04/Staff-Photos-3.png
END:VEVENT
END:VCALENDAR