BEGIN:VCALENDAR
VERSION:2.0
PRODID:-//Estate of Health - ECPv6.15.18//NONSGML v1.0//EN
CALSCALE:GREGORIAN
METHOD:PUBLISH
X-ORIGINAL-URL:https://estateofhealth.ca
X-WR-CALDESC:Events for Estate of Health
REFRESH-INTERVAL;VALUE=DURATION:PT1H
X-Robots-Tag:noindex
X-PUBLISHED-TTL:PT1H
BEGIN:VTIMEZONE
TZID:America/Halifax
BEGIN:DAYLIGHT
TZOFFSETFROM:-0400
TZOFFSETTO:-0300
TZNAME:ADT
DTSTART:20250309T060000
END:DAYLIGHT
BEGIN:STANDARD
TZOFFSETFROM:-0300
TZOFFSETTO:-0400
TZNAME:AST
DTSTART:20251102T050000
END:STANDARD
BEGIN:DAYLIGHT
TZOFFSETFROM:-0400
TZOFFSETTO:-0300
TZNAME:ADT
DTSTART:20260308T060000
END:DAYLIGHT
BEGIN:STANDARD
TZOFFSETFROM:-0300
TZOFFSETTO:-0400
TZNAME:AST
DTSTART:20261101T050000
END:STANDARD
BEGIN:DAYLIGHT
TZOFFSETFROM:-0400
TZOFFSETTO:-0300
TZNAME:ADT
DTSTART:20270314T060000
END:DAYLIGHT
BEGIN:STANDARD
TZOFFSETFROM:-0300
TZOFFSETTO:-0400
TZNAME:AST
DTSTART:20271107T050000
END:STANDARD
END:VTIMEZONE
BEGIN:VEVENT
DTSTART;TZID=America/Halifax:20260429T173000
DTEND;TZID=America/Halifax:20260429T183000
DTSTAMP:20260423T161306
CREATED:20260407T143837Z
LAST-MODIFIED:20260407T143837Z
UID:10010111-1777483800-1777487400@estateofhealth.ca
SUMMARY:Fireside Yoga with Steph
DESCRIPTION:Settle into a cozy\, nurturing practice as you move through gentle stretches and slow\, intentional breathwork beside the soothing glow of a fire. This class is designed to help you unwind\, release tension\, and reconnect with your body in a calm and comforting atmosphere. Soft lighting\, warm ambience\, and grounded sequencing create a space that feels both restorative and rejuvenating. Whether you’re new to yoga or simply seeking a peaceful reset\, this fireside practice offers a serene pause from the busyness of everyday life—inviting warmth\, ease\, and quiet presence into your evening. \nClass will run Wednesday evenings at Estate of Health from 5:30pm-6:30pm. \nPre registration is required
URL:https://estateofhealth.ca/event/fireside-yoga-with-steph-2/2026-04-29/
ATTACH;FMTTYPE=image/jpeg:https://estateofhealth.ca/wp-content/uploads/2025/11/Fireside.jpg
END:VEVENT
BEGIN:VEVENT
DTSTART;TZID=America/Halifax:20260430T103000
DTEND;TZID=America/Halifax:20260430T113000
DTSTAMP:20260423T161306
CREATED:20251210T135954Z
LAST-MODIFIED:20260205T154044Z
UID:10010027-1777545000-1777548600@estateofhealth.ca
SUMMARY:Gentle Yoga & Meditation with Steph
DESCRIPTION:This gentle practice encourages the connection of breath to movement as you transition from one pose to another\, a invites a mindful approach to your day. Steph incorporates guided meditation and savasana in each practice to cultivate a peaceful mind and restore.
URL:https://estateofhealth.ca/event/gentle-yoga-meditation-with-steph/2026-04-30/
LOCATION:Estate of Health\, 101 Mill Street West\, Kingsville\, Ontario\, N9Y 1W4\, Canada
ATTACH;FMTTYPE=image/jpeg:https://estateofhealth.ca/wp-content/uploads/2023/12/The-Studio-8.jpg
END:VEVENT
BEGIN:VEVENT
DTSTART;TZID=America/Halifax:20260502T103000
DTEND;TZID=America/Halifax:20260502T113000
DTSTAMP:20260423T161306
CREATED:20251210T140850Z
LAST-MODIFIED:20260420T144817Z
UID:10010054-1777717800-1777721400@estateofhealth.ca
SUMMARY:Slow Flow with Steph
DESCRIPTION:Designed for all levels\, this practice invites you to unwind\, connect with your breath\, and move mindfully through a series of gentle poses.\nLed by our experienced instructor\, each session begins with centering and grounding techniques to calm the mind and release tension from the body. You’ll gradually transition through a sequence of poses that are synchronized with deep\, intentional breathing. Emphasis is placed on alignment\, awareness\, and the seamless flow between movements.\nThroughout the class\, you will have opportunities to modify poses to suit your individual needs\, making it accessible for everyone\, regardless of experience or flexibility.
URL:https://estateofhealth.ca/event/slow-flow-with-steph/2026-05-02/
LOCATION:Estate of Health\, 101 Mill Street West\, Kingsville\, Ontario\, N9Y 1W4\, Canada
CATEGORIES:Yoga Class
ATTACH;FMTTYPE=image/jpeg:https://estateofhealth.ca/wp-content/uploads/2022/05/SlowF.jpg
END:VEVENT
BEGIN:VEVENT
DTSTART;TZID=America/Halifax:20260502T120000
DTEND;TZID=America/Halifax:20260502T130000
DTSTAMP:20260423T161306
CREATED:20251210T141002Z
LAST-MODIFIED:20260420T150130Z
UID:10010062-1777723200-1777726800@estateofhealth.ca
SUMMARY:Yogalates with Stephenie
DESCRIPTION:Discover the perfect blend of yoga and Pilates in this full-body workout. Build strength\, improve flexibility\, and find balance through core-focused exercises and mindful stretching. Open to all levels\, this class leaves you feeling refreshed and aligned. Reserve your spot today!
URL:https://estateofhealth.ca/event/yogalates-with-stephenie/2026-05-02/
ATTACH;FMTTYPE=image/jpeg:https://estateofhealth.ca/wp-content/uploads/2024/12/yogalates.jpg
END:VEVENT
BEGIN:VEVENT
DTSTART;TZID=America/Halifax:20260507T103000
DTEND;TZID=America/Halifax:20260507T113000
DTSTAMP:20260423T161306
CREATED:20251210T135954Z
LAST-MODIFIED:20260205T154044Z
UID:10010028-1778149800-1778153400@estateofhealth.ca
SUMMARY:Gentle Yoga & Meditation with Steph
DESCRIPTION:This gentle practice encourages the connection of breath to movement as you transition from one pose to another\, a invites a mindful approach to your day. Steph incorporates guided meditation and savasana in each practice to cultivate a peaceful mind and restore.
URL:https://estateofhealth.ca/event/gentle-yoga-meditation-with-steph/2026-05-07/
LOCATION:Estate of Health\, 101 Mill Street West\, Kingsville\, Ontario\, N9Y 1W4\, Canada
ATTACH;FMTTYPE=image/jpeg:https://estateofhealth.ca/wp-content/uploads/2023/12/The-Studio-8.jpg
END:VEVENT
BEGIN:VEVENT
DTSTART;TZID=America/Halifax:20260509T103000
DTEND;TZID=America/Halifax:20260509T113000
DTSTAMP:20260423T161306
CREATED:20251210T140850Z
LAST-MODIFIED:20260420T144817Z
UID:10010055-1778322600-1778326200@estateofhealth.ca
SUMMARY:Slow Flow with Steph
DESCRIPTION:Designed for all levels\, this practice invites you to unwind\, connect with your breath\, and move mindfully through a series of gentle poses.\nLed by our experienced instructor\, each session begins with centering and grounding techniques to calm the mind and release tension from the body. You’ll gradually transition through a sequence of poses that are synchronized with deep\, intentional breathing. Emphasis is placed on alignment\, awareness\, and the seamless flow between movements.\nThroughout the class\, you will have opportunities to modify poses to suit your individual needs\, making it accessible for everyone\, regardless of experience or flexibility.
URL:https://estateofhealth.ca/event/slow-flow-with-steph/2026-05-09/
LOCATION:Estate of Health\, 101 Mill Street West\, Kingsville\, Ontario\, N9Y 1W4\, Canada
CATEGORIES:Yoga Class
ATTACH;FMTTYPE=image/jpeg:https://estateofhealth.ca/wp-content/uploads/2022/05/SlowF.jpg
END:VEVENT
BEGIN:VEVENT
DTSTART;TZID=America/Halifax:20260514T103000
DTEND;TZID=America/Halifax:20260514T113000
DTSTAMP:20260423T161306
CREATED:20251210T135954Z
LAST-MODIFIED:20260205T154044Z
UID:10010029-1778754600-1778758200@estateofhealth.ca
SUMMARY:Gentle Yoga & Meditation with Steph
DESCRIPTION:This gentle practice encourages the connection of breath to movement as you transition from one pose to another\, a invites a mindful approach to your day. Steph incorporates guided meditation and savasana in each practice to cultivate a peaceful mind and restore.
URL:https://estateofhealth.ca/event/gentle-yoga-meditation-with-steph/2026-05-14/
LOCATION:Estate of Health\, 101 Mill Street West\, Kingsville\, Ontario\, N9Y 1W4\, Canada
ATTACH;FMTTYPE=image/jpeg:https://estateofhealth.ca/wp-content/uploads/2023/12/The-Studio-8.jpg
END:VEVENT
BEGIN:VEVENT
DTSTART;TZID=America/Halifax:20260516T103000
DTEND;TZID=America/Halifax:20260516T113000
DTSTAMP:20260423T161306
CREATED:20251210T140850Z
LAST-MODIFIED:20260420T144817Z
UID:10010056-1778927400-1778931000@estateofhealth.ca
SUMMARY:Slow Flow with Steph
DESCRIPTION:Designed for all levels\, this practice invites you to unwind\, connect with your breath\, and move mindfully through a series of gentle poses.\nLed by our experienced instructor\, each session begins with centering and grounding techniques to calm the mind and release tension from the body. You’ll gradually transition through a sequence of poses that are synchronized with deep\, intentional breathing. Emphasis is placed on alignment\, awareness\, and the seamless flow between movements.\nThroughout the class\, you will have opportunities to modify poses to suit your individual needs\, making it accessible for everyone\, regardless of experience or flexibility.
URL:https://estateofhealth.ca/event/slow-flow-with-steph/2026-05-16/
LOCATION:Estate of Health\, 101 Mill Street West\, Kingsville\, Ontario\, N9Y 1W4\, Canada
CATEGORIES:Yoga Class
ATTACH;FMTTYPE=image/jpeg:https://estateofhealth.ca/wp-content/uploads/2022/05/SlowF.jpg
END:VEVENT
BEGIN:VEVENT
DTSTART;TZID=America/Halifax:20260516T120000
DTEND;TZID=America/Halifax:20260516T130000
DTSTAMP:20260423T161306
CREATED:20251210T141002Z
LAST-MODIFIED:20260420T150130Z
UID:10010063-1778932800-1778936400@estateofhealth.ca
SUMMARY:Yogalates with Stephenie
DESCRIPTION:Discover the perfect blend of yoga and Pilates in this full-body workout. Build strength\, improve flexibility\, and find balance through core-focused exercises and mindful stretching. Open to all levels\, this class leaves you feeling refreshed and aligned. Reserve your spot today!
URL:https://estateofhealth.ca/event/yogalates-with-stephenie/2026-05-16/
ATTACH;FMTTYPE=image/jpeg:https://estateofhealth.ca/wp-content/uploads/2024/12/yogalates.jpg
END:VEVENT
BEGIN:VEVENT
DTSTART;TZID=America/Halifax:20260521T103000
DTEND;TZID=America/Halifax:20260521T113000
DTSTAMP:20260423T161306
CREATED:20251210T135954Z
LAST-MODIFIED:20260205T154044Z
UID:10010030-1779359400-1779363000@estateofhealth.ca
SUMMARY:Gentle Yoga & Meditation with Steph
DESCRIPTION:This gentle practice encourages the connection of breath to movement as you transition from one pose to another\, a invites a mindful approach to your day. Steph incorporates guided meditation and savasana in each practice to cultivate a peaceful mind and restore.
URL:https://estateofhealth.ca/event/gentle-yoga-meditation-with-steph/2026-05-21/
LOCATION:Estate of Health\, 101 Mill Street West\, Kingsville\, Ontario\, N9Y 1W4\, Canada
ATTACH;FMTTYPE=image/jpeg:https://estateofhealth.ca/wp-content/uploads/2023/12/The-Studio-8.jpg
END:VEVENT
BEGIN:VEVENT
DTSTART;TZID=America/Halifax:20260523T103000
DTEND;TZID=America/Halifax:20260523T113000
DTSTAMP:20260423T161306
CREATED:20251210T140850Z
LAST-MODIFIED:20260420T144817Z
UID:10010057-1779532200-1779535800@estateofhealth.ca
SUMMARY:Slow Flow with Steph
DESCRIPTION:Designed for all levels\, this practice invites you to unwind\, connect with your breath\, and move mindfully through a series of gentle poses.\nLed by our experienced instructor\, each session begins with centering and grounding techniques to calm the mind and release tension from the body. You’ll gradually transition through a sequence of poses that are synchronized with deep\, intentional breathing. Emphasis is placed on alignment\, awareness\, and the seamless flow between movements.\nThroughout the class\, you will have opportunities to modify poses to suit your individual needs\, making it accessible for everyone\, regardless of experience or flexibility.
URL:https://estateofhealth.ca/event/slow-flow-with-steph/2026-05-23/
LOCATION:Estate of Health\, 101 Mill Street West\, Kingsville\, Ontario\, N9Y 1W4\, Canada
CATEGORIES:Yoga Class
ATTACH;FMTTYPE=image/jpeg:https://estateofhealth.ca/wp-content/uploads/2022/05/SlowF.jpg
END:VEVENT
BEGIN:VEVENT
DTSTART;TZID=America/Halifax:20260523T120000
DTEND;TZID=America/Halifax:20260523T130000
DTSTAMP:20260423T161306
CREATED:20251210T141002Z
LAST-MODIFIED:20260420T150130Z
UID:10010064-1779537600-1779541200@estateofhealth.ca
SUMMARY:Yogalates with Stephenie
DESCRIPTION:Discover the perfect blend of yoga and Pilates in this full-body workout. Build strength\, improve flexibility\, and find balance through core-focused exercises and mindful stretching. Open to all levels\, this class leaves you feeling refreshed and aligned. Reserve your spot today!
URL:https://estateofhealth.ca/event/yogalates-with-stephenie/2026-05-23/
ATTACH;FMTTYPE=image/jpeg:https://estateofhealth.ca/wp-content/uploads/2024/12/yogalates.jpg
END:VEVENT
BEGIN:VEVENT
DTSTART;TZID=America/Halifax:20260528T103000
DTEND;TZID=America/Halifax:20260528T113000
DTSTAMP:20260423T161306
CREATED:20251210T135954Z
LAST-MODIFIED:20260205T154044Z
UID:10010031-1779964200-1779967800@estateofhealth.ca
SUMMARY:Gentle Yoga & Meditation with Steph
DESCRIPTION:This gentle practice encourages the connection of breath to movement as you transition from one pose to another\, a invites a mindful approach to your day. Steph incorporates guided meditation and savasana in each practice to cultivate a peaceful mind and restore.
URL:https://estateofhealth.ca/event/gentle-yoga-meditation-with-steph/2026-05-28/
LOCATION:Estate of Health\, 101 Mill Street West\, Kingsville\, Ontario\, N9Y 1W4\, Canada
ATTACH;FMTTYPE=image/jpeg:https://estateofhealth.ca/wp-content/uploads/2023/12/The-Studio-8.jpg
END:VEVENT
BEGIN:VEVENT
DTSTART;TZID=America/Halifax:20260530T103000
DTEND;TZID=America/Halifax:20260530T113000
DTSTAMP:20260423T161306
CREATED:20251210T140850Z
LAST-MODIFIED:20260420T144817Z
UID:10010058-1780137000-1780140600@estateofhealth.ca
SUMMARY:Slow Flow with Steph
DESCRIPTION:Designed for all levels\, this practice invites you to unwind\, connect with your breath\, and move mindfully through a series of gentle poses.\nLed by our experienced instructor\, each session begins with centering and grounding techniques to calm the mind and release tension from the body. You’ll gradually transition through a sequence of poses that are synchronized with deep\, intentional breathing. Emphasis is placed on alignment\, awareness\, and the seamless flow between movements.\nThroughout the class\, you will have opportunities to modify poses to suit your individual needs\, making it accessible for everyone\, regardless of experience or flexibility.
URL:https://estateofhealth.ca/event/slow-flow-with-steph/2026-05-30/
LOCATION:Estate of Health\, 101 Mill Street West\, Kingsville\, Ontario\, N9Y 1W4\, Canada
CATEGORIES:Yoga Class
ATTACH;FMTTYPE=image/jpeg:https://estateofhealth.ca/wp-content/uploads/2022/05/SlowF.jpg
END:VEVENT
BEGIN:VEVENT
DTSTART;TZID=America/Halifax:20260530T120000
DTEND;TZID=America/Halifax:20260530T130000
DTSTAMP:20260423T161306
CREATED:20251210T141002Z
LAST-MODIFIED:20260420T150130Z
UID:10010065-1780142400-1780146000@estateofhealth.ca
SUMMARY:Yogalates with Stephenie
DESCRIPTION:Discover the perfect blend of yoga and Pilates in this full-body workout. Build strength\, improve flexibility\, and find balance through core-focused exercises and mindful stretching. Open to all levels\, this class leaves you feeling refreshed and aligned. Reserve your spot today!
URL:https://estateofhealth.ca/event/yogalates-with-stephenie/2026-05-30/
ATTACH;FMTTYPE=image/jpeg:https://estateofhealth.ca/wp-content/uploads/2024/12/yogalates.jpg
END:VEVENT
END:VCALENDAR